Workbook

Sheet Ugeindtastning
A2: CYKELNERVEN 2027 - Indtast ugentligt dine træningsdata
A4: Navn | B4: (Indtast navn)
A5: Hold | B5: (Indtast dit lokale hold)
A6: Maks. puls | C6: (ikke obligatorisk input)
A7: FTP (watt) | C7: (ikke obligatorisk input)
A9: Udfyld de gule felter med f.eks. timer: 4,5 = 4 timer 30 min. Skriv 0 ved en uge uden træning.
A10: Vægt og FTP: indtast ved ny måling. Seneste værdi videreføres. Puls og watt er valgfrie.
A11: Gns. watt og puls: Brug tidsvægtet gennemsnit for de målte ture; lad feltet være tomt uden måling.
D13: (UDFYLD NEDENSTÅENDE MED DATA FRA DIN TRÆNINGSPLATFORM (Strava, Garmin, Wahoo etc.) | L13: (Beregninger - Ingen indtastning) | S13: ANBEFALET TIMER | U13: AKKUMULERET
A14: UGESTART | B14: TIL OG MED | C14: PERIODE | D14: TIMER | E14: KILOMETER | F14: HØJDEMETER | G14: VÆGT (KG) | H14: FTP (w) | I14: GNS. WATT | J14: GNS. PULS | K14: EGNE NOTATER | L14: FTP (w) | M14: Gns. w/kg | N14: PULS / MAKS. | O14: GNS. PULSZONE | P14: UGENS TIMER | Q14: GNM. HASTIGHED | S14: NEDRE | T14: ØVRE | U14: NEDRE | V14: ØVRE
A15: 46272 | B15: 46278 | C15: =IF(A15<DATE(2027,1,1),IF(B15>DATE(2026,12,31),"BASE / OPBYGNING","BASE"),IF(A15<DATE(2027,4,1),IF(B15>DATE(2027,3,31),"OPBYGNING / FORB.","OPBYGNING"),"FORBEREDELSE")) -> BASE | L15: =IF(Beregninger!Q12="","",Beregninger!Q12) | M15: =IF(Beregninger!R12="","",Beregninger!R12) | N15: =IF(Beregninger!S12="","",Beregninger!S12) | O15: =IF(Beregninger!T12="","",Beregninger!T12) | P15: =IF(Beregninger!V12="","",Beregninger!V12) -> Ikke registreret | Q15: =IFERROR(IF(D15>0,E15/D15,""),"Fejlindtastning") | S15: 3 | T15: 5 | U15: =S15 -> 3 | V15: =T15 -> 5
A16: 46279 | B16: 46285 | C16: =IF(A16<DATE(2027,1,1),IF(B16>DATE(2026,12,31),"BASE / OPBYGNING","BASE"),IF(A16<DATE(2027,4,1),IF(B16>DATE(2027,3,31),"OPBYGNING / FORB.","OPBYGNING"),"FORBEREDELSE")) -> BASE | L16: =IF(Beregninger!Q13="","",Beregninger!Q13) | M16: =IF(Beregninger!R13="","",Beregninger!R13) | N16: =IF(Beregninger!S13="","",Beregninger!S13) | O16: =IF(Beregninger!T13="","",Beregninger!T13) | P16: =IF(Beregninger!V13="","",Beregninger!V13) -> Ikke registreret | Q16: =IF(D16>0,E16/D16,"") | S16: 3 | T16: 5 | U16: =U15+S16 -> 6 | V16: =V15+T16 -> 10
A17: 46286 | B17: 46292 | C17: =IF(A17<DATE(2027,1,1),IF(B17>DATE(2026,12,31),"BASE / OPBYGNING","BASE"),IF(A17<DATE(2027,4,1),IF(B17>DATE(2027,3,31),"OPBYGNING / FORB.","OPBYGNING"),"FORBEREDELSE")) -> BASE | L17: =IF(Beregninger!Q14="","",Beregninger!Q14) | M17: =IF(Beregninger!R14="","",Beregninger!R14) | N17: =IF(Beregninger!S14="","",Beregninger!S14) | O17: =IF(Beregninger!T14="","",Beregninger!T14) | P17: =IF(Beregninger!V14="","",Beregninger!V14) -> Ikke registreret | Q17: =IF(D17>0,E17/D17,"") | S17: 3 | T17: 5 | U17: =U16+S17 -> 9 | V17: =V16+T17 -> 15
A18: 46293 | B18: 46299 | C18: =IF(A18<DATE(2027,1,1),IF(B18>DATE(2026,12,31),"BASE / OPBYGNING","BASE"),IF(A18<DATE(2027,4,1),IF(B18>DATE(2027,3,31),"OPBYGNING / FORB.","OPBYGNING"),"FORBEREDELSE")) -> BASE | L18: =IF(Beregninger!Q15="","",Beregninger!Q15) | M18: =IF(Beregninger!R15="","",Beregninger!R15) | N18: =IF(Beregninger!S15="","",Beregninger!S15) | O18: =IF(Beregninger!T15="","",Beregninger!T15) | P18: =IF(Beregninger!V15="","",Beregninger!V15) -> Ikke registreret | Q18: =IF(D18>0,E18/D18,"") | S18: 3 | T18: 5 | U18: =U17+S18 -> 12 | V18: =V17+T18 -> 20
A19: 46300 | B19: 46306 | C19: =IF(A19<DATE(2027,1,1),IF(B19>DATE(2026,12,31),"BASE / OPBYGNING","BASE"),IF(A19<DATE(2027,4,1),IF(B19>DATE(2027,3,31),"OPBYGNING / FORB.","OPBYGNING"),"FORBEREDELSE")) -> BASE | L19: =IF(Beregninger!Q16="","",Beregninger!Q16) | M19: =IF(Beregninger!R16="","",Beregninger!R16) | N19: =IF(Beregninger!S16="","",Beregninger!S16) | O19: =IF(Beregninger!T16="","",Beregninger!T16) | P19: =IF(Beregninger!V16="","",Beregninger!V16) -> Ikke registreret | Q19: =IF(D19>0,E19/D19,"") | S19: 3 | T19: 5 | U19: =U18+S19 -> 15 | V19: =V18+T19 -> 25
A20: 46307 | B20: 46313 | C20: =IF(A20<DATE(2027,1,1),IF(B20>DATE(2026,12,31),"BASE / OPBYGNING","BASE"),IF(A20<DATE(2027,4,1),IF(B20>DATE(2027,3,31),"OPBYGNING / FORB.","OPBYGNING"),"FORBEREDELSE")) -> BASE | L20: =IF(Beregninger!Q17="","",Beregninger!Q17) | M20: =IF(Beregninger!R17="","",Beregninger!R17) | N20: =IF(Beregninger!S17="","",Beregninger!S17) | O20: =IF(Beregninger!T17="","",Beregninger!T17) | P20: =IF(Beregninger!V17="","",Beregninger!V17) -> Ikke registreret | Q20: =IF(D20>0,E20/D20,"") | S20: 3 | T20: 5 | U20: =U19+S20 -> 18 | V20: =V19+T20 -> 30
A21: 46314 | B21: 46320 | C21: =IF(A21<DATE(2027,1,1),IF(B21>DATE(2026,12,31),"BASE / OPBYGNING","BASE"),IF(A21<DATE(2027,4,1),IF(B21>DATE(2027,3,31),"OPBYGNING / FORB.","OPBYGNING"),"FORBEREDELSE")) -> BASE | L21: =IF(Beregninger!Q18="","",Beregninger!Q18) | M21: =IF(Beregninger!R18="","",Beregninger!R18) | N21: =IF(Beregninger!S18="","",Beregninger!S18) | O21: =IF(Beregninger!T18="","",Beregninger!T18) | P21: =IF(Beregninger!V18="","",Beregninger!V18) -> Ikke registreret | Q21: =IF(D21>0,E21/D21,"") | S21: 3 | T21: 5 | U21: =U20+S21 -> 21 | V21: =V20+T21 -> 35
A22: 46321 | B22: 46327 | C22: =IF(A22<DATE(2027,1,1),IF(B22>DATE(2026,12,31),"BASE / OPBYGNING","BASE"),IF(A22<DATE(2027,4,1),IF(B22>DATE(2027,3,31),"OPBYGNING / FORB.","OPBYGNING"),"FORBEREDELSE")) -> BASE | L22: =IF(Beregninger!Q19="","",Beregninger!Q19) | M22: =IF(Beregninger!R19="","",Beregninger!R19) | N22: =IF(Beregninger!S19="","",Beregninger!S19) | O22: =IF(Beregninger!T19="","",Beregninger!T19) | P22: =IF(Beregninger!V19="","",Beregninger!V19) -> Ikke registreret | Q22: =IF(D22>0,E22/D22,"") | S22: 3 | T22: 5 | U22: =U21+S22 -> 24 | V22: =V21+T22 -> 40
A23: 46328 | B23: 46334 | C23: =IF(A23<DATE(2027,1,1),IF(B23>DATE(2026,12,31),"BASE / OPBYGNING","BASE"),IF(A23<DATE(2027,4,1),IF(B23>DATE(2027,3,31),"OPBYGNING / FORB.","OPBYGNING"),"FORBEREDELSE")) -> BASE | L23: =IF(Beregninger!Q20="","",Beregninger!Q20) | M23: =IF(Beregninger!R20="","",Beregninger!R20) | N23: =IF(Beregninger!S20="","",Beregninger!S20) | O23: =IF(Beregninger!T20="","",Beregninger!T20) | P23: =IF(Beregninger!V20="","",Beregninger!V20) -> Ikke registreret | Q23: =IF(D23>0,E23/D23,"") | S23: 3 | T23: 5 | U23: =U22+S23 -> 27 | V23: =V22+T23 -> 45
A24: 46335 | B24: 46341 | C24: =IF(A24<DATE(2027,1,1),IF(B24>DATE(2026,12,31),"BASE / OPBYGNING","BASE"),IF(A24<DATE(2027,4,1),IF(B24>DATE(2027,3,31),"OPBYGNING / FORB.","OPBYGNING"),"FORBEREDELSE")) -> BASE | L24: =IF(Beregninger!Q21="","",Beregninger!Q21) | M24: =IF(Beregninger!R21="","",Beregninger!R21) | N24: =IF(Beregninger!S21="","",Beregninger!S21) | O24: =IF(Beregninger!T21="","",Beregninger!T21) | P24: =IF(Beregninger!V21="","",Beregninger!V21) -> Ikke registreret | S24: 3 | T24: 5 | U24: =U23+S24 -> 30 | V24: =V23+T24 -> 50
A25: 46342 | B25: 46348 | C25: =IF(A25<DATE(2027,1,1),IF(B25>DATE(2026,12,31),"BASE / OPBYGNING","BASE"),IF(A25<DATE(2027,4,1),IF(B25>DATE(2027,3,31),"OPBYGNING / FORB.","OPBYGNING"),"FORBEREDELSE")) -> BASE | L25: =IF(Beregninger!Q22="","",Beregninger!Q22) | M25: =IF(Beregninger!R22="","",Beregninger!R22) | N25: =IF(Beregninger!S22="","",Beregninger!S22) | O25: =IF(Beregninger!T22="","",Beregninger!T22) | P25: =IF(Beregninger!V22="","",Beregninger!V22) -> Ikke registreret | S25: 3 | T25: 5 | U25: =U24+S25 -> 33 | V25: =V24+T25 -> 55
A26: 46349 | B26: 46355 | C26: =IF(A26<DATE(2027,1,1),IF(B26>DATE(2026,12,31),"BASE / OPBYGNING","BASE"),IF(A26<DATE(2027,4,1),IF(B26>DATE(2027,3,31),"OPBYGNING / FORB.","OPBYGNING"),"FORBEREDELSE")) -> BASE | L26: =IF(Beregninger!Q23="","",Beregninger!Q23) | M26: =IF(Beregninger!R23="","",Beregninger!R23) | N26: =IF(Beregninger!S23="","",Beregninger!S23) | O26: =IF(Beregninger!T23="","",Beregninger!T23) | P26: =IF(Beregninger!V23="","",Beregninger!V23) -> Ikke registreret | S26: 3 | T26: 5 | U26: =U25+S26 -> 36 | V26: =V25+T26 -> 60
A27: 46356 | B27: 46362 | C27: =IF(A27<DATE(2027,1,1),IF(B27>DATE(2026,12,31),"BASE / OPBYGNING","BASE"),IF(A27<DATE(2027,4,1),IF(B27>DATE(2027,3,31),"OPBYGNING / FORB.","OPBYGNING"),"FORBEREDELSE")) -> BASE | L27: =IF(Beregninger!Q24="","",Beregninger!Q24) | M27: =IF(Beregninger!R24="","",Beregninger!R24) | N27: =IF(Beregninger!S24="","",Beregninger!S24) | O27: =IF(Beregninger!T24="","",Beregninger!T24) | P27: =IF(Beregninger!V24="","",Beregninger!V24) -> Ikke registreret | S27: 3 | T27: 5 | U27: =U26+S27 -> 39 | V27: =V26+T27 -> 65
A28: 46363 | B28: 46369 | C28: =IF(A28<DATE(2027,1,1),IF(B28>DATE(2026,12,31),"BASE / OPBYGNING","BASE"),IF(A28<DATE(2027,4,1),IF(B28>DATE(2027,3,31),"OPBYGNING / FORB.","OPBYGNING"),"FORBEREDELSE")) -> BASE | L28: =IF(Beregninger!Q25="","",Beregninger!Q25) | M28: =IF(Beregninger!R25="","",Beregninger!R25) | N28: =IF(Beregninger!S25="","",Beregninger!S25) | O28: =IF(Beregninger!T25="","",Beregninger!T25) | P28: =IF(Beregninger!V25="","",Beregninger!V25) -> Ikke registreret | S28: 3 | T28: 5 | U28: =U27+S28 -> 42 | V28: =V27+T28 -> 70
A29: 46370 | B29: 46376 | C29: =IF(A29<DATE(2027,1,1),IF(B29>DATE(2026,12,31),"BASE / OPBYGNING","BASE"),IF(A29<DATE(2027,4,1),IF(B29>DATE(2027,3,31),"OPBYGNING / FORB.","OPBYGNING"),"FORBEREDELSE")) -> BASE | L29: =IF(Beregninger!Q26="","",Beregninger!Q26) | M29: =IF(Beregninger!R26="","",Beregninger!R26) | N29: =IF(Beregninger!S26="","",Beregninger!S26) | O29: =IF(Beregninger!T26="","",Beregninger!T26) | P29: =IF(Beregninger!V26="","",Beregninger!V26) -> Ikke registreret | S29: 3 | T29: 5 | U29: =U28+S29 -> 45 | V29: =V28+T29 -> 75
A30: 46377 | B30: 46383 | C30: =IF(A30<DATE(2027,1,1),IF(B30>DATE(2026,12,31),"BASE / OPBYGNING","BASE"),IF(A30<DATE(2027,4,1),IF(B30>DATE(2027,3,31),"OPBYGNING / FORB.","OPBYGNING"),"FORBEREDELSE")) -> BASE | L30: =IF(Beregninger!Q27="","",Beregninger!Q27) | M30: =IF(Beregninger!R27="","",Beregninger!R27) | N30: =IF(Beregninger!S27="","",Beregninger!S27) | O30: =IF(Beregninger!T27="","",Beregninger!T27) | P30: =IF(Beregninger!V27="","",Beregninger!V27) -> Ikke registreret | S30: 3 | T30: 5 | U30: =U29+S30 -> 48 | V30: =V29+T30 -> 80
A31: 46384 | B31: 46390 | C31: =IF(A31<DATE(2027,1,1),IF(B31>DATE(2026,12,31),"BASE / OPBYGNING","BASE"),IF(A31<DATE(2027,4,1),IF(B31>DATE(2027,3,31),"OPBYGNING / FORB.","OPBYGNING"),"FORBEREDELSE")) -> BASE / OPBYGNING | L31: =IF(Beregninger!Q28="","",Beregninger!Q28) | M31: =IF(Beregninger!R28="","",Beregninger!R28) | N31: =IF(Beregninger!S28="","",Beregninger!S28) | O31: =IF(Beregninger!T28="","",Beregninger!T28) | P31: =IF(Beregninger!V28="","",Beregninger!V28) -> Ikke registreret | S31: 5 | T31: 7 | U31: =U30+S31 -> 53 | V31: =V30+T31 -> 87
A32: 46391 | B32: 46397 | C32: =IF(A32<DATE(2027,1,1),IF(B32>DATE(2026,12,31),"BASE / OPBYGNING","BASE"),IF(A32<DATE(2027,4,1),IF(B32>DATE(2027,3,31),"OPBYGNING / FORB.","OPBYGNING"),"FORBEREDELSE")) -> OPBYGNING | L32: =IF(Beregninger!Q29="","",Beregninger!Q29) | M32: =IF(Beregninger!R29="","",Beregninger!R29) | N32: =IF(Beregninger!S29="","",Beregninger!S29) | O32: =IF(Beregninger!T29="","",Beregninger!T29) | P32: =IF(Beregninger!V29="","",Beregninger!V29) -> Ikke registreret | S32: 5 | T32: 7 | U32: =U31+S32 -> 58 | V32: =V31+T32 -> 94
A33: 46398 | B33: 46404 | C33: =IF(A33<DATE(2027,1,1),IF(B33>DATE(2026,12,31),"BASE / OPBYGNING","BASE"),IF(A33<DATE(2027,4,1),IF(B33>DATE(2027,3,31),"OPBYGNING / FORB.","OPBYGNING"),"FORBEREDELSE")) -> OPBYGNING | L33: =IF(Beregninger!Q30="","",Beregninger!Q30) | M33: =IF(Beregninger!R30="","",Beregninger!R30) | N33: =IF(Beregninger!S30="","",Beregninger!S30) | O33: =IF(Beregninger!T30="","",Beregninger!T30) | P33: =IF(Beregninger!V30="","",Beregninger!V30) -> Ikke registreret | S33: 5 | T33: 7 | U33: =U32+S33 -> 63 | V33: =V32+T33 -> 101
A34: 46405 | B34: 46411 | C34: =IF(A34<DATE(2027,1,1),IF(B34>DATE(2026,12,31),"BASE / OPBYGNING","BASE"),IF(A34<DATE(2027,4,1),IF(B34>DATE(2027,3,31),"OPBYGNING / FORB.","OPBYGNING"),"FORBEREDELSE")) -> OPBYGNING | L34: =IF(Beregninger!Q31="","",Beregninger!Q31) | M34: =IF(Beregninger!R31="","",Beregninger!R31) | N34: =IF(Beregninger!S31="","",Beregninger!S31) | O34: =IF(Beregninger!T31="","",Beregninger!T31) | P34: =IF(Beregninger!V31="","",Beregninger!V31) -> Ikke registreret | S34: 5 | T34: 7 | U34: =U33+S34 -> 68 | V34: =V33+T34 -> 108
A35: 46412 | B35: 46418 | C35: =IF(A35<DATE(2027,1,1),IF(B35>DATE(2026,12,31),"BASE / OPBYGNING","BASE"),IF(A35<DATE(2027,4,1),IF(B35>DATE(2027,3,31),"OPBYGNING / FORB.","OPBYGNING"),"FORBEREDELSE")) -> OPBYGNING | L35: =IF(Beregninger!Q32="","",Beregninger!Q32) | M35: =IF(Beregninger!R32="","",Beregninger!R32) | N35: =IF(Beregninger!S32="","",Beregninger!S32) | O35: =IF(Beregninger!T32="","",Beregninger!T32) | P35: =IF(Beregninger!V32="","",Beregninger!V32) -> Ikke registreret | S35: 5 | T35: 7 | U35: =U34+S35 -> 73 | V35: =V34+T35 -> 115
... A54: 46545 | B54: 46546 | C54: =IF(A54<DATE(2027,1,1),IF(B54>DATE(2026,12,31),"BASE / OPBYGNING","BASE"),IF(A54<DATE(2027,4,1),IF(B54>DATE(2027,3,31),"OPBYGNING / FORB.","OPBYGNING"),"FORBEREDELSE")) -> FORBEREDELSE | L54: =IF(Beregninger!Q51="","",Beregninger!Q51) | M54: =IF(Beregninger!R51="","",Beregninger!R51) | N54: =IF(Beregninger!S51="","",Beregninger!S51) | O54: =IF(Beregninger!T51="","",Beregninger!T51) | P54: =IF(Beregninger!V51="","",Beregninger!V51) -> Ikke registreret | S54: 7 | T54: 9 | U54: =U53+S54 -> 188 | V54: =V53+T54 -> 268
A57: Sådan læses målingerne
A59: Timer, kilometer og højdemeter er ugens totaler. Vægt er en måling, FTP er den seneste testværdi.
A60: FTP/kg = seneste FTP / seneste vægt. Gns. W/kg = ugens gennemsnitswatt / seneste vægt.
A61: Videreførte FTP- og vægtværdier er senest kendte værdier, ikke nye målinger hver uge.
A62: Z1: 50–<60 %. Z2: 60–<70 %. Z3: 70–<80 %. Z4: 80–<90 %. Z5: 90–100 % af maks. puls.
A63: Gennemsnit kan skjule intervaller. Derfor beregnes hverken TSS, tid i zoner eller belastningsscore.
A64: Tomt timefelt betyder ikke registreret. Skriv 0 for bekræftet nul træning; angiv også 0 km og 0 højdemeter.
A65: Ved et hul før seneste registrering vises Mangler uger. Udfyld hullet for at få en samlet vurdering.
A66: Periodeskift: 28/12–3/1 fordeles 4/7 BASE og 3/7 OPBYGNING; 29/3–4/4 fordeles 3/7 og 4/7.
A67: Pulszoner: https://support.polar.com/e_manuals/polar-loop/polar-loop-user-manual-english/heart-rate-zones.htm
A68: Watt: https://www.trainingpeaks.com/learn/articles/normalized-power-intensity-factor-training-stress/

Sheet Træningsoverblik
A2: CYKELNERVEN 2027 - TRÆNINGSMANAGER
A3: Din status sammenlignes til og med seneste uge med indtastede timer. Tomme uger er ikke nul.
A5: Seneste registrering | B5: =IF(Beregninger!B2=0,"Ingen data",Beregninger!B2) -> Ingen data
A7: Træningsperiode | B7: Fra | C7: Til | D7: Timer/uge | E7: Timer udført | F7: Nedre til dato | G7: Øvre til dato | H7: Status | J7: Registreret i alt
A8: =Beregninger!A5 -> BASE | B8: =Beregninger!B5 -> 46272 | C8: =Beregninger!C5 -> 46387 | D8: =Beregninger!D5&"–"&Beregninger!E5 -> 3–5 | E8: =IF(Beregninger!$B$2<B8,"",SUMPRODUCT(Beregninger!D12:D51,Beregninger!AJ12:AJ51)) | F8: =MAX(0,MIN(Beregninger!$B$2,C8)-B8+1)*Beregninger!D5/7 -> 0 | G8: =MAX(0,MIN(Beregninger!$B$2,C8)-B8+1)*Beregninger!E5/7 -> 0 | H8: =IF(Beregninger!$B$2<B8,"Ingen data",IF(SUMPRODUCT(Beregninger!D12:D51,Beregninger!U12:U51)>0,"Mangler uger",IF(E8<F8,"Under interval",IF(E8>G8,"Over interval","Inden for interval")))) -> Ingen data | J8: Kilometer | K8: =IF(COUNT(Ugeindtastning!E15:E54)=0,"",SUM(Ugeindtastning!E15:E54))
A9: =Beregninger!A6 -> OPBYGNING | B9: =Beregninger!B6 -> 46388 | C9: =Beregninger!C6 -> 46477 | D9: =Beregninger!D6&"–"&Beregninger!E6 -> 5–7 | E9: =IF(Beregninger!$B$2<B9,"",SUMPRODUCT(Beregninger!E12:E51,Beregninger!AJ12:AJ51)) | F9: =MAX(0,MIN(Beregninger!$B$2,C9)-B9+1)*Beregninger!D6/7 -> 0 | G9: =MAX(0,MIN(Beregninger!$B$2,C9)-B9+1)*Beregninger!E6/7 -> 0 | H9: =IF(Beregninger!$B$2<B9,"Ingen data",IF(SUMPRODUCT(Beregninger!E12:E51,Beregninger!U12:U51)>0,"Mangler uger",IF(E9<F9,"Under interval",IF(E9>G9,"Over interval","Inden for interval")))) -> Ingen data | J9: Højdemeter | K9: =IF(COUNT(Ugeindtastning!F15:F54)=0,"",SUM(Ugeindtastning!F15:F54))
A10: =Beregninger!A7 -> FORBEREDELSE | B10: =Beregninger!B7 -> 46478 | C10: =Beregninger!C7 -> 46546 | D10: =Beregninger!D7&"–"&Beregninger!E7 -> 7–9 | E10: =IF(Beregninger!$B$2<B10,"",SUMPRODUCT(Beregninger!F12:F51,Beregninger!AJ12:AJ51)) | F10: =MAX(0,MIN(Beregninger!$B$2,C10)-B10+1)*Beregninger!D7/7 -> 0 | G10: =MAX(0,MIN(Beregninger!$B$2,C10)-B10+1)*Beregninger!E7/7 -> 0 | H10: =IF(Beregninger!$B$2<B10,"Ingen data",IF(SUMPRODUCT(Beregninger!F12:F51,Beregninger!U12:U51)>0,"Mangler uger",IF(E10<F10,"Under interval",IF(E10>G10,"Over interval","Inden for interval")))) -> Ingen data | J10: Timer | K10: =IF(COUNT(Ugeindtastning!D15:D54)=0,"",SUM(Ugeindtastning!D15:D54))
A11: Status sammenlignes til og med seneste uge med indtastede timer. Tomme uger er ikke nul.
A12: Grønne kurver: Anbefalet interval. Orange kurver: Registreret træning. Periodekurver starter ved nul.

Sheet DASHBOARD
A2: TRÆNINGSMANAGER - DASHBOARD
A3: DAGENS DATO: | B3: =TODAY() -> 46297
A5: =Træningsoverblik!A7 -> Træningsperiode | B5: =Træningsoverblik!B7 -> Fra | C5: =Træningsoverblik!C7 -> Til | D5: =Træningsoverblik!D7 -> Timer/uge
A6: =Træningsoverblik!A8 -> BASE | B6: =Træningsoverblik!B8 -> 46272 | C6: =Træningsoverblik!C8 -> 46387 | D6: =Træningsoverblik!D8 -> 3–5
A7: =Træningsoverblik!A9 -> OPBYGNING | B7: =Træningsoverblik!B9 -> 46388 | C7: =Træningsoverblik!C9 -> 46477 | D7: =Træningsoverblik!D9 -> 5–7
A8: =Træningsoverblik!A10 -> FORBEREDELSE | B8: =Træningsoverblik!B10 -> 46478 | C8: =Træningsoverblik!C10 -> 46546 | D8: =Træningsoverblik!D10 -> 7–9
A10: Træningsstatus | B10: =Træningsoverblik!B12 -> 0 | C10: =Træningsoverblik!C12 -> 0 | D10: =Træningsoverblik!D12 -> 0
A11: =A6 -> BASE
A12: =A7 -> OPBYGNING
A13: =A8 -> FORBEREDELSE

Sheet FTP-niveauer og watt pr. kg
A1: Referenceværdier fra 'Training and Racing with a Power Meter' af Hunter Allen and Andrew Coggan, PhD
A2: Alle effektværdier er watt pr. kg. FTP henviser til din Functional Threshold Power (din maks. effekt i én time)
A4: Række | B4: Mænd 5 sek. | C4: Mænd 1 min. | D4: Mænd 5 min. | E4: Mænd FTP | F4: Kvinder 5 sek. | G4: Kvinder 1 min. | H4: Kvinder 5 min. | I4: Kvinder FT | J4: Valgt FTP | K4: Afstand | L4: Klasse | N4: Kategorier fra 'Training with Power Meter'
A5: 1 | B5: 24.04 | C5: 11.5 | D5: 7.6 | E5: 6.4 | F5: 19.42 | G5: 9.29 | H5: 6.61 | I5: 5.69 | J5: =IF('Ekstra - Udfyld din profil'!$C$5="Mænd",E5,IF('Ekstra - Udfyld din profil'!$C$5="Kvinder",I5,"")) -> 6.4 | K5: =IF(AND(ISNUMBER('Ekstra - Udfyld din profil'!$G$5),ISNUMBER(J5)),ABS(J5-'Ekstra - Udfyld din profil'!$G$5),"") -> 3.9 | L5: WORLD CLASS | N5: World class | O5: International pro
A6: 2 | B6: 23.77 | C6: 11.39 | D6: 7.5 | E6: 6.31 | F6: 19.2 | G6: 9.2 | H6: 6.52 | I6: 5.61 | J6: =IF('Ekstra - Udfyld din profil'!$C$5="Mænd",E6,IF('Ekstra - Udfyld din profil'!$C$5="Kvinder",I6,"")) -> 6.31 | K6: =IF(AND(ISNUMBER('Ekstra - Udfyld din profil'!$G$5),ISNUMBER(J6)),ABS(J6-'Ekstra - Udfyld din profil'!$G$5),"") -> 3.81 | N6: Exceptional | O6: Domestic pro
A7: 3 | B7: 23.5 | C7: 11.27 | D7: 7.39 | E7: 6.22 | F7: 18.99 | G7: 9.11 | H7: 6.42 | I7: 5.53 | J7: =IF('Ekstra - Udfyld din profil'!$C$5="Mænd",E7,IF('Ekstra - Udfyld din profil'!$C$5="Kvinder",I7,"")) -> 6.22 | K7: =IF(AND(ISNUMBER('Ekstra - Udfyld din profil'!$G$5),ISNUMBER(J7)),ABS(J7-'Ekstra - Udfyld din profil'!$G$5),"") -> 3.72 | N7: Excellent | O7: Cat. 1
A8: 4 | B8: 23.22 | C8: 11.16 | D8: 7.29 | E8: 6.13 | F8: 18.77 | G8: 9.02 | H8: 6.33 | I8: 5.44 | J8: =IF('Ekstra - Udfyld din profil'!$C$5="Mænd",E8,IF('Ekstra - Udfyld din profil'!$C$5="Kvinder",I8,"")) -> 6.13 | K8: =IF(AND(ISNUMBER('Ekstra - Udfyld din profil'!$G$5),ISNUMBER(J8)),ABS(J8-'Ekstra - Udfyld din profil'!$G$5),"") -> 3.63 | N8: Very good | O8: Cat. 2
A9: 5 | B9: 22.95 | C9: 11.04 | D9: 7.19 | E9: 6.04 | F9: 18.56 | G9: 8.93 | H9: 6.24 | I9: 5.36 | J9: =IF('Ekstra - Udfyld din profil'!$C$5="Mænd",E9,IF('Ekstra - Udfyld din profil'!$C$5="Kvinder",I9,"")) -> 6.04 | K9: =IF(AND(ISNUMBER('Ekstra - Udfyld din profil'!$G$5),ISNUMBER(J9)),ABS(J9-'Ekstra - Udfyld din profil'!$G$5),"") -> 3.54 | N9: Good | O9: Cat. 3
A10: 6 | B10: 22.68 | C10: 10.93 | D10: 7.08 | E10: 5.96 | F10: 18.34 | G10: 8.84 | H10: 6.15 | I10: 5.28 | J10: =IF('Ekstra - Udfyld din profil'!$C$5="Mænd",E10,IF('Ekstra - Udfyld din profil'!$C$5="Kvinder",I10,"")) -> 5.96 | K10: =IF(AND(ISNUMBER('Ekstra - Udfyld din profil'!$G$5),ISNUMBER(J10)),ABS(J10-'Ekstra - Udfyld din profil'!$G$5),"") -> 3.46 | N10: Moderate | O10: Cat. 4
A11: 7 | B11: 22.41 | C11: 10.81 | D11: 6.98 | E11: 5.87 | F11: 18.13 | G11: 8.75 | H11: 6.05 | I11: 5.2 | J11: =IF('Ekstra - Udfyld din profil'!$C$5="Mænd",E11,IF('Ekstra - Udfyld din profil'!$C$5="Kvinder",I11,"")) -> 5.87 | K11: =IF(AND(ISNUMBER('Ekstra - Udfyld din profil'!$G$5),ISNUMBER(J11)),ABS(J11-'Ekstra - Udfyld din profil'!$G$5),"") -> 3.37 | N11: Fair | O11: Cat. 5
A12: 8 | B12: 22.14 | C12: 10.7 | D12: 6.88 | E12: 5.78 | F12: 17.91 | G12: 8.66 | H12: 5.96 | I12: 5.12 | J12: =IF('Ekstra - Udfyld din profil'!$C$5="Mænd",E12,IF('Ekstra - Udfyld din profil'!$C$5="Kvinder",I12,"")) -> 5.78 | K12: =IF(AND(ISNUMBER('Ekstra - Udfyld din profil'!$G$5),ISNUMBER(J12)),ABS(J12-'Ekstra - Udfyld din profil'!$G$5),"") -> 3.28 | L12: EXCEPTIONAL | N12: Untrained | O12: Non-racer
A13: 9 | B13: 21.86 | C13: 10.58 | D13: 6.77 | E13: 5.69 | F13: 17.7 | G13: 8.56 | H13: 5.87 | I13: 5.03 | J13: =IF('Ekstra - Udfyld din profil'!$C$5="Mænd",E13,IF('Ekstra - Udfyld din profil'!$C$5="Kvinder",I13,"")) -> 5.69 | K13: =IF(AND(ISNUMBER('Ekstra - Udfyld din profil'!$G$5),ISNUMBER(J13)),ABS(J13-'Ekstra - Udfyld din profil'!$G$5),"") -> 3.19
A14: 10 | B14: 21.59 | C14: 10.47 | D14: 6.67 | E14: 5.6 | F14: 17.48 | G14: 8.47 | H14: 5.78 | I14: 4.95 | J14: =IF('Ekstra - Udfyld din profil'!$C$5="Mænd",E14,IF('Ekstra - Udfyld din profil'!$C$5="Kvinder",I14,"")) -> 5.6 | K14: =IF(AND(ISNUMBER('Ekstra - Udfyld din profil'!$G$5),ISNUMBER(J14)),ABS(J14-'Ekstra - Udfyld din profil'!$G$5),"") -> 3.1
A15: 11 | B15: 21.32 | C15: 10.35 | D15: 6.57 | E15: 5.51 | F15: 17.26 | G15: 8.38 | H15: 5.68 | I15: 4.87 | J15: =IF('Ekstra - Udfyld din profil'!$C$5="Mænd",E15,IF('Ekstra - Udfyld din profil'!$C$5="Kvinder",I15,"")) -> 5.51 | K15: =IF(AND(ISNUMBER('Ekstra - Udfyld din profil'!$G$5),ISNUMBER(J15)),ABS(J15-'Ekstra - Udfyld din profil'!$G$5),"") -> 3.01 | N15: Parenteserne i tabellen overlapper. Se originalen nedenfor.
A16: 12 | B16: 21.05 | C16: 10.24 | D16: 6.46 | E16: 5.42 | F16: 17.05 | G16: 8.29 | H16: 5.59 | I16: 4.79 | J16: =IF('Ekstra - Udfyld din profil'!$C$5="Mænd",E16,IF('Ekstra - Udfyld din profil'!$C$5="Kvinder",I16,"")) -> 5.42 | K16: =IF(AND(ISNUMBER('Ekstra - Udfyld din profil'!$G$5),ISNUMBER(J16)),ABS(J16-'Ekstra - Udfyld din profil'!$G$5),"") -> 2.92
A17: 13 | B17: 20.78 | C17: 10.12 | D17: 6.36 | E17: 5.33 | F17: 16.83 | G17: 8.2 | H17: 5.5 | I17: 4.7 | J17: =IF('Ekstra - Udfyld din profil'!$C$5="Mænd",E17,IF('Ekstra - Udfyld din profil'!$C$5="Kvinder",I17,"")) -> 5.33 | K17: =IF(AND(ISNUMBER('Ekstra - Udfyld din profil'!$G$5),ISNUMBER(J17)),ABS(J17-'Ekstra - Udfyld din profil'!$G$5),"") -> 2.83
A18: 14 | B18: 20.51 | C18: 10.01 | D18: 6.26 | E18: 5.24 | F18: 16.62 | G18: 8.11 | H18: 5.41 | I18: 4.62 | J18: =IF('Ekstra - Udfyld din profil'!$C$5="Mænd",E18,IF('Ekstra - Udfyld din profil'!$C$5="Kvinder",I18,"")) -> 5.24 | K18: =IF(AND(ISNUMBER('Ekstra - Udfyld din profil'!$G$5),ISNUMBER(J18)),ABS(J18-'Ekstra - Udfyld din profil'!$G$5),"") -> 2.74
A19: 15 | B19: 20.23 | C19: 9.89 | D19: 6.15 | E19: 5.15 | F19: 16.4 | G19: 8.02 | H19: 5.31 | I19: 4.54 | J19: =IF('Ekstra - Udfyld din profil'!$C$5="Mænd",E19,IF('Ekstra - Udfyld din profil'!$C$5="Kvinder",I19,"")) -> 5.15 | K19: =IF(AND(ISNUMBER('Ekstra - Udfyld din profil'!$G$5),ISNUMBER(J19)),ABS(J19-'Ekstra - Udfyld din profil'!$G$5),"") -> 2.65 | L19: EXCELLENT
A20: 16 | B20: 19.96 | C20: 9.78 | D20: 6.05 | E20: 5.07 | F20: 16.19 | G20: 7.93 | H20: 5.22 | I20: 4.46 | J20: =IF('Ekstra - Udfyld din profil'!$C$5="Mænd",E20,IF('Ekstra - Udfyld din profil'!$C$5="Kvinder",I20,"")) -> 5.07 | K20: =IF(AND(ISNUMBER('Ekstra - Udfyld din profil'!$G$5),ISNUMBER(J20)),ABS(J20-'Ekstra - Udfyld din profil'!$G$5),"") -> 2.57
A21: 17 | B21: 19.69 | C21: 9.66 | D21: 5.95 | E21: 4.98 | F21: 15.97 | G21: 7.84 | H21: 5.13 | I21: 4.38 | J21: =IF('Ekstra - Udfyld din profil'!$C$5="Mænd",E21,IF('Ekstra - Udfyld din profil'!$C$5="Kvinder",I21,"")) -> 4.98 | K21: =IF(AND(ISNUMBER('Ekstra - Udfyld din profil'!$G$5),ISNUMBER(J21)),ABS(J21-'Ekstra - Udfyld din profil'!$G$5),"") -> 2.48
A22: 18 | B22: 19.42 | C22: 9.55 | D22: 5.84 | E22: 4.89 | F22: 15.76 | G22: 7.75 | H22: 5.04 | I22: 4.29 | J22: =IF('Ekstra - Udfyld din profil'!$C$5="Mænd",E22,IF('Ekstra - Udfyld din profil'!$C$5="Kvinder",I22,"")) -> 4.89 | K22: =IF(AND(ISNUMBER('Ekstra - Udfyld din profil'!$G$5),ISNUMBER(J22)),ABS(J22-'Ekstra - Udfyld din profil'!$G$5),"") -> 2.39
A23: 19 | B23: 19.15 | C23: 9.43 | D23: 5.74 | E23: 4.8 | F23: 15.54 | G23: 7.66 | H23: 4.94 | I23: 4.21 | J23: =IF('Ekstra - Udfyld din profil'!$C$5="Mænd",E23,IF('Ekstra - Udfyld din profil'!$C$5="Kvinder",I23,"")) -> 4.8 | K23: =IF(AND(ISNUMBER('Ekstra - Udfyld din profil'!$G$5),ISNUMBER(J23)),ABS(J23-'Ekstra - Udfyld din profil'!$G$5),"") -> 2.3
A24: 20 | B24: 18.87 | C24: 9.32 | D24: 5.64 | E24: 4.71 | F24: 15.32 | G24: 7.57 | H24: 4.85 | I24: 4.13 | J24: =IF('Ekstra - Udfyld din profil'!$C$5="Mænd",E24,IF('Ekstra - Udfyld din profil'!$C$5="Kvinder",I24,"")) -> 4.71 | K24: =IF(AND(ISNUMBER('Ekstra - Udfyld din profil'!$G$5),ISNUMBER(J24)),ABS(J24-'Ekstra - Udfyld din profil'!$G$5),"") -> 2.21
A25: 21 | B25: 18.6 | C25: 9.2 | D25: 5.53 | E25: 4.62 | F25: 15.11 | G25: 7.48 | H25: 4.76 | I25: 4.05 | J25: =IF('Ekstra - Udfyld din profil'!$C$5="Mænd",E25,IF('Ekstra - Udfyld din profil'!$C$5="Kvinder",I25,"")) -> 4.62 | K25: =IF(AND(ISNUMBER('Ekstra - Udfyld din profil'!$G$5),ISNUMBER(J25)),ABS(J25-'Ekstra - Udfyld din profil'!$G$5),"") -> 2.12 | L25: VERY GOOD
A26: 22 | B26: 18.33 | C26: 9.09 | D26: 5.43 | E26: 4.53 | F26: 14.89 | G26: 7.39 | H26: 4.67 | I26: 3.97 | J26: =IF('Ekstra - Udfyld din profil'!$C$5="Mænd",E26,IF('Ekstra - Udfyld din profil'!$C$5="Kvinder",I26,"")) -> 4.53 | K26: =IF(AND(ISNUMBER('Ekstra - Udfyld din profil'!$G$5),ISNUMBER(J26)),ABS(J26-'Ekstra - Udfyld din profil'!$G$5),"") -> 2.03
A27: 23 | B27: 18.06 | C27: 8.97 | D27: 5.33 | E27: 4.44 | F27: 14.68 | G27: 7.3 | H27: 4.57 | I27: 3.88 | J27: =IF('Ekstra - Udfyld din profil'!$C$5="Mænd",E27,IF('Ekstra - Udfyld din profil'!$C$5="Kvinder",I27,"")) -> 4.44 | K27: =IF(AND(ISNUMBER('Ekstra - Udfyld din profil'!$G$5),ISNUMBER(J27)),ABS(J27-'Ekstra - Udfyld din profil'!$G$5),"") -> 1.94
A28: 24 | B28: 17.79 | C28: 8.86 | D28: 5.22 | E28: 4.35 | F28: 14.46 | G28: 7.21 | H28: 4.48 | I28: 3.8 | J28: =IF('Ekstra - Udfyld din profil'!$C$5="Mænd",E28,IF('Ekstra - Udfyld din profil'!$C$5="Kvinder",I28,"")) -> 4.35 | K28: =IF(AND(ISNUMBER('Ekstra - Udfyld din profil'!$G$5),ISNUMBER(J28)),ABS(J28-'Ekstra - Udfyld din profil'!$G$5),"") -> 1.85
A29: 25 | B29: 17.51 | C29: 8.74 | D29: 5.12 | E29: 4.27 | F29: 14.25 | G29: 7.11 | H29: 4.39 | I29: 3.72 | J29: =IF('Ekstra - Udfyld din profil'!$C$5="Mænd",E29,IF('Ekstra - Udfyld din profil'!$C$5="Kvinder",I29,"")) -> 4.27 | K29: =IF(AND(ISNUMBER('Ekstra - Udfyld din profil'!$G$5),ISNUMBER(J29)),ABS(J29-'Ekstra - Udfyld din profil'!$G$5),"") -> 1.77
A30: 26 | B30: 17.24 | C30: 8.63 | D30: 5.01 | E30: 4.18 | F30: 14.03 | G30: 7.02 | H30: 4.3 | I30: 3.64 | J30: =IF('Ekstra - Udfyld din profil'!$C$5="Mænd",E30,IF('Ekstra - Udfyld din profil'!$C$5="Kvinder",I30,"")) -> 4.18 | K30: =IF(AND(ISNUMBER('Ekstra - Udfyld din profil'!$G$5),ISNUMBER(J30)),ABS(J30-'Ekstra - Udfyld din profil'!$G$5),"") -> 1.68
A31: 27 | B31: 16.97 | C31: 8.51 | D31: 4.91 | E31: 4.09 | F31: 13.82 | G31: 6.93 | H31: 4.2 | I31: 3.55 | J31: =IF('Ekstra - Udfyld din profil'!$C$5="Mænd",E31,IF('Ekstra - Udfyld din profil'!$C$5="Kvinder",I31,"")) -> 4.09 | K31: =IF(AND(ISNUMBER('Ekstra - Udfyld din profil'!$G$5),ISNUMBER(J31)),ABS(J31-'Ekstra - Udfyld din profil'!$G$5),"") -> 1.59 | L31: GOOD
A32: 28 | B32: 16.7 | C32: 8.4 | D32: 4.81 | E32: 4 | F32: 13.6 | G32: 6.84 | H32: 4.11 | I32: 3.47 | J32: =IF('Ekstra - Udfyld din profil'!$C$5="Mænd",E32,IF('Ekstra - Udfyld din profil'!$C$5="Kvinder",I32,"")) -> 4 | K32: =IF(AND(ISNUMBER('Ekstra - Udfyld din profil'!$G$5),ISNUMBER(J32)),ABS(J32-'Ekstra - Udfyld din profil'!$G$5),"") -> 1.5
A33: 29 | B33: 16.43 | C33: 8.28 | D33: 4.7 | E33: 3.91 | F33: 13.39 | G33: 6.75 | H33: 4.02 | I33: 3.39 | J33: =IF('Ekstra - Udfyld din profil'!$C$5="Mænd",E33,IF('Ekstra - Udfyld din profil'!$C$5="Kvinder",I33,"")) -> 3.91 | K33: =IF(AND(ISNUMBER('Ekstra - Udfyld din profil'!$G$5),ISNUMBER(J33)),ABS(J33-'Ekstra - Udfyld din profil'!$G$5),"") -> 1.41
A34: 30 | B34: 16.15 | C34: 8.17 | D34: 4.6 | E34: 3.82 | F34: 13.17 | G34: 6.66 | H34: 3.93 | I34: 3.31 | J34: =IF('Ekstra - Udfyld din profil'!$C$5="Mænd",E34,IF('Ekstra - Udfyld din profil'!$C$5="Kvinder",I34,"")) -> 3.82 | K34: =IF(AND(ISNUMBER('Ekstra - Udfyld din profil'!$G$5),ISNUMBER(J34)),ABS(J34-'Ekstra - Udfyld din profil'!$G$5),"") -> 1.32
A35: 31 | B35: 15.88 | C35: 8.05 | D35: 4.5 | E35: 3.73 | F35: 12.95 | G35: 6.57 | H35: 3.83 | I35: 3.23 | J35: =IF('Ekstra - Udfyld din profil'!$C$5="Mænd",E35,IF('Ekstra - Udfyld din profil'!$C$5="Kvinder",I35,"")) -> 3.73 | K35: =IF(AND(ISNUMBER('Ekstra - Udfyld din profil'!$G$5),ISNUMBER(J35)),ABS(J35-'Ekstra - Udfyld din profil'!$G$5),"") -> 1.23
A36: 32 | B36: 15.61 | C36: 7.94 | D36: 4.39 | E36: 3.64 | F36: 12.74 | G36: 6.48 | H36: 3.74 | I36: 3.14 | J36: =IF('Ekstra - Udfyld din profil'!$C$5="Mænd",E36,IF('Ekstra - Udfyld din profil'!$C$5="Kvinder",I36,"")) -> 3.64 | K36: =IF(AND(ISNUMBER('Ekstra - Udfyld din profil'!$G$5),ISNUMBER(J36)),ABS(J36-'Ekstra - Udfyld din profil'!$G$5),"") -> 1.14
A37: 33 | B37: 15.34 | C37: 7.82 | D37: 4.29 | E37: 3.55 | F37: 12.52 | G37: 6.39 | H37: 3.65 | I37: 3.06 | J37: =IF('Ekstra - Udfyld din profil'!$C$5="Mænd",E37,IF('Ekstra - Udfyld din profil'!$C$5="Kvinder",I37,"")) -> 3.55 | K37: =IF(AND(ISNUMBER('Ekstra - Udfyld din profil'!$G$5),ISNUMBER(J37)),ABS(J37-'Ekstra - Udfyld din profil'!$G$5),"") -> 1.05 | L37: MODERATE
A38: 34 | B38: 15.07 | C38: 7.71 | D38: 4.19 | E38: 3.47 | F38: 12.31 | G38: 6.3 | H38: 3.56 | I38: 2.98 | J38: =IF('Ekstra - Udfyld din profil'!$C$5="Mænd",E38,IF('Ekstra - Udfyld din profil'!$C$5="Kvinder",I38,"")) -> 3.47 | K38: =IF(AND(ISNUMBER('Ekstra - Udfyld din profil'!$G$5),ISNUMBER(J38)),ABS(J38-'Ekstra - Udfyld din profil'!$G$5),"") -> 0.97
A39: 35 | B39: 14.79 | C39: 7.59 | D39: 4.08 | E39: 3.38 | F39: 12.09 | G39: 6.21 | H39: 3.46 | I39: 2.9 | J39: =IF('Ekstra - Udfyld din profil'!$C$5="Mænd",E39,IF('Ekstra - Udfyld din profil'!$C$5="Kvinder",I39,"")) -> 3.38 | K39: =IF(AND(ISNUMBER('Ekstra - Udfyld din profil'!$G$5),ISNUMBER(J39)),ABS(J39-'Ekstra - Udfyld din profil'!$G$5),"") -> 0.88
A40: 36 | B40: 14.52 | C40: 7.48 | D40: 3.98 | E40: 3.29 | F40: 11.88 | G40: 6.12 | H40: 3.37 | I40: 2.82 | J40: =IF('Ekstra - Udfyld din profil'!$C$5="Mænd",E40,IF('Ekstra - Udfyld din profil'!$C$5="Kvinder",I40,"")) -> 3.29 | K40: =IF(AND(ISNUMBER('Ekstra - Udfyld din profil'!$G$5),ISNUMBER(J40)),ABS(J40-'Ekstra - Udfyld din profil'!$G$5),"") -> 0.79
A41: 37 | B41: 14.25 | C41: 7.36 | D41: 3.88 | E41: 3.2 | F41: 11.66 | G41: 6.03 | H41: 3.28 | I41: 2.73 | J41: =IF('Ekstra - Udfyld din profil'!$C$5="Mænd",E41,IF('Ekstra - Udfyld din profil'!$C$5="Kvinder",I41,"")) -> 3.2 | K41: =IF(AND(ISNUMBER('Ekstra - Udfyld din profil'!$G$5),ISNUMBER(J41)),ABS(J41-'Ekstra - Udfyld din profil'!$G$5),"") -> 0.7
A42: 38 | B42: 13.98 | C42: 7.25 | D42: 3.77 | E42: 3.11 | F42: 11.45 | G42: 5.94 | H42: 3.19 | I42: 2.65 | J42: =IF('Ekstra - Udfyld din profil'!$C$5="Mænd",E42,IF('Ekstra - Udfyld din profil'!$C$5="Kvinder",I42,"")) -> 3.11 | K42: =IF(AND(ISNUMBER('Ekstra - Udfyld din profil'!$G$5),ISNUMBER(J42)),ABS(J42-'Ekstra - Udfyld din profil'!$G$5),"") -> 0.61
A43: 39 | B43: 13.71 | C43: 7.13 | D43: 3.67 | E43: 3.02 | F43: 11.23 | G43: 5.85 | H43: 3.09 | I43: 2.57 | J43: =IF('Ekstra - Udfyld din profil'!$C$5="Mænd",E43,IF('Ekstra - Udfyld din profil'!$C$5="Kvinder",I43,"")) -> 3.02 | K43: =IF(AND(ISNUMBER('Ekstra - Udfyld din profil'!$G$5),ISNUMBER(J43)),ABS(J43-'Ekstra - Udfyld din profil'!$G$5),"") -> 0.52 | L43: FAIR
A44: 40 | B44: 13.44 | C44: 7.02 | D44: 3.57 | E44: 2.93 | F44: 11.01 | G44: 5.76 | H44: 3 | I44: 2.49 | J44: =IF('Ekstra - Udfyld din profil'!$C$5="Mænd",E44,IF('Ekstra - Udfyld din profil'!$C$5="Kvinder",I44,"")) -> 2.93 | K44: =IF(AND(ISNUMBER('Ekstra - Udfyld din profil'!$G$5),ISNUMBER(J44)),ABS(J44-'Ekstra - Udfyld din profil'!$G$5),"") -> 0.43
A45: 41 | B45: 13.16 | C45: 6.9 | D45: 3.46 | E45: 2.84 | F45: 10.8 | G45: 5.66 | H45: 2.91 | I45: 2.4 | J45: =IF('Ekstra - Udfyld din profil'!$C$5="Mænd",E45,IF('Ekstra - Udfyld din profil'!$C$5="Kvinder",I45,"")) -> 2.84 | K45: =IF(AND(ISNUMBER('Ekstra - Udfyld din profil'!$G$5),ISNUMBER(J45)),ABS(J45-'Ekstra - Udfyld din profil'!$G$5),"") -> 0.34
A46: 42 | B46: 12.89 | C46: 6.79 | D46: 3.36 | E46: 2.75 | F46: 10.58 | G46: 5.57 | H46: 2.82 | I46: 2.32 | J46: =IF('Ekstra - Udfyld din profil'!$C$5="Mænd",E46,IF('Ekstra - Udfyld din profil'!$C$5="Kvinder",I46,"")) -> 2.75 | K46: =IF(AND(ISNUMBER('Ekstra - Udfyld din profil'!$G$5),ISNUMBER(J46)),ABS(J46-'Ekstra - Udfyld din profil'!$G$5),"") -> 0.25
A47: 43 | B47: 12.62 | C47: 6.67 | D47: 3.26 | E47: 2.66 | F47: 10.37 | G47: 5.48 | H47: 2.72 | I47: 2.24 | J47: =IF('Ekstra - Udfyld din profil'!$C$5="Mænd",E47,IF('Ekstra - Udfyld din profil'!$C$5="Kvinder",I47,"")) -> 2.66 | K47: =IF(AND(ISNUMBER('Ekstra - Udfyld din profil'!$G$5),ISNUMBER(J47)),ABS(J47-'Ekstra - Udfyld din profil'!$G$5),"") -> 0.16
A48: 44 | B48: 12.35 | C48: 6.56 | D48: 3.15 | E48: 2.58 | F48: 10.15 | G48: 5.39 | H48: 2.63 | I48: 2.16 | J48: =IF('Ekstra - Udfyld din profil'!$C$5="Mænd",E48,IF('Ekstra - Udfyld din profil'!$C$5="Kvinder",I48,"")) -> 2.58 | K48: =IF(AND(ISNUMBER('Ekstra - Udfyld din profil'!$G$5),ISNUMBER(J48)),ABS(J48-'Ekstra - Udfyld din profil'!$G$5),"") -> 0.08
A49: 45 | B49: 12.08 | C49: 6.44 | D49: 3.05 | E49: 2.49 | F49: 9.94 | G49: 5.3 | H49: 2.54 | I49: 2.08 | J49: =IF('Ekstra - Udfyld din profil'!$C$5="Mænd",E49,IF('Ekstra - Udfyld din profil'!$C$5="Kvinder",I49,"")) -> 2.49 | K49: =IF(AND(ISNUMBER('Ekstra - Udfyld din profil'!$G$5),ISNUMBER(J49)),ABS(J49-'Ekstra - Udfyld din profil'!$G$5),"") -> 0.01
A50: 46 | B50: 11.8 | C50: 6.33 | D50: 2.95 | E50: 2.4 | F50: 9.72 | G50: 5.21 | H50: 2.45 | I50: 1.99 | J50: =IF('Ekstra - Udfyld din profil'!$C$5="Mænd",E50,IF('Ekstra - Udfyld din profil'!$C$5="Kvinder",I50,"")) -> 2.4 | K50: =IF(AND(ISNUMBER('Ekstra - Udfyld din profil'!$G$5),ISNUMBER(J50)),ABS(J50-'Ekstra - Udfyld din profil'!$G$5),"") -> 0.1 | L50: UNTRAINED
A51: 47 | B51: 11.53 | C51: 6.21 | D51: 2.84 | E51: 2.31 | F51: 9.51 | G51: 5.12 | H51: 2.35 | I51: 1.91 | J51: =IF('Ekstra - Udfyld din profil'!$C$5="Mænd",E51,IF('Ekstra - Udfyld din profil'!$C$5="Kvinder",I51,"")) -> 2.31 | K51: =IF(AND(ISNUMBER('Ekstra - Udfyld din profil'!$G$5),ISNUMBER(J51)),ABS(J51-'Ekstra - Udfyld din profil'!$G$5),"") -> 0.19
A52: 48 | B52: 11.26 | C52: 6.1 | D52: 2.74 | E52: 2.22 | F52: 9.29 | G52: 5.03 | H52: 2.26 | I52: 1.83 | J52: =IF('Ekstra - Udfyld din profil'!$C$5="Mænd",E52,IF('Ekstra - Udfyld din profil'!$C$5="Kvinder",I52,"")) -> 2.22 | K52: =IF(AND(ISNUMBER('Ekstra - Udfyld din profil'!$G$5),ISNUMBER(J52)),ABS(J52-'Ekstra - Udfyld din profil'!$G$5),"") -> 0.28
A53: 49 | B53: 10.99 | C53: 5.99 | D53: 2.64 | E53: 2.13 | F53: 9.07 | G53: 4.94 | H53: 2.17 | I53: 1.75 | J53: =IF('Ekstra - Udfyld din profil'!$C$5="Mænd",E53,IF('Ekstra - Udfyld din profil'!$C$5="Kvinder",I53,"")) -> 2.13 | K53: =IF(AND(ISNUMBER('Ekstra - Udfyld din profil'!$G$5),ISNUMBER(J53)),ABS(J53-'Ekstra - Udfyld din profil'!$G$5),"") -> 0.37
A54: 50 | B54: 10.72 | C54: 5.87 | D54: 2.53 | E54: 2.04 | F54: 8.86 | G54: 4.85 | H54: 2.07 | I54: 1.67 | J54: =IF('Ekstra - Udfyld din profil'!$C$5="Mænd",E54,IF('Ekstra - Udfyld din profil'!$C$5="Kvinder",I54,"")) -> 2.04 | K54: =IF(AND(ISNUMBER('Ekstra - Udfyld din profil'!$G$5),ISNUMBER(J54)),ABS(J54-'Ekstra - Udfyld din profil'!$G$5),"") -> 0.46
A55: 51 | B55: 10.44 | C55: 5.76 | D55: 2.43 | E55: 1.95 | F55: 8.64 | G55: 4.76 | H55: 1.98 | I55: 1.58 | J55: =IF('Ekstra - Udfyld din profil'!$C$5="Mænd",E55,IF('Ekstra - Udfyld din profil'!$C$5="Kvinder",I55,"")) -> 1.95 | K55: =IF(AND(ISNUMBER('Ekstra - Udfyld din profil'!$G$5),ISNUMBER(J55)),ABS(J55-'Ekstra - Udfyld din profil'!$G$5),"") -> 0.55
A56: 52 | B56: 10.17 | C56: 5.64 | D56: 2.33 | E56: 1.86 | F56: 8.43 | G56: 4.67 | H56: 1.89 | I56: 1.5 | J56: =IF('Ekstra - Udfyld din profil'!$C$5="Mænd",E56,IF('Ekstra - Udfyld din profil'!$C$5="Kvinder",I56,"")) -> 1.86 | K56: =IF(AND(ISNUMBER('Ekstra - Udfyld din profil'!$G$5),ISNUMBER(J56)),ABS(J56-'Ekstra - Udfyld din profil'!$G$5),"") -> 0.64

Sheet Ekstra - Udfyld din profil
A1: CYKELNERVEN 2027 · W/kg og effekt af ændring af ydeevne (watt) og vægt (kg)
A2: Som inspiration og indsigt i kravet til f.eks. at køre Alpe d'Huez, så kan du udfylde og opdatere de lyseblå felter i arket. Se scenarier i Alpe d'Huez arket.
A4: Antagelser til brug for estimering | C4: Udfyld data | I4: Fakta om stigningen op til Alpe d'Huez
A5: Referencegruppe - Vælg (Mænd/Kvinder) | C5: Mænd | E5: Din nuværende watt pr./kg | G5: =IF(AND(ISNUMBER(C6),ISNUMBER(C7),C6>0,C7>0),C7/C6,"") -> 2.5 | I5: Antal hårnålesving: 21
A6: Angiv din nuværende vægt (kg) | C6: 80 | I6: Afgang fra Bourg d'Oisans: 717 m
A7: Angiv din FTP i watt (maks. ydeevne 1 time) | C7: 200 | E7: Se i arket 'FTP-niveauer' | G7: =IF(AND(ISNUMBER(G5),OR(C5="Mænd",C5="Kvinder")),INDEX('FTP-niveauer og watt pr. kg'!J5:J56,MATCH(MIN('FTP-niveauer og watt pr. kg'!K5:K56),'FTP-niveauer og watt pr. kg'!K5:K56,0)),"") -> 2.49 | I7: Ankomst i Alpe d'Huez: 1860 m
A8: Angiv et evt. mål for watt pr. kg ved afgang i juni | C8: 2.75 | E8: Se niveauer i arket 'FTP-niveauer' | I8: Højdemeter: 1120 m
A9: Scenarievægt ved afgang i juni (kg) | C9: 76 | E9: Watt pr. kg på stigningen | G9: =IF(AND(ISNUMBER(G5),ISNUMBER(C11),C11>0,C11<=1),G5*C11,"") -> 2.5 | I9: Distance: 13,8 km
A10: Mål for FTP (watt) ved afgang til juni | C10: 215 | I10: Gnm. stigning: 7,9%
A11: Din forventet gennemsnitlige (watt) på stigningen | C11: 1 | E11: Andelen af FTP er en justerbar antagelse. | I11: Maks. stigning: 14%
A12: Samlet vægt af cykel og udstyr (kg) | C12: 10
A14: Målet gælder FTP / kg. (watt pr. kg på stigningen beregnes med den valgte procentvise andel af FTP).
A16: Scenarier | B16: Vægt kg | C16: FTP W | D16: FTP/kg | E16: Ændring W | F16: Ændring kg | G16: Stigning W/kg | H16: Alpe h:mm
A17: Nuværende | B17: =C6 -> 80 | C17: =C7 -> 200 | D17: =IF(AND(ISNUMBER(B17),ISNUMBER(C17),B17>0,C17>0),C17/B17,"") -> 2.5 | E17: =IF(AND(ISNUMBER(D17),ISNUMBER($C$7)),C17-$C$7,"") -> 0 | F17: =IF(AND(ISNUMBER(D17),ISNUMBER($C$6)),B17-$C$6,"") -> 0 | G17: =IF(AND(ISNUMBER(D17),ISNUMBER($C$11),$C$11>0,$C$11<=1),D17*$C$11,"") -> 2.5 | H17: =IF(ISNUMBER('Forudsætninger og beregninger'!T16),ROUND('Forudsætninger og beregninger'!T16*1440,0)/1440,"") -> 0.0625
A18: Mål via watt | B18: =C6 -> 80 | C18: =IF(AND(ISNUMBER(C8),ISNUMBER(C6),C8>0,C6>0),C8*C6,"") -> 220 | D18: =IF(AND(ISNUMBER(B18),ISNUMBER(C18),B18>0,C18>0),C18/B18,"") -> 2.75 | E18: =IF(AND(ISNUMBER(D18),ISNUMBER($C$7)),C18-$C$7,"") -> 20 | F18: =IF(AND(ISNUMBER(D18),ISNUMBER($C$6)),B18-$C$6,"") -> 0 | G18: =IF(AND(ISNUMBER(D18),ISNUMBER($C$11),$C$11>0,$C$11<=1),D18*$C$11,"") -> 2.75 | H18: =IF(ISNUMBER('Forudsætninger og beregninger'!T17),ROUND('Forudsætninger og beregninger'!T17*1440,0)/1440,"") -> 0.056944444
A19: Mål via vægt | B19: =IF(AND(ISNUMBER(C7),ISNUMBER(C8),C7>0,C8>0),C7/C8,"") -> 72.727273 | C19: =C7 -> 200 | D19: =IF(AND(ISNUMBER(B19),ISNUMBER(C19),B19>0,C19>0),C19/B19,"") -> 2.75 | E19: =IF(AND(ISNUMBER(D19),ISNUMBER($C$7)),C19-$C$7,"") -> 0 | F19: =IF(AND(ISNUMBER(D19),ISNUMBER($C$6)),B19-$C$6,"") -> -7.2727273 | G19: =IF(AND(ISNUMBER(D19),ISNUMBER($C$11),$C$11>0,$C$11<=1),D19*$C$11,"") -> 2.75 | H19: =IF(ISNUMBER('Forudsætninger og beregninger'!T18),ROUND('Forudsætninger og beregninger'!T18*1440,0)/1440,"") -> 0.057638889
A20: Din kombination | B20: =C9 -> 76 | C20: =C10 -> 215 | D20: =IF(AND(ISNUMBER(B20),ISNUMBER(C20),B20>0,C20>0),C20/B20,"") -> 2.8289474 | E20: =IF(AND(ISNUMBER(D20),ISNUMBER($C$7)),C20-$C$7,"") -> 15 | F20: =IF(AND(ISNUMBER(D20),ISNUMBER($C$6)),B20-$C$6,"") -> -4 | G20: =IF(AND(ISNUMBER(D20),ISNUMBER($C$11),$C$11>0,$C$11<=1),D20*$C$11,"") -> 2.8289474 | H20: =IF(ISNUMBER('Forudsætninger og beregninger'!T19),ROUND('Forudsætninger og beregninger'!T19*1440,0)/1440,"") -> 0.055555556
A21: Vægtscenarier forudsætter, at FTP bevares. De er regneeksempler, ikke anbefalede vægttab.
A23: W/kg ved forskellige kombinationer af FTP og vægt
A24: Vægt / FTP | B24: =IF(ISNUMBER($C$7),$C$7+-20,"") -> 180 | C24: =IF(ISNUMBER($C$7),$C$7+-10,"") -> 190 | D24: =IF(ISNUMBER($C$7),$C$7+0,"") -> 200 | E24: =IF(ISNUMBER($C$7),$C$7+10,"") -> 210 | F24: =IF(ISNUMBER($C$7),$C$7+20,"") -> 220 | G24: =IF(ISNUMBER($C$7),$C$7+30,"") -> 230 | H24: =IF(ISNUMBER($C$7),$C$7+40,"") -> 240 | I24: =IF(ISNUMBER($C$7),$C$7+50,"") -> 250 | J24: =IF(ISNUMBER($C$7),$C$7+60,"") -> 260
A25: =IF(ISNUMBER($C$6),$C$6+4,"") -> 84 | B25: =IF(AND(ISNUMBER($A25),ISNUMBER(B$24),$A25>0,B$24>0),B$24/$A25,"") -> 2.1428571 | C25: =IF(AND(ISNUMBER($A25),ISNUMBER(C$24),$A25>0,C$24>0),C$24/$A25,"") -> 2.2619048 | D25: =IF(AND(ISNUMBER($A25),ISNUMBER(D$24),$A25>0,D$24>0),D$24/$A25,"") -> 2.3809524 | E25: =IF(AND(ISNUMBER($A25),ISNUMBER(E$24),$A25>0,E$24>0),E$24/$A25,"") -> 2.5 | F25: =IF(AND(ISNUMBER($A25),ISNUMBER(F$24),$A25>0,F$24>0),F$24/$A25,"") -> 2.6190476 | G25: =IF(AND(ISNUMBER($A25),ISNUMBER(G$24),$A25>0,G$24>0),G$24/$A25,"") -> 2.7380952 | H25: =IF(AND(ISNUMBER($A25),ISNUMBER(H$24),$A25>0,H$24>0),H$24/$A25,"") -> 2.8571429 | I25: =IF(AND(ISNUMBER($A25),ISNUMBER(I$24),$A25>0,I$24>0),I$24/$A25,"") -> 2.9761905 | J25: =IF(AND(ISNUMBER($A25),ISNUMBER(J$24),$A25>0,J$24>0),J$24/$A25,"") -> 3.0952381
A26: =IF(ISNUMBER($C$6),$C$6+3,"") -> 83 | B26: =IF(AND(ISNUMBER($A26),ISNUMBER(B$24),$A26>0,B$24>0),B$24/$A26,"") -> 2.1686747 | C26: =IF(AND(ISNUMBER($A26),ISNUMBER(C$24),$A26>0,C$24>0),C$24/$A26,"") -> 2.2891566 | D26: =IF(AND(ISNUMBER($A26),ISNUMBER(D$24),$A26>0,D$24>0),D$24/$A26,"") -> 2.4096386 | E26: =IF(AND(ISNUMBER($A26),ISNUMBER(E$24),$A26>0,E$24>0),E$24/$A26,"") -> 2.5301205 | F26: =IF(AND(ISNUMBER($A26),ISNUMBER(F$24),$A26>0,F$24>0),F$24/$A26,"") -> 2.6506024 | G26: =IF(AND(ISNUMBER($A26),ISNUMBER(G$24),$A26>0,G$24>0),G$24/$A26,"") -> 2.7710843 | H26: =IF(AND(ISNUMBER($A26),ISNUMBER(H$24),$A26>0,H$24>0),H$24/$A26,"") -> 2.8915663 | I26: =IF(AND(ISNUMBER($A26),ISNUMBER(I$24),$A26>0,I$24>0),I$24/$A26,"") -> 3.0120482 | J26: =IF(AND(ISNUMBER($A26),ISNUMBER(J$24),$A26>0,J$24>0),J$24/$A26,"") -> 3.1325301
A27: =IF(ISNUMBER($C$6),$C$6+2,"") -> 82 | B27: =IF(AND(ISNUMBER($A27),ISNUMBER(B$24),$A27>0,B$24>0),B$24/$A27,"") -> 2.195122 | C27: =IF(AND(ISNUMBER($A27),ISNUMBER(C$24),$A27>0,C$24>0),C$24/$A27,"") -> 2.3170732 | D27: =IF(AND(ISNUMBER($A27),ISNUMBER(D$24),$A27>0,D$24>0),D$24/$A27,"") -> 2.4390244 | E27: =IF(AND(ISNUMBER($A27),ISNUMBER(E$24),$A27>0,E$24>0),E$24/$A27,"") -> 2.5609756 | F27: =IF(AND(ISNUMBER($A27),ISNUMBER(F$24),$A27>0,F$24>0),F$24/$A27,"") -> 2.6829268 | G27: =IF(AND(ISNUMBER($A27),ISNUMBER(G$24),$A27>0,G$24>0),G$24/$A27,"") -> 2.804878 | H27: =IF(AND(ISNUMBER($A27),ISNUMBER(H$24),$A27>0,H$24>0),H$24/$A27,"") -> 2.9268293 | I27: =IF(AND(ISNUMBER($A27),ISNUMBER(I$24),$A27>0,I$24>0),I$24/$A27,"") -> 3.0487805 | J27: =IF(AND(ISNUMBER($A27),ISNUMBER(J$24),$A27>0,J$24>0),J$24/$A27,"") -> 3.1707317
A28: =IF(ISNUMBER($C$6),$C$6+1,"") -> 81 | B28: =IF(AND(ISNUMBER($A28),ISNUMBER(B$24),$A28>0,B$24>0),B$24/$A28,"") -> 2.2222222 | C28: =IF(AND(ISNUMBER($A28),ISNUMBER(C$24),$A28>0,C$24>0),C$24/$A28,"") -> 2.345679 | D28: =IF(AND(ISNUMBER($A28),ISNUMBER(D$24),$A28>0,D$24>0),D$24/$A28,"") -> 2.4691358 | E28: =IF(AND(ISNUMBER($A28),ISNUMBER(E$24),$A28>0,E$24>0),E$24/$A28,"") -> 2.5925926 | F28: =IF(AND(ISNUMBER($A28),ISNUMBER(F$24),$A28>0,F$24>0),F$24/$A28,"") -> 2.7160494 | G28: =IF(AND(ISNUMBER($A28),ISNUMBER(G$24),$A28>0,G$24>0),G$24/$A28,"") -> 2.8395062 | H28: =IF(AND(ISNUMBER($A28),ISNUMBER(H$24),$A28>0,H$24>0),H$24/$A28,"") -> 2.962963 | I28: =IF(AND(ISNUMBER($A28),ISNUMBER(I$24),$A28>0,I$24>0),I$24/$A28,"") -> 3.0864198 | J28: =IF(AND(ISNUMBER($A28),ISNUMBER(J$24),$A28>0,J$24>0),J$24/$A28,"") -> 3.2098765
A29: =IF(ISNUMBER($C$6),$C$6+0,"") -> 80 | B29: =IF(AND(ISNUMBER($A29),ISNUMBER(B$24),$A29>0,B$24>0),B$24/$A29,"") -> 2.25 | C29: =IF(AND(ISNUMBER($A29),ISNUMBER(C$24),$A29>0,C$24>0),C$24/$A29,"") -> 2.375 | D29: =IF(AND(ISNUMBER($A29),ISNUMBER(D$24),$A29>0,D$24>0),D$24/$A29,"") -> 2.5 | E29: =IF(AND(ISNUMBER($A29),ISNUMBER(E$24),$A29>0,E$24>0),E$24/$A29,"") -> 2.625 | F29: =IF(AND(ISNUMBER($A29),ISNUMBER(F$24),$A29>0,F$24>0),F$24/$A29,"") -> 2.75 | G29: =IF(AND(ISNUMBER($A29),ISNUMBER(G$24),$A29>0,G$24>0),G$24/$A29,"") -> 2.875 | H29: =IF(AND(ISNUMBER($A29),ISNUMBER(H$24),$A29>0,H$24>0),H$24/$A29,"") -> 3 | I29: =IF(AND(ISNUMBER($A29),ISNUMBER(I$24),$A29>0,I$24>0),I$24/$A29,"") -> 3.125 | J29: =IF(AND(ISNUMBER($A29),ISNUMBER(J$24),$A29>0,J$24>0),J$24/$A29,"") -> 3.25
A30: =IF(ISNUMBER($C$6),$C$6+-1,"") -> 79 | B30: =IF(AND(ISNUMBER($A30),ISNUMBER(B$24),$A30>0,B$24>0),B$24/$A30,"") -> 2.278481 | C30: =IF(AND(ISNUMBER($A30),ISNUMBER(C$24),$A30>0,C$24>0),C$24/$A30,"") -> 2.4050633 | D30: =IF(AND(ISNUMBER($A30),ISNUMBER(D$24),$A30>0,D$24>0),D$24/$A30,"") -> 2.5316456 | E30: =IF(AND(ISNUMBER($A30),ISNUMBER(E$24),$A30>0,E$24>0),E$24/$A30,"") -> 2.6582278 | F30: =IF(AND(ISNUMBER($A30),ISNUMBER(F$24),$A30>0,F$24>0),F$24/$A30,"") -> 2.7848101 | G30: =IF(AND(ISNUMBER($A30),ISNUMBER(G$24),$A30>0,G$24>0),G$24/$A30,"") -> 2.9113924 | H30: =IF(AND(ISNUMBER($A30),ISNUMBER(H$24),$A30>0,H$24>0),H$24/$A30,"") -> 3.0379747 | I30: =IF(AND(ISNUMBER($A30),ISNUMBER(I$24),$A30>0,I$24>0),I$24/$A30,"") -> 3.164557 | J30: =IF(AND(ISNUMBER($A30),ISNUMBER(J$24),$A30>0,J$24>0),J$24/$A30,"") -> 3.2911392
A31: =IF(ISNUMBER($C$6),$C$6+-2,"") -> 78 | B31: =IF(AND(ISNUMBER($A31),ISNUMBER(B$24),$A31>0,B$24>0),B$24/$A31,"") -> 2.3076923 | C31: =IF(AND(ISNUMBER($A31),ISNUMBER(C$24),$A31>0,C$24>0),C$24/$A31,"") -> 2.4358974 | D31: =IF(AND(ISNUMBER($A31),ISNUMBER(D$24),$A31>0,D$24>0),D$24/$A31,"") -> 2.5641026 | E31: =IF(AND(ISNUMBER($A31),ISNUMBER(E$24),$A31>0,E$24>0),E$24/$A31,"") -> 2.6923077 | F31: =IF(AND(ISNUMBER($A31),ISNUMBER(F$24),$A31>0,F$24>0),F$24/$A31,"") -> 2.8205128 | G31: =IF(AND(ISNUMBER($A31),ISNUMBER(G$24),$A31>0,G$24>0),G$24/$A31,"") -> 2.9487179 | H31: =IF(AND(ISNUMBER($A31),ISNUMBER(H$24),$A31>0,H$24>0),H$24/$A31,"") -> 3.0769231 | I31: =IF(AND(ISNUMBER($A31),ISNUMBER(I$24),$A31>0,I$24>0),I$24/$A31,"") -> 3.2051282 | J31: =IF(AND(ISNUMBER($A31),ISNUMBER(J$24),$A31>0,J$24>0),J$24/$A31,"") -> 3.3333333
A32: =IF(ISNUMBER($C$6),$C$6+-3,"") -> 77 | B32: =IF(AND(ISNUMBER($A32),ISNUMBER(B$24),$A32>0,B$24>0),B$24/$A32,"") -> 2.3376623 | C32: =IF(AND(ISNUMBER($A32),ISNUMBER(C$24),$A32>0,C$24>0),C$24/$A32,"") -> 2.4675325 | D32: =IF(AND(ISNUMBER($A32),ISNUMBER(D$24),$A32>0,D$24>0),D$24/$A32,"") -> 2.5974026 | E32: =IF(AND(ISNUMBER($A32),ISNUMBER(E$24),$A32>0,E$24>0),E$24/$A32,"") -> 2.7272727 | F32: =IF(AND(ISNUMBER($A32),ISNUMBER(F$24),$A32>0,F$24>0),F$24/$A32,"") -> 2.8571429 | G32: =IF(AND(ISNUMBER($A32),ISNUMBER(G$24),$A32>0,G$24>0),G$24/$A32,"") -> 2.987013 | H32: =IF(AND(ISNUMBER($A32),ISNUMBER(H$24),$A32>0,H$24>0),H$24/$A32,"") -> 3.1168831 | I32: =IF(AND(ISNUMBER($A32),ISNUMBER(I$24),$A32>0,I$24>0),I$24/$A32,"") -> 3.2467532 | J32: =IF(AND(ISNUMBER($A32),ISNUMBER(J$24),$A32>0,J$24>0),J$24/$A32,"") -> 3.3766234
A33: =IF(ISNUMBER($C$6),$C$6+-4,"") -> 76 | B33: =IF(AND(ISNUMBER($A33),ISNUMBER(B$24),$A33>0,B$24>0),B$24/$A33,"") -> 2.3684211 | C33: =IF(AND(ISNUMBER($A33),ISNUMBER(C$24),$A33>0,C$24>0),C$24/$A33,"") -> 2.5 | D33: =IF(AND(ISNUMBER($A33),ISNUMBER(D$24),$A33>0,D$24>0),D$24/$A33,"") -> 2.6315789 | E33: =IF(AND(ISNUMBER($A33),ISNUMBER(E$24),$A33>0,E$24>0),E$24/$A33,"") -> 2.7631579 | F33: =IF(AND(ISNUMBER($A33),ISNUMBER(F$24),$A33>0,F$24>0),F$24/$A33,"") -> 2.8947368 | G33: =IF(AND(ISNUMBER($A33),ISNUMBER(G$24),$A33>0,G$24>0),G$24/$A33,"") -> 3.0263158 | H33: =IF(AND(ISNUMBER($A33),ISNUMBER(H$24),$A33>0,H$24>0),H$24/$A33,"") -> 3.1578947 | I33: =IF(AND(ISNUMBER($A33),ISNUMBER(I$24),$A33>0,I$24>0),I$24/$A33,"") -> 3.2894737 | J33: =IF(AND(ISNUMBER($A33),ISNUMBER(J$24),$A33>0,J$24>0),J$24/$A33,"") -> 3.4210526
A35: Grøn: Mindst dit W/kg-mål. Orange ramme: din nuværende kombination.
A36: Referencetabellen bevarer alle otte kategorinavne og alle niveauer fra w/kg. billedet - Se forudsætningsarket
A37: Kategoriernes overlappende parenteser bruges ikke som entydige grænser.

Sheet Scenario med tid på Alpe d'Huez
A1: Hvad betyder watt og vægt for din tid til toppen af f.eks. Alpe d’Huez?
A3: Modelantagelser for 13,8 km og 1.120 højdemeter. Beregningen benytter dine rytterdata og tal fra arket 'Forudsætninger og beregninger''.
A4: Tiderne vises som timer:minutter. Der antages ingen vind eller pauser undervejs. Disse forudsætninger er fælles for alle scenarier.
A6: Scenarie | B6: Vægt kg | C6: FTP W | D6: FTP/kg | E6: Effekt W | F6: Stigning W/kg | G6: Tid h:mm | H6: Sparet min.
A7: ='Forudsætninger og beregninger'!A16 -> Nuværende | B7: =IF(ISNUMBER('Forudsætninger og beregninger'!B16),'Forudsætninger og beregninger'!B16,"") -> 80 | C7: =IF(ISNUMBER('Forudsætninger og beregninger'!C16),'Forudsætninger og beregninger'!C16,"") -> 200 | D7: ='Ekstra - Udfyld din profil'!D17 -> 2.5 | E7: =IF(ISNUMBER('Forudsætninger og beregninger'!E16),'Forudsætninger og beregninger'!E16,"") -> 200 | F7: =IF(ISNUMBER('Forudsætninger og beregninger'!F16),'Forudsætninger og beregninger'!F16,"") -> 2.5 | G7: =IF(ISNUMBER('Forudsætninger og beregninger'!T16),ROUND('Forudsætninger og beregninger'!T16*1440,0)/1440,"") -> 0.0625 | H7: =IF(AND(ISNUMBER('Forudsætninger og beregninger'!T$16),ISNUMBER('Forudsætninger og beregninger'!T16)),('Forudsætninger og beregninger'!T$16-'Forudsætninger og beregninger'!T16)*1440,"") -> 0
A8: ='Forudsætninger og beregninger'!A17 -> Mål via watt | B8: =IF(ISNUMBER('Forudsætninger og beregninger'!B17),'Forudsætninger og beregninger'!B17,"") -> 80 | C8: =IF(ISNUMBER('Forudsætninger og beregninger'!C17),'Forudsætninger og beregninger'!C17,"") -> 220 | D8: ='Ekstra - Udfyld din profil'!D18 -> 2.75 | E8: =IF(ISNUMBER('Forudsætninger og beregninger'!E17),'Forudsætninger og beregninger'!E17,"") -> 220 | F8: =IF(ISNUMBER('Forudsætninger og beregninger'!F17),'Forudsætninger og beregninger'!F17,"") -> 2.75 | G8: =IF(ISNUMBER('Forudsætninger og beregninger'!T17),ROUND('Forudsætninger og beregninger'!T17*1440,0)/1440,"") -> 0.056944444 | H8: =IF(AND(ISNUMBER('Forudsætninger og beregninger'!T$16),ISNUMBER('Forudsætninger og beregninger'!T17)),('Forudsætninger og beregninger'!T$16-'Forudsætninger og beregninger'!T17)*1440,"") -> 7.9356874
A9: ='Forudsætninger og beregninger'!A18 -> Mål via vægt | B9: =IF(ISNUMBER('Forudsætninger og beregninger'!B18),'Forudsætninger og beregninger'!B18,"") -> 72.727273 | C9: =IF(ISNUMBER('Forudsætninger og beregninger'!C18),'Forudsætninger og beregninger'!C18,"") -> 200 | D9: ='Ekstra - Udfyld din profil'!D19 -> 2.75 | E9: =IF(ISNUMBER('Forudsætninger og beregninger'!E18),'Forudsætninger og beregninger'!E18,"") -> 200 | F9: =IF(ISNUMBER('Forudsætninger og beregninger'!F18),'Forudsætninger og beregninger'!F18,"") -> 2.75 | G9: =IF(ISNUMBER('Forudsætninger og beregninger'!T18),ROUND('Forudsætninger og beregninger'!T18*1440,0)/1440,"") -> 0.057638889 | H9: =IF(AND(ISNUMBER('Forudsætninger og beregninger'!T$16),ISNUMBER('Forudsætninger og beregninger'!T18)),('Forudsætninger og beregninger'!T$16-'Forudsætninger og beregninger'!T18)*1440,"") -> 6.9350199
A10: ='Forudsætninger og beregninger'!A19 -> Din kombination | B10: =IF(ISNUMBER('Forudsætninger og beregninger'!B19),'Forudsætninger og beregninger'!B19,"") -> 76 | C10: =IF(ISNUMBER('Forudsætninger og beregninger'!C19),'Forudsætninger og beregninger'!C19,"") -> 215 | D10: ='Ekstra - Udfyld din profil'!D20 -> 2.8289474 | E10: =IF(ISNUMBER('Forudsætninger og beregninger'!E19),'Forudsætninger og beregninger'!E19,"") -> 215 | F10: =IF(ISNUMBER('Forudsætninger og beregninger'!F19),'Forudsætninger og beregninger'!F19,"") -> 2.8289474 | G10: =IF(ISNUMBER('Forudsætninger og beregninger'!T19),ROUND('Forudsætninger og beregninger'!T19*1440,0)/1440,"") -> 0.055555556 | H10: =IF(AND(ISNUMBER('Forudsætninger og beregninger'!T$16),ISNUMBER('Forudsætninger og beregninger'!T19)),('Forudsætninger og beregninger'!T$16-'Forudsætninger og beregninger'!T19)*1440,"") -> 9.6306699
A12: Den valgte andel af FTP er en antagelse. Holdbar effekt afhænger bl.a. af varighed, højde og træthed.
A13: En vægtreduktion giver kun den viste gevinst, hvis effekten kan bevares. Modellen giver ikke vægtråd.
A15: FTP-fremgang | B15: Nuværende vægt | C15: Scenarie vægt | D15: Nuværende tid
A16: 0 | B16: =IF(ISNUMBER('Forudsætninger og beregninger'!T20),ROUND('Forudsætninger og beregninger'!T20*1440,0)/1440,NA()) -> 0.0625 | C16: =IF(ISNUMBER('Forudsætninger og beregninger'!T21),ROUND('Forudsætninger og beregninger'!T21*1440,0)/1440,NA()) -> 0.059722222 | D16: =IF(ISNUMBER($G$7),$G$7,NA()) -> 0.0625
A17: 0.025 | B17: =IF(ISNUMBER('Forudsætninger og beregninger'!T22),ROUND('Forudsætninger og beregninger'!T22*1440,0)/1440,NA()) -> 0.061111111 | C17: =IF(ISNUMBER('Forudsætninger og beregninger'!T23),ROUND('Forudsætninger og beregninger'!T23*1440,0)/1440,NA()) -> 0.058333333 | D17: =IF(ISNUMBER($G$7),$G$7,NA()) -> 0.0625
A18: 0.05 | B18: =IF(ISNUMBER('Forudsætninger og beregninger'!T24),ROUND('Forudsætninger og beregninger'!T24*1440,0)/1440,NA()) -> 0.059722222 | C18: =IF(ISNUMBER('Forudsætninger og beregninger'!T25),ROUND('Forudsætninger og beregninger'!T25*1440,0)/1440,NA()) -> 0.056944444 | D18: =IF(ISNUMBER($G$7),$G$7,NA()) -> 0.0625
A19: 0.075 | B19: =IF(ISNUMBER('Forudsætninger og beregninger'!T26),ROUND('Forudsætninger og beregninger'!T26*1440,0)/1440,NA()) -> 0.058333333 | C19: =IF(ISNUMBER('Forudsætninger og beregninger'!T27),ROUND('Forudsætninger og beregninger'!T27*1440,0)/1440,NA()) -> 0.055555556 | D19: =IF(ISNUMBER($G$7),$G$7,NA()) -> 0.0625
A20: 0.1 | B20: =IF(ISNUMBER('Forudsætninger og beregninger'!T28),ROUND('Forudsætninger og beregninger'!T28*1440,0)/1440,NA()) -> 0.056944444 | C20: =IF(ISNUMBER('Forudsætninger og beregninger'!T29),ROUND('Forudsætninger og beregninger'!T29*1440,0)/1440,NA()) -> 0.054861111 | D20: =IF(ISNUMBER($G$7),$G$7,NA()) -> 0.0625
A21: 0.125 | B21: =IF(ISNUMBER('Forudsætninger og beregninger'!T30),ROUND('Forudsætninger og beregninger'!T30*1440,0)/1440,NA()) -> 0.055555556 | C21: =IF(ISNUMBER('Forudsætninger og beregninger'!T31),ROUND('Forudsætninger og beregninger'!T31*1440,0)/1440,NA()) -> 0.053472222 | D21: =IF(ISNUMBER($G$7),$G$7,NA()) -> 0.0625
A22: 0.15 | B22: =IF(ISNUMBER('Forudsætninger og beregninger'!T32),ROUND('Forudsætninger og beregninger'!T32*1440,0)/1440,NA()) -> 0.054861111 | C22: =IF(ISNUMBER('Forudsætninger og beregninger'!T33),ROUND('Forudsætninger og beregninger'!T33*1440,0)/1440,NA()) -> 0.052083333 | D22: =IF(ISNUMBER($G$7),$G$7,NA()) -> 0.0625
A23: 0.175 | B23: =IF(ISNUMBER('Forudsætninger og beregninger'!T34),ROUND('Forudsætninger og beregninger'!T34*1440,0)/1440,NA()) -> 0.053472222 | C23: =IF(ISNUMBER('Forudsætninger og beregninger'!T35),ROUND('Forudsætninger og beregninger'!T35*1440,0)/1440,NA()) -> 0.051388889 | D23: =IF(ISNUMBER($G$7),$G$7,NA()) -> 0.0625
A24: 0.2 | B24: =IF(ISNUMBER('Forudsætninger og beregninger'!T36),ROUND('Forudsætninger og beregninger'!T36*1440,0)/1440,NA()) -> 0.052083333 | C24: =IF(ISNUMBER('Forudsætninger og beregninger'!T37),ROUND('Forudsætninger og beregninger'!T37*1440,0)/1440,NA()) -> 0.05 | D24: =IF(ISNUMBER($G$7),$G$7,NA()) -> 0.0625
A25: Kurverne viser samme FTP-fremgang ved to vægte.
A26: Den grønne linje er din nuværende beregnede tid.
A28: Fra W/kg på stigningen til opstigningstid
A29: Tabellen bruger din nuværende vægt. W/kg er faktisk effekt på stigningen, ikke FTP/kg.
A30: Stigning w/kg | B30: Effekt (w) | C30: Krævet FTP (w) | D30: Tid h:mm | E30: Minutter
A31: 1.5 | B31: =IF(AND(ISNUMBER('Ekstra - Udfyld din profil'!$C$6),'Ekstra - Udfyld din profil'!$C$6>0),A31*'Ekstra - Udfyld din profil'!$C$6,"") -> 120 | C31: =IF(AND(ISNUMBER(B31),ISNUMBER('Ekstra - Udfyld din profil'!$C$11),'Ekstra - Udfyld din profil'!$C$11>0,'Ekstra - Udfyld din profil'!$C$11<=1),B31/'Ekstra - Udfyld din profil'!$C$11,"") -> 120 | D31: =IF(ISNUMBER(E31),ROUND(E31,0)/1440,"") -> 0.10347222 | E31: =IF(ISNUMBER('Forudsætninger og beregninger'!U38),'Forudsætninger og beregninger'!U38,"") -> 148.53009
A32: 1.75 | B32: =IF(AND(ISNUMBER('Ekstra - Udfyld din profil'!$C$6),'Ekstra - Udfyld din profil'!$C$6>0),A32*'Ekstra - Udfyld din profil'!$C$6,"") -> 140 | C32: =IF(AND(ISNUMBER(B32),ISNUMBER('Ekstra - Udfyld din profil'!$C$11),'Ekstra - Udfyld din profil'!$C$11>0,'Ekstra - Udfyld din profil'!$C$11<=1),B32/'Ekstra - Udfyld din profil'!$C$11,"") -> 140 | D32: =IF(ISNUMBER(E32),ROUND(E32,0)/1440,"") -> 0.088888889 | E32: =IF(ISNUMBER('Forudsætninger og beregninger'!U39),'Forudsætninger og beregninger'!U39,"") -> 127.55539
A33: 2 | B33: =IF(AND(ISNUMBER('Ekstra - Udfyld din profil'!$C$6),'Ekstra - Udfyld din profil'!$C$6>0),A33*'Ekstra - Udfyld din profil'!$C$6,"") -> 160 | C33: =IF(AND(ISNUMBER(B33),ISNUMBER('Ekstra - Udfyld din profil'!$C$11),'Ekstra - Udfyld din profil'!$C$11>0,'Ekstra - Udfyld din profil'!$C$11<=1),B33/'Ekstra - Udfyld din profil'!$C$11,"") -> 160 | D33: =IF(ISNUMBER(E33),ROUND(E33,0)/1440,"") -> 0.077777778 | E33: =IF(ISNUMBER('Forudsætninger og beregninger'!U40),'Forudsætninger og beregninger'!U40,"") -> 111.85521
A34: 2.25 | B34: =IF(AND(ISNUMBER('Ekstra - Udfyld din profil'!$C$6),'Ekstra - Udfyld din profil'!$C$6>0),A34*'Ekstra - Udfyld din profil'!$C$6,"") -> 180 | C34: =IF(AND(ISNUMBER(B34),ISNUMBER('Ekstra - Udfyld din profil'!$C$11),'Ekstra - Udfyld din profil'!$C$11>0,'Ekstra - Udfyld din profil'!$C$11<=1),B34/'Ekstra - Udfyld din profil'!$C$11,"") -> 180 | D34: =IF(ISNUMBER(E34),ROUND(E34,0)/1440,"") -> 0.069444444 | E34: =IF(ISNUMBER('Forudsætninger og beregninger'!U41),'Forudsætninger og beregninger'!U41,"") -> 99.670668
A35: 2.5 | B35: =IF(AND(ISNUMBER('Ekstra - Udfyld din profil'!$C$6),'Ekstra - Udfyld din profil'!$C$6>0),A35*'Ekstra - Udfyld din profil'!$C$6,"") -> 200 | C35: =IF(AND(ISNUMBER(B35),ISNUMBER('Ekstra - Udfyld din profil'!$C$11),'Ekstra - Udfyld din profil'!$C$11>0,'Ekstra - Udfyld din profil'!$C$11<=1),B35/'Ekstra - Udfyld din profil'!$C$11,"") -> 200 | D35: =IF(ISNUMBER(E35),ROUND(E35,0)/1440,"") -> 0.0625 | E35: =IF(ISNUMBER('Forudsætninger og beregninger'!U42),'Forudsætninger og beregninger'!U42,"") -> 89.946378
A36: 2.75 | B36: =IF(AND(ISNUMBER('Ekstra - Udfyld din profil'!$C$6),'Ekstra - Udfyld din profil'!$C$6>0),A36*'Ekstra - Udfyld din profil'!$C$6,"") -> 220 | C36: =IF(AND(ISNUMBER(B36),ISNUMBER('Ekstra - Udfyld din profil'!$C$11),'Ekstra - Udfyld din profil'!$C$11>0,'Ekstra - Udfyld din profil'!$C$11<=1),B36/'Ekstra - Udfyld din profil'!$C$11,"") -> 220 | D36: =IF(ISNUMBER(E36),ROUND(E36,0)/1440,"") -> 0.056944444 | E36: =IF(ISNUMBER('Forudsætninger og beregninger'!U43),'Forudsætninger og beregninger'!U43,"") -> 82.010691
A37: 3 | B37: =IF(AND(ISNUMBER('Ekstra - Udfyld din profil'!$C$6),'Ekstra - Udfyld din profil'!$C$6>0),A37*'Ekstra - Udfyld din profil'!$C$6,"") -> 240 | C37: =IF(AND(ISNUMBER(B37),ISNUMBER('Ekstra - Udfyld din profil'!$C$11),'Ekstra - Udfyld din profil'!$C$11>0,'Ekstra - Udfyld din profil'!$C$11<=1),B37/'Ekstra - Udfyld din profil'!$C$11,"") -> 240 | D37: =IF(ISNUMBER(E37),ROUND(E37,0)/1440,"") -> 0.052083333 | E37: =IF(ISNUMBER('Forudsætninger og beregninger'!U44),'Forudsætninger og beregninger'!U44,"") -> 75.415805
A38: 3.25 | B38: =IF(AND(ISNUMBER('Ekstra - Udfyld din profil'!$C$6),'Ekstra - Udfyld din profil'!$C$6>0),A38*'Ekstra - Udfyld din profil'!$C$6,"") -> 260 | C38: =IF(AND(ISNUMBER(B38),ISNUMBER('Ekstra - Udfyld din profil'!$C$11),'Ekstra - Udfyld din profil'!$C$11>0,'Ekstra - Udfyld din profil'!$C$11<=1),B38/'Ekstra - Udfyld din profil'!$C$11,"") -> 260 | D38: =IF(ISNUMBER(E38),ROUND(E38,0)/1440,"") -> 0.048611111 | E38: =IF(ISNUMBER('Forudsætninger og beregninger'!U45),'Forudsætninger og beregninger'!U45,"") -> 69.851682
A39: 3.5 | B39: =IF(AND(ISNUMBER('Ekstra - Udfyld din profil'!$C$6),'Ekstra - Udfyld din profil'!$C$6>0),A39*'Ekstra - Udfyld din profil'!$C$6,"") -> 280 | C39: =IF(AND(ISNUMBER(B39),ISNUMBER('Ekstra - Udfyld din profil'!$C$11),'Ekstra - Udfyld din profil'!$C$11>0,'Ekstra - Udfyld din profil'!$C$11<=1),B39/'Ekstra - Udfyld din profil'!$C$11,"") -> 280 | D39: =IF(ISNUMBER(E39),ROUND(E39,0)/1440,"") -> 0.045138889 | E39: =IF(ISNUMBER('Forudsætninger og beregninger'!U46),'Forudsætninger og beregninger'!U46,"") -> 65.096849
A40: 3.75 | B40: =IF(AND(ISNUMBER('Ekstra - Udfyld din profil'!$C$6),'Ekstra - Udfyld din profil'!$C$6>0),A40*'Ekstra - Udfyld din profil'!$C$6,"") -> 300 | C40: =IF(AND(ISNUMBER(B40),ISNUMBER('Ekstra - Udfyld din profil'!$C$11),'Ekstra - Udfyld din profil'!$C$11>0,'Ekstra - Udfyld din profil'!$C$11<=1),B40/'Ekstra - Udfyld din profil'!$C$11,"") -> 300 | D40: =IF(ISNUMBER(E40),ROUND(E40,0)/1440,"") -> 0.042361111 | E40: =IF(ISNUMBER('Forudsætninger og beregninger'!U47),'Forudsætninger og beregninger'!U47,"") -> 60.988881
A41: 4 | B41: =IF(AND(ISNUMBER('Ekstra - Udfyld din profil'!$C$6),'Ekstra - Udfyld din profil'!$C$6>0),A41*'Ekstra - Udfyld din profil'!$C$6,"") -> 320 | C41: =IF(AND(ISNUMBER(B41),ISNUMBER('Ekstra - Udfyld din profil'!$C$11),'Ekstra - Udfyld din profil'!$C$11>0,'Ekstra - Udfyld din profil'!$C$11<=1),B41/'Ekstra - Udfyld din profil'!$C$11,"") -> 320 | D41: =IF(ISNUMBER(E41),ROUND(E41,0)/1440,"") -> 0.039583333 | E41: =IF(ISNUMBER('Forudsætninger og beregninger'!U48),'Forudsætninger og beregninger'!U48,"") -> 57.405957
A42: 4.25 | B42: =IF(AND(ISNUMBER('Ekstra - Udfyld din profil'!$C$6),'Ekstra - Udfyld din profil'!$C$6>0),A42*'Ekstra - Udfyld din profil'!$C$6,"") -> 340 | C42: =IF(AND(ISNUMBER(B42),ISNUMBER('Ekstra - Udfyld din profil'!$C$11),'Ekstra - Udfyld din profil'!$C$11>0,'Ekstra - Udfyld din profil'!$C$11<=1),B42/'Ekstra - Udfyld din profil'!$C$11,"") -> 340 | D42: =IF(ISNUMBER(E42),ROUND(E42,0)/1440,"") -> 0.0375 | E42: =IF(ISNUMBER('Forudsætninger og beregninger'!U49),'Forudsætninger og beregninger'!U49,"") -> 54.254918
... A47: 5.5 | B47: =IF(AND(ISNUMBER('Ekstra - Udfyld din profil'!$C$6),'Ekstra - Udfyld din profil'!$C$6>0),A47*'Ekstra - Udfyld din profil'!$C$6,"") -> 440 | C47: =IF(AND(ISNUMBER(B47),ISNUMBER('Ekstra - Udfyld din profil'!$C$11),'Ekstra - Udfyld din profil'!$C$11>0,'Ekstra - Udfyld din profil'!$C$11<=1),B47/'Ekstra - Udfyld din profil'!$C$11,"") -> 440 | D47: =IF(ISNUMBER(E47),ROUND(E47,0)/1440,"") -> 0.029861111 | E47: =IF(ISNUMBER('Forudsætninger og beregninger'!U54),'Forudsætninger og beregninger'!U54,"") -> 42.903354
A50: Samme w/kg giver ikke præcis samme tid for alle: Cykelvægt og luftmodstand indgår også. Kurverne er beregnede sammenhænge.

Sheet Forudsætninger og beregninger
A1: Forudsætninger og beregningsmodel
A2: (UNDGÅ AF ÆNDRE ELLER SLETTE NEDENSTÅENDE BEREGNINGER - DE ER GRUNDLAG FOR MODELLEN OG HENVISNINGERNE)
A3: Længde km | B3: 13.8 | D3: Rute: Alpe d’Huez Tourisme, The 21 bends, nøgledata. Længde og højdemeter kan ændres.
A4: Højdemeter m | B4: 1120 | D4: https://www.alpedhuez.com/en/activities/summer-activities/bike/the-21-bends/
A5: Cykel og udstyr kg | B5: ='Ekstra - Udfyld din profil'!C12 -> 10
A6: Rullemodstand Crr | B6: 0.004 | D6: Crr, CdA, lufttæthed og virkningsgrad er illustrerende modelantagelser, ikke målte rytterdata.
A7: Luftmodstandsareal CdA | B7: 0.32 | D7: Stilstandsfri kørsel, vindstille og konstant effekt på en stigning med gennemsnitlig hældning.
A8: Lufttæthed kg/m³ | B8: 1.06 | D8: Modellen medtager tyngde, rulning, luftmodstand og drivlinjetab; ikke sving, acceleration eller pauser.
A9: Drivlinjens virkningsgrad | B9: 0.975 | D9: Fysisk grundlag: Martin m.fl. (1998). Forenklet model; ingen selvstændig validering på Alpe d’Huez.
A10: Tyngdeacceleration | B10: 9.80665 | D10: https://collections.lib.utah.edu/dl_files/b4/8e/b48ef26086091662c561e673d7bd990d77868437.pdf
A11: Andel af FTP | B11: ='Ekstra - Udfyld din profil'!C11 -> 1 | D11: Form: P ved hjulet = F·v + k·v³. Hastigheden løses i otte faste trin uden cirkulære formler.
A14: (UNDGÅ AF ÆNDRE ELLER SLETTE NEDENSTÅENDE BEREGNINGER - DE ER GRUNDLAG FOR MODELLEN OG HENVISNINGERNE)
A15: Scenarie | B15: Rytter kg | C15: FTP W | D15: FTP-andel | E15: Effekt W | F15: Effekt W/kg | G15: Total kg | H15: Kraft N | I15: Luftfaktor | J15: Hjuleffekt | K15: Start m/s | L15: Trin 1 | M15: Trin 2 | N15: Trin 3 | O15: Trin 4 | P15: Trin 5 | Q15: Trin 6 | R15: Trin 7 | S15: Trin 8 m/s | T15: Tid døgn | U15: Tid minutter
A16: Nuværende | B16: ='Ekstra - Udfyld din profil'!B17 -> 80 | C16: ='Ekstra - Udfyld din profil'!C17 -> 200 | D16: =$B$11 -> 1 | E16: =IF(AND(ISNUMBER(B16),B16>0,ISNUMBER(C16),C16>0,ISNUMBER(D16),D16>0,D16<=1,ISNUMBER($B$5),$B$5>=0),C16*D16,"") -> 200 | F16: =IF(ISNUMBER(E16),E16/B16,"") -> 2.5 | G16: =IF(ISNUMBER(E16),B16+$B$5,"") -> 90 | H16: =IF(ISNUMBER(E16),G16*$B$10*($B$4/($B$3*1000)+$B$6*SQRT(1-($B$4/($B$3*1000))^2)),"") -> 75.14993 | I16: =0.5*$B$8*$B$7 -> 0.1696 | J16: =IF(ISNUMBER(E16),E16*$B$9,"") -> 195 | K16: =IF(ISNUMBER(E16),MIN(J16/H16,(J16/I16)^(1/3)),"") -> 2.5948128 | L16: =IF(ISNUMBER(E16),K16-(I16*K16^3+H16*K16-J16)/(3*I16*K16^2+H16),"") -> 2.5571029 | M16: =IF(ISNUMBER(E16),L16-(I16*L16^3+H16*L16-J16)/(3*I16*L16^2+H16),"") -> 2.5570791 | N16: =IF(ISNUMBER(E16),M16-(I16*M16^3+H16*M16-J16)/(3*I16*M16^2+H16),"") -> 2.5570791 | O16: =IF(ISNUMBER(E16),N16-(I16*N16^3+H16*N16-J16)/(3*I16*N16^2+H16),"") -> 2.5570791 | P16: =IF(ISNUMBER(E16),O16-(I16*O16^3+H16*O16-J16)/(3*I16*O16^2+H16),"") -> 2.5570791 | Q16: =IF(ISNUMBER(E16),P16-(I16*P16^3+H16*P16-J16)/(3*I16*P16^2+H16),"") -> 2.5570791 | R16: =IF(ISNUMBER(E16),Q16-(I16*Q16^3+H16*Q16-J16)/(3*I16*Q16^2+H16),"") -> 2.5570791 | S16: =IF(ISNUMBER(E16),R16-(I16*R16^3+H16*R16-J16)/(3*I16*R16^2+H16),"") -> 2.5570791 | T16: =IF(ISNUMBER(E16),$B$3*1000/S16/86400,"") -> 0.062462763 | U16: =IF(ISNUMBER(T16),T16*1440,"") -> 89.946378 | W16: FTP-fremgang
A17: Mål via watt | B17: ='Ekstra - Udfyld din profil'!B18 -> 80 | C17: ='Ekstra - Udfyld din profil'!C18 -> 220 | D17: =$B$11 -> 1 | E17: =IF(AND(ISNUMBER(B17),B17>0,ISNUMBER(C17),C17>0,ISNUMBER(D17),D17>0,D17<=1,ISNUMBER($B$5),$B$5>=0),C17*D17,"") -> 220 | F17: =IF(ISNUMBER(E17),E17/B17,"") -> 2.75 | G17: =IF(ISNUMBER(E17),B17+$B$5,"") -> 90 | H17: =IF(ISNUMBER(E17),G17*$B$10*($B$4/($B$3*1000)+$B$6*SQRT(1-($B$4/($B$3*1000))^2)),"") -> 75.14993 | I17: =0.5*$B$8*$B$7 -> 0.1696 | J17: =IF(ISNUMBER(E17),E17*$B$9,"") -> 214.5 | K17: =IF(ISNUMBER(E17),MIN(J17/H17,(J17/I17)^(1/3)),"") -> 2.8542941 | L17: =IF(ISNUMBER(E17),K17-(I17*K17^3+H17*K17-J17)/(3*I17*K17^2+H17),"") -> 2.8045575 | M17: =IF(ISNUMBER(E17),L17-(I17*L17^3+H17*L17-J17)/(3*I17*L17^2+H17),"") -> 2.8045124 | N17: =IF(ISNUMBER(E17),M17-(I17*M17^3+H17*M17-J17)/(3*I17*M17^2+H17),"") -> 2.8045124 | O17: =IF(ISNUMBER(E17),N17-(I17*N17^3+H17*N17-J17)/(3*I17*N17^2+H17),"") -> 2.8045124 | P17: =IF(ISNUMBER(E17),O17-(I17*O17^3+H17*O17-J17)/(3*I17*O17^2+H17),"") -> 2.8045124 | Q17: =IF(ISNUMBER(E17),P17-(I17*P17^3+H17*P17-J17)/(3*I17*P17^2+H17),"") -> 2.8045124 | R17: =IF(ISNUMBER(E17),Q17-(I17*Q17^3+H17*Q17-J17)/(3*I17*Q17^2+H17),"") -> 2.8045124 | S17: =IF(ISNUMBER(E17),R17-(I17*R17^3+H17*R17-J17)/(3*I17*R17^2+H17),"") -> 2.8045124 | T17: =IF(ISNUMBER(E17),$B$3*1000/S17/86400,"") -> 0.056951869 | U17: =IF(ISNUMBER(T17),T17*1440,"") -> 82.010691 | W17: =TEXT('Scenario med tid på Alpe d''Huez'!A16,"0.0%") -> 00%
A18: Mål via vægt | B18: ='Ekstra - Udfyld din profil'!B19 -> 72.727273 | C18: ='Ekstra - Udfyld din profil'!C19 -> 200 | D18: =$B$11 -> 1 | E18: =IF(AND(ISNUMBER(B18),B18>0,ISNUMBER(C18),C18>0,ISNUMBER(D18),D18>0,D18<=1,ISNUMBER($B$5),$B$5>=0),C18*D18,"") -> 200 | F18: =IF(ISNUMBER(E18),E18/B18,"") -> 2.75 | G18: =IF(ISNUMBER(E18),B18+$B$5,"") -> 82.727273 | H18: =IF(ISNUMBER(E18),G18*$B$10*($B$4/($B$3*1000)+$B$6*SQRT(1-($B$4/($B$3*1000))^2)),"") -> 69.077209 | I18: =0.5*$B$8*$B$7 -> 0.1696 | J18: =IF(ISNUMBER(E18),E18*$B$9,"") -> 195 | K18: =IF(ISNUMBER(E18),MIN(J18/H18,(J18/I18)^(1/3)),"") -> 2.8229282 | L18: =IF(ISNUMBER(E18),K18-(I18*K18^3+H18*K18-J18)/(3*I18*K18^2+H18),"") -> 2.7707584 | M18: =IF(ISNUMBER(E18),L18-(I18*L18^3+H18*L18-J18)/(3*I18*L18^2+H18),"") -> 2.7707052 | N18: =IF(ISNUMBER(E18),M18-(I18*M18^3+H18*M18-J18)/(3*I18*M18^2+H18),"") -> 2.7707052 | O18: =IF(ISNUMBER(E18),N18-(I18*N18^3+H18*N18-J18)/(3*I18*N18^2+H18),"") -> 2.7707052 | P18: =IF(ISNUMBER(E18),O18-(I18*O18^3+H18*O18-J18)/(3*I18*O18^2+H18),"") -> 2.7707052 | Q18: =IF(ISNUMBER(E18),P18-(I18*P18^3+H18*P18-J18)/(3*I18*P18^2+H18),"") -> 2.7707052 | R18: =IF(ISNUMBER(E18),Q18-(I18*Q18^3+H18*Q18-J18)/(3*I18*Q18^2+H18),"") -> 2.7707052 | S18: =IF(ISNUMBER(E18),R18-(I18*R18^3+H18*R18-J18)/(3*I18*R18^2+H18),"") -> 2.7707052 | T18: =IF(ISNUMBER(E18),$B$3*1000/S18/86400,"") -> 0.057646777 | U18: =IF(ISNUMBER(T18),T18*1440,"") -> 83.011358 | W18: =TEXT('Scenario med tid på Alpe d''Huez'!A17,"0.0%") -> 03%
A19: Din kombination | B19: ='Ekstra - Udfyld din profil'!B20 -> 76 | C19: ='Ekstra - Udfyld din profil'!C20 -> 215 | D19: =$B$11 -> 1 | E19: =IF(AND(ISNUMBER(B19),B19>0,ISNUMBER(C19),C19>0,ISNUMBER(D19),D19>0,D19<=1,ISNUMBER($B$5),$B$5>=0),C19*D19,"") -> 215 | F19: =IF(ISNUMBER(E19),E19/B19,"") -> 2.8289474 | G19: =IF(ISNUMBER(E19),B19+$B$5,"") -> 86 | H19: =IF(ISNUMBER(E19),G19*$B$10*($B$4/($B$3*1000)+$B$6*SQRT(1-($B$4/($B$3*1000))^2)),"") -> 71.809933 | I19: =0.5*$B$8*$B$7 -> 0.1696 | J19: =IF(ISNUMBER(E19),E19*$B$9,"") -> 209.625 | K19: =IF(ISNUMBER(E19),MIN(J19/H19,(J19/I19)^(1/3)),"") -> 2.9191644 | L19: =IF(ISNUMBER(E19),K19-(I19*K19^3+H19*K19-J19)/(3*I19*K19^2+H19),"") -> 2.8637585 | M19: =IF(ISNUMBER(E19),L19-(I19*L19^3+H19*L19-J19)/(3*I19*L19^2+H19),"") -> 2.8636988 | N19: =IF(ISNUMBER(E19),M19-(I19*M19^3+H19*M19-J19)/(3*I19*M19^2+H19),"") -> 2.8636988 | O19: =IF(ISNUMBER(E19),N19-(I19*N19^3+H19*N19-J19)/(3*I19*N19^2+H19),"") -> 2.8636988 | P19: =IF(ISNUMBER(E19),O19-(I19*O19^3+H19*O19-J19)/(3*I19*O19^2+H19),"") -> 2.8636988 | Q19: =IF(ISNUMBER(E19),P19-(I19*P19^3+H19*P19-J19)/(3*I19*P19^2+H19),"") -> 2.8636988 | R19: =IF(ISNUMBER(E19),Q19-(I19*Q19^3+H19*Q19-J19)/(3*I19*Q19^2+H19),"") -> 2.8636988 | S19: =IF(ISNUMBER(E19),R19-(I19*R19^3+H19*R19-J19)/(3*I19*R19^2+H19),"") -> 2.8636988 | T19: =IF(ISNUMBER(E19),$B$3*1000/S19/86400,"") -> 0.055774797 | U19: =IF(ISNUMBER(T19),T19*1440,"") -> 80.315708 | W19: =TEXT('Scenario med tid på Alpe d''Huez'!A18,"0.0%") -> 05%
A20: Kurve nu 0 | B20: ='Ekstra - Udfyld din profil'!C6 -> 80 | C20: ='Ekstra - Udfyld din profil'!$C$7*(1+'Scenario med tid på Alpe d''Huez'!A16) -> 200 | D20: =$B$11 -> 1 | E20: =IF(AND(ISNUMBER(B20),B20>0,ISNUMBER(C20),C20>0,ISNUMBER(D20),D20>0,D20<=1,ISNUMBER($B$5),$B$5>=0),C20*D20,"") -> 200 | F20: =IF(ISNUMBER(E20),E20/B20,"") -> 2.5 | G20: =IF(ISNUMBER(E20),B20+$B$5,"") -> 90 | H20: =IF(ISNUMBER(E20),G20*$B$10*($B$4/($B$3*1000)+$B$6*SQRT(1-($B$4/($B$3*1000))^2)),"") -> 75.14993 | I20: =0.5*$B$8*$B$7 -> 0.1696 | J20: =IF(ISNUMBER(E20),E20*$B$9,"") -> 195 | K20: =IF(ISNUMBER(E20),MIN(J20/H20,(J20/I20)^(1/3)),"") -> 2.5948128 | L20: =IF(ISNUMBER(E20),K20-(I20*K20^3+H20*K20-J20)/(3*I20*K20^2+H20),"") -> 2.5571029 | M20: =IF(ISNUMBER(E20),L20-(I20*L20^3+H20*L20-J20)/(3*I20*L20^2+H20),"") -> 2.5570791 | N20: =IF(ISNUMBER(E20),M20-(I20*M20^3+H20*M20-J20)/(3*I20*M20^2+H20),"") -> 2.5570791 | O20: =IF(ISNUMBER(E20),N20-(I20*N20^3+H20*N20-J20)/(3*I20*N20^2+H20),"") -> 2.5570791 | P20: =IF(ISNUMBER(E20),O20-(I20*O20^3+H20*O20-J20)/(3*I20*O20^2+H20),"") -> 2.5570791 | Q20: =IF(ISNUMBER(E20),P20-(I20*P20^3+H20*P20-J20)/(3*I20*P20^2+H20),"") -> 2.5570791 | R20: =IF(ISNUMBER(E20),Q20-(I20*Q20^3+H20*Q20-J20)/(3*I20*Q20^2+H20),"") -> 2.5570791 | S20: =IF(ISNUMBER(E20),R20-(I20*R20^3+H20*R20-J20)/(3*I20*R20^2+H20),"") -> 2.5570791 | T20: =IF(ISNUMBER(E20),$B$3*1000/S20/86400,"") -> 0.062462763 | U20: =IF(ISNUMBER(T20),T20*1440,"") -> 89.946378 | W20: =TEXT('Scenario med tid på Alpe d''Huez'!A19,"0.0%") -> 08%
A21: Kurve vægt 0 | B21: ='Ekstra - Udfyld din profil'!C9 -> 76 | C21: ='Ekstra - Udfyld din profil'!$C$7*(1+'Scenario med tid på Alpe d''Huez'!A16) -> 200 | D21: =$B$11 -> 1 | E21: =IF(AND(ISNUMBER(B21),B21>0,ISNUMBER(C21),C21>0,ISNUMBER(D21),D21>0,D21<=1,ISNUMBER($B$5),$B$5>=0),C21*D21,"") -> 200 | F21: =IF(ISNUMBER(E21),E21/B21,"") -> 2.6315789 | G21: =IF(ISNUMBER(E21),B21+$B$5,"") -> 86 | H21: =IF(ISNUMBER(E21),G21*$B$10*($B$4/($B$3*1000)+$B$6*SQRT(1-($B$4/($B$3*1000))^2)),"") -> 71.809933 | I21: =0.5*$B$8*$B$7 -> 0.1696 | J21: =IF(ISNUMBER(E21),E21*$B$9,"") -> 195 | K21: =IF(ISNUMBER(E21),MIN(J21/H21,(J21/I21)^(1/3)),"") -> 2.7155018 | L21: =IF(ISNUMBER(E21),K21-(I21*K21^3+H21*K21-J21)/(3*I21*K21^2+H21),"") -> 2.6705575 | M21: =IF(ISNUMBER(E21),L21-(I21*L21^3+H21*L21-J21)/(3*I21*L21^2+H21),"") -> 2.6705207 | N21: =IF(ISNUMBER(E21),M21-(I21*M21^3+H21*M21-J21)/(3*I21*M21^2+H21),"") -> 2.6705207 | O21: =IF(ISNUMBER(E21),N21-(I21*N21^3+H21*N21-J21)/(3*I21*N21^2+H21),"") -> 2.6705207 | P21: =IF(ISNUMBER(E21),O21-(I21*O21^3+H21*O21-J21)/(3*I21*O21^2+H21),"") -> 2.6705207 | Q21: =IF(ISNUMBER(E21),P21-(I21*P21^3+H21*P21-J21)/(3*I21*P21^2+H21),"") -> 2.6705207 | R21: =IF(ISNUMBER(E21),Q21-(I21*Q21^3+H21*Q21-J21)/(3*I21*Q21^2+H21),"") -> 2.6705207 | S21: =IF(ISNUMBER(E21),R21-(I21*R21^3+H21*R21-J21)/(3*I21*R21^2+H21),"") -> 2.6705207 | T21: =IF(ISNUMBER(E21),$B$3*1000/S21/86400,"") -> 0.059809392 | U21: =IF(ISNUMBER(T21),T21*1440,"") -> 86.125525 | W21: =TEXT('Scenario med tid på Alpe d''Huez'!A20,"0.0%") -> 10%
A22: Kurve nu 1 | B22: ='Ekstra - Udfyld din profil'!C6 -> 80 | C22: ='Ekstra - Udfyld din profil'!$C$7*(1+'Scenario med tid på Alpe d''Huez'!A17) -> 205 | D22: =$B$11 -> 1 | E22: =IF(AND(ISNUMBER(B22),B22>0,ISNUMBER(C22),C22>0,ISNUMBER(D22),D22>0,D22<=1,ISNUMBER($B$5),$B$5>=0),C22*D22,"") -> 205 | F22: =IF(ISNUMBER(E22),E22/B22,"") -> 2.5625 | G22: =IF(ISNUMBER(E22),B22+$B$5,"") -> 90 | H22: =IF(ISNUMBER(E22),G22*$B$10*($B$4/($B$3*1000)+$B$6*SQRT(1-($B$4/($B$3*1000))^2)),"") -> 75.14993 | I22: =0.5*$B$8*$B$7 -> 0.1696 | J22: =IF(ISNUMBER(E22),E22*$B$9,"") -> 199.875 | K22: =IF(ISNUMBER(E22),MIN(J22/H22,(J22/I22)^(1/3)),"") -> 2.6596831 | L22: =IF(ISNUMBER(E22),K22-(I22*K22^3+H22*K22-J22)/(3*I22*K22^2+H22),"") -> 2.6191631 | M22: =IF(ISNUMBER(E22),L22-(I22*L22^3+H22*L22-J22)/(3*I22*L22^2+H22),"") -> 2.619135 | N22: =IF(ISNUMBER(E22),M22-(I22*M22^3+H22*M22-J22)/(3*I22*M22^2+H22),"") -> 2.619135 | O22: =IF(ISNUMBER(E22),N22-(I22*N22^3+H22*N22-J22)/(3*I22*N22^2+H22),"") -> 2.619135 | P22: =IF(ISNUMBER(E22),O22-(I22*O22^3+H22*O22-J22)/(3*I22*O22^2+H22),"") -> 2.619135 | Q22: =IF(ISNUMBER(E22),P22-(I22*P22^3+H22*P22-J22)/(3*I22*P22^2+H22),"") -> 2.619135 | R22: =IF(ISNUMBER(E22),Q22-(I22*Q22^3+H22*Q22-J22)/(3*I22*Q22^2+H22),"") -> 2.619135 | S22: =IF(ISNUMBER(E22),R22-(I22*R22^3+H22*R22-J22)/(3*I22*R22^2+H22),"") -> 2.619135 | T22: =IF(ISNUMBER(E22),$B$3*1000/S22/86400,"") -> 0.060982815 | U22: =IF(ISNUMBER(T22),T22*1440,"") -> 87.815253 | W22: =TEXT('Scenario med tid på Alpe d''Huez'!A21,"0.0%") -> 13%
A23: Kurve vægt 1 | B23: ='Ekstra - Udfyld din profil'!C9 -> 76 | C23: ='Ekstra - Udfyld din profil'!$C$7*(1+'Scenario med tid på Alpe d''Huez'!A17) -> 205 | D23: =$B$11 -> 1 | E23: =IF(AND(ISNUMBER(B23),B23>0,ISNUMBER(C23),C23>0,ISNUMBER(D23),D23>0,D23<=1,ISNUMBER($B$5),$B$5>=0),C23*D23,"") -> 205 | F23: =IF(ISNUMBER(E23),E23/B23,"") -> 2.6973684 | G23: =IF(ISNUMBER(E23),B23+$B$5,"") -> 86 | H23: =IF(ISNUMBER(E23),G23*$B$10*($B$4/($B$3*1000)+$B$6*SQRT(1-($B$4/($B$3*1000))^2)),"") -> 71.809933 | I23: =0.5*$B$8*$B$7 -> 0.1696 | J23: =IF(ISNUMBER(E23),E23*$B$9,"") -> 199.875 | K23: =IF(ISNUMBER(E23),MIN(J23/H23,(J23/I23)^(1/3)),"") -> 2.7833893 | L23: =IF(ISNUMBER(E23),K23-(I23*K23^3+H23*K23-J23)/(3*I23*K23^2+H23),"") -> 2.7351106 | M23: =IF(ISNUMBER(E23),L23-(I23*L23^3+H23*L23-J23)/(3*I23*L23^2+H23),"") -> 2.7350672 | N23: =IF(ISNUMBER(E23),M23-(I23*M23^3+H23*M23-J23)/(3*I23*M23^2+H23),"") -> 2.7350672 | O23: =IF(ISNUMBER(E23),N23-(I23*N23^3+H23*N23-J23)/(3*I23*N23^2+H23),"") -> 2.7350672 | P23: =IF(ISNUMBER(E23),O23-(I23*O23^3+H23*O23-J23)/(3*I23*O23^2+H23),"") -> 2.7350672 | Q23: =IF(ISNUMBER(E23),P23-(I23*P23^3+H23*P23-J23)/(3*I23*P23^2+H23),"") -> 2.7350672 | R23: =IF(ISNUMBER(E23),Q23-(I23*Q23^3+H23*Q23-J23)/(3*I23*Q23^2+H23),"") -> 2.7350672 | S23: =IF(ISNUMBER(E23),R23-(I23*R23^3+H23*R23-J23)/(3*I23*R23^2+H23),"") -> 2.7350672 | T23: =IF(ISNUMBER(E23),$B$3*1000/S23/86400,"") -> 0.058397914 | U23: =IF(ISNUMBER(T23),T23*1440,"") -> 84.092996 | W23: =TEXT('Scenario med tid på Alpe d''Huez'!A22,"0.0%") -> 15%
A24: Kurve nu 2 | B24: ='Ekstra - Udfyld din profil'!C6 -> 80 | C24: ='Ekstra - Udfyld din profil'!$C$7*(1+'Scenario med tid på Alpe d''Huez'!A18) -> 210 | D24: =$B$11 -> 1 | E24: =IF(AND(ISNUMBER(B24),B24>0,ISNUMBER(C24),C24>0,ISNUMBER(D24),D24>0,D24<=1,ISNUMBER($B$5),$B$5>=0),C24*D24,"") -> 210 | F24: =IF(ISNUMBER(E24),E24/B24,"") -> 2.625 | G24: =IF(ISNUMBER(E24),B24+$B$5,"") -> 90 | H24: =IF(ISNUMBER(E24),G24*$B$10*($B$4/($B$3*1000)+$B$6*SQRT(1-($B$4/($B$3*1000))^2)),"") -> 75.14993 | I24: =0.5*$B$8*$B$7 -> 0.1696 | J24: =IF(ISNUMBER(E24),E24*$B$9,"") -> 204.75 | K24: =IF(ISNUMBER(E24),MIN(J24/H24,(J24/I24)^(1/3)),"") -> 2.7245534 | L24: =IF(ISNUMBER(E24),K24-(I24*K24^3+H24*K24-J24)/(3*I24*K24^2+H24),"") -> 2.6810937 | M24: =IF(ISNUMBER(E24),L24-(I24*L24^3+H24*L24-J24)/(3*I24*L24^2+H24),"") -> 2.6810606 | N24: =IF(ISNUMBER(E24),M24-(I24*M24^3+H24*M24-J24)/(3*I24*M24^2+H24),"") -> 2.6810606 | O24: =IF(ISNUMBER(E24),N24-(I24*N24^3+H24*N24-J24)/(3*I24*N24^2+H24),"") -> 2.6810606 | P24: =IF(ISNUMBER(E24),O24-(I24*O24^3+H24*O24-J24)/(3*I24*O24^2+H24),"") -> 2.6810606 | Q24: =IF(ISNUMBER(E24),P24-(I24*P24^3+H24*P24-J24)/(3*I24*P24^2+H24),"") -> 2.6810606 | R24: =IF(ISNUMBER(E24),Q24-(I24*Q24^3+H24*Q24-J24)/(3*I24*Q24^2+H24),"") -> 2.6810606 | S24: =IF(ISNUMBER(E24),R24-(I24*R24^3+H24*R24-J24)/(3*I24*R24^2+H24),"") -> 2.6810606 | T24: =IF(ISNUMBER(E24),$B$3*1000/S24/86400,"") -> 0.059574267 | U24: =IF(ISNUMBER(T24),T24*1440,"") -> 85.786944 | W24: =TEXT('Scenario med tid på Alpe d''Huez'!A23,"0.0%") -> 18%
A25: Kurve vægt 2 | B25: ='Ekstra - Udfyld din profil'!C9 -> 76 | C25: ='Ekstra - Udfyld din profil'!$C$7*(1+'Scenario med tid på Alpe d''Huez'!A18) -> 210 | D25: =$B$11 -> 1 | E25: =IF(AND(ISNUMBER(B25),B25>0,ISNUMBER(C25),C25>0,ISNUMBER(D25),D25>0,D25<=1,ISNUMBER($B$5),$B$5>=0),C25*D25,"") -> 210 | F25: =IF(ISNUMBER(E25),E25/B25,"") -> 2.7631579 | G25: =IF(ISNUMBER(E25),B25+$B$5,"") -> 86 | H25: =IF(ISNUMBER(E25),G25*$B$10*($B$4/($B$3*1000)+$B$6*SQRT(1-($B$4/($B$3*1000))^2)),"") -> 71.809933 | I25: =0.5*$B$8*$B$7 -> 0.1696 | J25: =IF(ISNUMBER(E25),E25*$B$9,"") -> 204.75 | K25: =IF(ISNUMBER(E25),MIN(J25/H25,(J25/I25)^(1/3)),"") -> 2.8512768 | L25: =IF(ISNUMBER(E25),K25-(I25*K25^3+H25*K25-J25)/(3*I25*K25^2+H25),"") -> 2.7995117 | M25: =IF(ISNUMBER(E25),L25-(I25*L25^3+H25*L25-J25)/(3*I25*L25^2+H25),"") -> 2.7994608 | N25: =IF(ISNUMBER(E25),M25-(I25*M25^3+H25*M25-J25)/(3*I25*M25^2+H25),"") -> 2.7994608 | O25: =IF(ISNUMBER(E25),N25-(I25*N25^3+H25*N25-J25)/(3*I25*N25^2+H25),"") -> 2.7994608 | P25: =IF(ISNUMBER(E25),O25-(I25*O25^3+H25*O25-J25)/(3*I25*O25^2+H25),"") -> 2.7994608 | Q25: =IF(ISNUMBER(E25),P25-(I25*P25^3+H25*P25-J25)/(3*I25*P25^2+H25),"") -> 2.7994608 | R25: =IF(ISNUMBER(E25),Q25-(I25*Q25^3+H25*Q25-J25)/(3*I25*Q25^2+H25),"") -> 2.7994608 | S25: =IF(ISNUMBER(E25),R25-(I25*R25^3+H25*R25-J25)/(3*I25*R25^2+H25),"") -> 2.7994608 | T25: =IF(ISNUMBER(E25),$B$3*1000/S25/86400,"") -> 0.057054639 | U25: =IF(ISNUMBER(T25),T25*1440,"") -> 82.158679 | W25: =TEXT('Scenario med tid på Alpe d''Huez'!A24,"0.0%") -> 20%
A26: Kurve nu 3 | B26: ='Ekstra - Udfyld din profil'!C6 -> 80 | C26: ='Ekstra - Udfyld din profil'!$C$7*(1+'Scenario med tid på Alpe d''Huez'!A19) -> 215 | D26: =$B$11 -> 1 | E26: =IF(AND(ISNUMBER(B26),B26>0,ISNUMBER(C26),C26>0,ISNUMBER(D26),D26>0,D26<=1,ISNUMBER($B$5),$B$5>=0),C26*D26,"") -> 215 | F26: =IF(ISNUMBER(E26),E26/B26,"") -> 2.6875 | G26: =IF(ISNUMBER(E26),B26+$B$5,"") -> 90 | H26: =IF(ISNUMBER(E26),G26*$B$10*($B$4/($B$3*1000)+$B$6*SQRT(1-($B$4/($B$3*1000))^2)),"") -> 75.14993 | I26: =0.5*$B$8*$B$7 -> 0.1696 | J26: =IF(ISNUMBER(E26),E26*$B$9,"") -> 209.625 | K26: =IF(ISNUMBER(E26),MIN(J26/H26,(J26/I26)^(1/3)),"") -> 2.7894237 | L26: =IF(ISNUMBER(E26),K26-(I26*K26^3+H26*K26-J26)/(3*I26*K26^2+H26),"") -> 2.7428925 | M26: =IF(ISNUMBER(E26),L26-(I26*L26^3+H26*L26-J26)/(3*I26*L26^2+H26),"") -> 2.7428538 | N26: =IF(ISNUMBER(E26),M26-(I26*M26^3+H26*M26-J26)/(3*I26*M26^2+H26),"") -> 2.7428538 | O26: =IF(ISNUMBER(E26),N26-(I26*N26^3+H26*N26-J26)/(3*I26*N26^2+H26),"") -> 2.7428538 | P26: =IF(ISNUMBER(E26),O26-(I26*O26^3+H26*O26-J26)/(3*I26*O26^2+H26),"") -> 2.7428538 | Q26: =IF(ISNUMBER(E26),P26-(I26*P26^3+H26*P26-J26)/(3*I26*P26^2+H26),"") -> 2.7428538 | R26: =IF(ISNUMBER(E26),Q26-(I26*Q26^3+H26*Q26-J26)/(3*I26*Q26^2+H26),"") -> 2.7428538 | S26: =IF(ISNUMBER(E26),R26-(I26*R26^3+H26*R26-J26)/(3*I26*R26^2+H26),"") -> 2.7428538 | T26: =IF(ISNUMBER(E26),$B$3*1000/S26/86400,"") -> 0.05823213 | U26: =IF(ISNUMBER(T26),T26*1440,"") -> 83.854267
A27: Kurve vægt 3 | B27: ='Ekstra - Udfyld din profil'!C9 -> 76 | C27: ='Ekstra - Udfyld din profil'!$C$7*(1+'Scenario med tid på Alpe d''Huez'!A19) -> 215 | D27: =$B$11 -> 1 | E27: =IF(AND(ISNUMBER(B27),B27>0,ISNUMBER(C27),C27>0,ISNUMBER(D27),D27>0,D27<=1,ISNUMBER($B$5),$B$5>=0),C27*D27,"") -> 215 | F27: =IF(ISNUMBER(E27),E27/B27,"") -> 2.8289474 | G27: =IF(ISNUMBER(E27),B27+$B$5,"") -> 86 | H27: =IF(ISNUMBER(E27),G27*$B$10*($B$4/($B$3*1000)+$B$6*SQRT(1-($B$4/($B$3*1000))^2)),"") -> 71.809933 | I27: =0.5*$B$8*$B$7 -> 0.1696 | J27: =IF(ISNUMBER(E27),E27*$B$9,"") -> 209.625 | K27: =IF(ISNUMBER(E27),MIN(J27/H27,(J27/I27)^(1/3)),"") -> 2.9191644 | L27: =IF(ISNUMBER(E27),K27-(I27*K27^3+H27*K27-J27)/(3*I27*K27^2+H27),"") -> 2.8637585 | M27: =IF(ISNUMBER(E27),L27-(I27*L27^3+H27*L27-J27)/(3*I27*L27^2+H27),"") -> 2.8636988 | N27: =IF(ISNUMBER(E27),M27-(I27*M27^3+H27*M27-J27)/(3*I27*M27^2+H27),"") -> 2.8636988 | O27: =IF(ISNUMBER(E27),N27-(I27*N27^3+H27*N27-J27)/(3*I27*N27^2+H27),"") -> 2.8636988 | P27: =IF(ISNUMBER(E27),O27-(I27*O27^3+H27*O27-J27)/(3*I27*O27^2+H27),"") -> 2.8636988 | Q27: =IF(ISNUMBER(E27),P27-(I27*P27^3+H27*P27-J27)/(3*I27*P27^2+H27),"") -> 2.8636988 | R27: =IF(ISNUMBER(E27),Q27-(I27*Q27^3+H27*Q27-J27)/(3*I27*Q27^2+H27),"") -> 2.8636988 | S27: =IF(ISNUMBER(E27),R27-(I27*R27^3+H27*R27-J27)/(3*I27*R27^2+H27),"") -> 2.8636988 | T27: =IF(ISNUMBER(E27),$B$3*1000/S27/86400,"") -> 0.055774797 | U27: =IF(ISNUMBER(T27),T27*1440,"") -> 80.315708
A28: Kurve nu 4 | B28: ='Ekstra - Udfyld din profil'!C6 -> 80 | C28: ='Ekstra - Udfyld din profil'!$C$7*(1+'Scenario med tid på Alpe d''Huez'!A20) -> 220 | D28: =$B$11 -> 1 | E28: =IF(AND(ISNUMBER(B28),B28>0,ISNUMBER(C28),C28>0,ISNUMBER(D28),D28>0,D28<=1,ISNUMBER($B$5),$B$5>=0),C28*D28,"") -> 220 | F28: =IF(ISNUMBER(E28),E28/B28,"") -> 2.75 | G28: =IF(ISNUMBER(E28),B28+$B$5,"") -> 90 | H28: =IF(ISNUMBER(E28),G28*$B$10*($B$4/($B$3*1000)+$B$6*SQRT(1-($B$4/($B$3*1000))^2)),"") -> 75.14993 | I28: =0.5*$B$8*$B$7 -> 0.1696 | J28: =IF(ISNUMBER(E28),E28*$B$9,"") -> 214.5 | K28: =IF(ISNUMBER(E28),MIN(J28/H28,(J28/I28)^(1/3)),"") -> 2.8542941 | L28: =IF(ISNUMBER(E28),K28-(I28*K28^3+H28*K28-J28)/(3*I28*K28^2+H28),"") -> 2.8045575 | M28: =IF(ISNUMBER(E28),L28-(I28*L28^3+H28*L28-J28)/(3*I28*L28^2+H28),"") -> 2.8045124 | N28: =IF(ISNUMBER(E28),M28-(I28*M28^3+H28*M28-J28)/(3*I28*M28^2+H28),"") -> 2.8045124 | O28: =IF(ISNUMBER(E28),N28-(I28*N28^3+H28*N28-J28)/(3*I28*N28^2+H28),"") -> 2.8045124 | P28: =IF(ISNUMBER(E28),O28-(I28*O28^3+H28*O28-J28)/(3*I28*O28^2+H28),"") -> 2.8045124 | Q28: =IF(ISNUMBER(E28),P28-(I28*P28^3+H28*P28-J28)/(3*I28*P28^2+H28),"") -> 2.8045124 | R28: =IF(ISNUMBER(E28),Q28-(I28*Q28^3+H28*Q28-J28)/(3*I28*Q28^2+H28),"") -> 2.8045124 | S28: =IF(ISNUMBER(E28),R28-(I28*R28^3+H28*R28-J28)/(3*I28*R28^2+H28),"") -> 2.8045124 | T28: =IF(ISNUMBER(E28),$B$3*1000/S28/86400,"") -> 0.056951869 | U28: =IF(ISNUMBER(T28),T28*1440,"") -> 82.010691
A29: Kurve vægt 4 | B29: ='Ekstra - Udfyld din profil'!C9 -> 76 | C29: ='Ekstra - Udfyld din profil'!$C$7*(1+'Scenario med tid på Alpe d''Huez'!A20) -> 220 | D29: =$B$11 -> 1 | E29: =IF(AND(ISNUMBER(B29),B29>0,ISNUMBER(C29),C29>0,ISNUMBER(D29),D29>0,D29<=1,ISNUMBER($B$5),$B$5>=0),C29*D29,"") -> 220 | F29: =IF(ISNUMBER(E29),E29/B29,"") -> 2.8947368 | G29: =IF(ISNUMBER(E29),B29+$B$5,"") -> 86 | H29: =IF(ISNUMBER(E29),G29*$B$10*($B$4/($B$3*1000)+$B$6*SQRT(1-($B$4/($B$3*1000))^2)),"") -> 71.809933 | I29: =0.5*$B$8*$B$7 -> 0.1696 | J29: =IF(ISNUMBER(E29),E29*$B$9,"") -> 214.5 | K29: =IF(ISNUMBER(E29),MIN(J29/H29,(J29/I29)^(1/3)),"") -> 2.9870519 | L29: =IF(ISNUMBER(E29),K29-(I29*K29^3+H29*K29-J29)/(3*I29*K29^2+H29),"") -> 2.9278485 | M29: =IF(ISNUMBER(E29),L29-(I29*L29^3+H29*L29-J29)/(3*I29*L29^2+H29),"") -> 2.927779 | N29: =IF(ISNUMBER(E29),M29-(I29*M29^3+H29*M29-J29)/(3*I29*M29^2+H29),"") -> 2.927779 | O29: =IF(ISNUMBER(E29),N29-(I29*N29^3+H29*N29-J29)/(3*I29*N29^2+H29),"") -> 2.927779 | P29: =IF(ISNUMBER(E29),O29-(I29*O29^3+H29*O29-J29)/(3*I29*O29^2+H29),"") -> 2.927779 | Q29: =IF(ISNUMBER(E29),P29-(I29*P29^3+H29*P29-J29)/(3*I29*P29^2+H29),"") -> 2.927779 | R29: =IF(ISNUMBER(E29),Q29-(I29*Q29^3+H29*Q29-J29)/(3*I29*Q29^2+H29),"") -> 2.927779 | S29: =IF(ISNUMBER(E29),R29-(I29*R29^3+H29*R29-J29)/(3*I29*R29^2+H29),"") -> 2.927779 | T29: =IF(ISNUMBER(E29),$B$3*1000/S29/86400,"") -> 0.054554056 | U29: =IF(ISNUMBER(T29),T29*1440,"") -> 78.557841
A30: Kurve nu 5 | B30: ='Ekstra - Udfyld din profil'!C6 -> 80 | C30: ='Ekstra - Udfyld din profil'!$C$7*(1+'Scenario med tid på Alpe d''Huez'!A21) -> 225 | D30: =$B$11 -> 1 | E30: =IF(AND(ISNUMBER(B30),B30>0,ISNUMBER(C30),C30>0,ISNUMBER(D30),D30>0,D30<=1,ISNUMBER($B$5),$B$5>=0),C30*D30,"") -> 225 | F30: =IF(ISNUMBER(E30),E30/B30,"") -> 2.8125 | G30: =IF(ISNUMBER(E30),B30+$B$5,"") -> 90 | H30: =IF(ISNUMBER(E30),G30*$B$10*($B$4/($B$3*1000)+$B$6*SQRT(1-($B$4/($B$3*1000))^2)),"") -> 75.14993 | I30: =0.5*$B$8*$B$7 -> 0.1696 | J30: =IF(ISNUMBER(E30),E30*$B$9,"") -> 219.375 | K30: =IF(ISNUMBER(E30),MIN(J30/H30,(J30/I30)^(1/3)),"") -> 2.9191644 | L30: =IF(ISNUMBER(E30),K30-(I30*K30^3+H30*K30-J30)/(3*I30*K30^2+H30),"") -> 2.8660866 | M30: =IF(ISNUMBER(E30),L30-(I30*L30^3+H30*L30-J30)/(3*I30*L30^2+H30),"") -> 2.8660342 | N30: =IF(ISNUMBER(E30),M30-(I30*M30^3+H30*M30-J30)/(3*I30*M30^2+H30),"") -> 2.8660342 | O30: =IF(ISNUMBER(E30),N30-(I30*N30^3+H30*N30-J30)/(3*I30*N30^2+H30),"") -> 2.8660342 | P30: =IF(ISNUMBER(E30),O30-(I30*O30^3+H30*O30-J30)/(3*I30*O30^2+H30),"") -> 2.8660342 | Q30: =IF(ISNUMBER(E30),P30-(I30*P30^3+H30*P30-J30)/(3*I30*P30^2+H30),"") -> 2.8660342 | R30: =IF(ISNUMBER(E30),Q30-(I30*Q30^3+H30*Q30-J30)/(3*I30*Q30^2+H30),"") -> 2.8660342 | S30: =IF(ISNUMBER(E30),R30-(I30*R30^3+H30*R30-J30)/(3*I30*R30^2+H30),"") -> 2.8660342 | T30: =IF(ISNUMBER(E30),$B$3*1000/S30/86400,"") -> 0.05572935 | U30: =IF(ISNUMBER(T30),T30*1440,"") -> 80.250264
A31: Kurve vægt 5 | B31: ='Ekstra - Udfyld din profil'!C9 -> 76 | C31: ='Ekstra - Udfyld din profil'!$C$7*(1+'Scenario med tid på Alpe d''Huez'!A21) -> 225 | D31: =$B$11 -> 1 | E31: =IF(AND(ISNUMBER(B31),B31>0,ISNUMBER(C31),C31>0,ISNUMBER(D31),D31>0,D31<=1,ISNUMBER($B$5),$B$5>=0),C31*D31,"") -> 225 | F31: =IF(ISNUMBER(E31),E31/B31,"") -> 2.9605263 | G31: =IF(ISNUMBER(E31),B31+$B$5,"") -> 86 | H31: =IF(ISNUMBER(E31),G31*$B$10*($B$4/($B$3*1000)+$B$6*SQRT(1-($B$4/($B$3*1000))^2)),"") -> 71.809933 | I31: =0.5*$B$8*$B$7 -> 0.1696 | J31: =IF(ISNUMBER(E31),E31*$B$9,"") -> 219.375 | K31: =IF(ISNUMBER(E31),MIN(J31/H31,(J31/I31)^(1/3)),"") -> 3.0549395 | L31: =IF(ISNUMBER(E31),K31-(I31*K31^3+H31*K31-J31)/(3*I31*K31^2+H31),"") -> 2.9917796 | M31: =IF(ISNUMBER(E31),L31-(I31*L31^3+H31*L31-J31)/(3*I31*L31^2+H31),"") -> 2.991699 | N31: =IF(ISNUMBER(E31),M31-(I31*M31^3+H31*M31-J31)/(3*I31*M31^2+H31),"") -> 2.991699 | O31: =IF(ISNUMBER(E31),N31-(I31*N31^3+H31*N31-J31)/(3*I31*N31^2+H31),"") -> 2.991699 | P31: =IF(ISNUMBER(E31),O31-(I31*O31^3+H31*O31-J31)/(3*I31*O31^2+H31),"") -> 2.991699 | Q31: =IF(ISNUMBER(E31),P31-(I31*P31^3+H31*P31-J31)/(3*I31*P31^2+H31),"") -> 2.991699 | R31: =IF(ISNUMBER(E31),Q31-(I31*Q31^3+H31*Q31-J31)/(3*I31*Q31^2+H31),"") -> 2.991699 | S31: =IF(ISNUMBER(E31),R31-(I31*R31^3+H31*R31-J31)/(3*I31*R31^2+H31),"") -> 2.991699 | T31: =IF(ISNUMBER(E31),$B$3*1000/S31/86400,"") -> 0.053388466 | U31: =IF(ISNUMBER(T31),T31*1440,"") -> 76.879392
A32: Kurve nu 6 | B32: ='Ekstra - Udfyld din profil'!C6 -> 80 | C32: ='Ekstra - Udfyld din profil'!$C$7*(1+'Scenario med tid på Alpe d''Huez'!A22) -> 230 | D32: =$B$11 -> 1 | E32: =IF(AND(ISNUMBER(B32),B32>0,ISNUMBER(C32),C32>0,ISNUMBER(D32),D32>0,D32<=1,ISNUMBER($B$5),$B$5>=0),C32*D32,"") -> 230 | F32: =IF(ISNUMBER(E32),E32/B32,"") -> 2.875 | G32: =IF(ISNUMBER(E32),B32+$B$5,"") -> 90 | H32: =IF(ISNUMBER(E32),G32*$B$10*($B$4/($B$3*1000)+$B$6*SQRT(1-($B$4/($B$3*1000))^2)),"") -> 75.14993 | I32: =0.5*$B$8*$B$7 -> 0.1696 | J32: =IF(ISNUMBER(E32),E32*$B$9,"") -> 224.25 | K32: =IF(ISNUMBER(E32),MIN(J32/H32,(J32/I32)^(1/3)),"") -> 2.9840347 | L32: =IF(ISNUMBER(E32),K32-(I32*K32^3+H32*K32-J32)/(3*I32*K32^2+H32),"") -> 2.9274778 | M32: =IF(ISNUMBER(E32),L32-(I32*L32^3+H32*L32-J32)/(3*I32*L32^2+H32),"") -> 2.9274171 | N32: =IF(ISNUMBER(E32),M32-(I32*M32^3+H32*M32-J32)/(3*I32*M32^2+H32),"") -> 2.9274171 | O32: =IF(ISNUMBER(E32),N32-(I32*N32^3+H32*N32-J32)/(3*I32*N32^2+H32),"") -> 2.9274171 | P32: =IF(ISNUMBER(E32),O32-(I32*O32^3+H32*O32-J32)/(3*I32*O32^2+H32),"") -> 2.9274171 | Q32: =IF(ISNUMBER(E32),P32-(I32*P32^3+H32*P32-J32)/(3*I32*P32^2+H32),"") -> 2.9274171 | R32: =IF(ISNUMBER(E32),Q32-(I32*Q32^3+H32*Q32-J32)/(3*I32*Q32^2+H32),"") -> 2.9274171 | S32: =IF(ISNUMBER(E32),R32-(I32*R32^3+H32*R32-J32)/(3*I32*R32^2+H32),"") -> 2.9274171 | T32: =IF(ISNUMBER(E32),$B$3*1000/S32/86400,"") -> 0.0545608 | U32: =IF(ISNUMBER(T32),T32*1440,"") -> 78.567552
A33: Kurve vægt 6 | B33: ='Ekstra - Udfyld din profil'!C9 -> 76 | C33: ='Ekstra - Udfyld din profil'!$C$7*(1+'Scenario med tid på Alpe d''Huez'!A22) -> 230 | D33: =$B$11 -> 1 | E33: =IF(AND(ISNUMBER(B33),B33>0,ISNUMBER(C33),C33>0,ISNUMBER(D33),D33>0,D33<=1,ISNUMBER($B$5),$B$5>=0),C33*D33,"") -> 230 | F33: =IF(ISNUMBER(E33),E33/B33,"") -> 3.0263158 | G33: =IF(ISNUMBER(E33),B33+$B$5,"") -> 86 | H33: =IF(ISNUMBER(E33),G33*$B$10*($B$4/($B$3*1000)+$B$6*SQRT(1-($B$4/($B$3*1000))^2)),"") -> 71.809933 | I33: =0.5*$B$8*$B$7 -> 0.1696 | J33: =IF(ISNUMBER(E33),E33*$B$9,"") -> 224.25 | K33: =IF(ISNUMBER(E33),MIN(J33/H33,(J33/I33)^(1/3)),"") -> 3.122827 | L33: =IF(ISNUMBER(E33),K33-(I33*K33^3+H33*K33-J33)/(3*I33*K33^2+H33),"") -> 3.0555498 | M33: =IF(ISNUMBER(E33),L33-(I33*L33^3+H33*L33-J33)/(3*I33*L33^2+H33),"") -> 3.0554565 | N33: =IF(ISNUMBER(E33),M33-(I33*M33^3+H33*M33-J33)/(3*I33*M33^2+H33),"") -> 3.0554565 | O33: =IF(ISNUMBER(E33),N33-(I33*N33^3+H33*N33-J33)/(3*I33*N33^2+H33),"") -> 3.0554565 | P33: =IF(ISNUMBER(E33),O33-(I33*O33^3+H33*O33-J33)/(3*I33*O33^2+H33),"") -> 3.0554565 | Q33: =IF(ISNUMBER(E33),P33-(I33*P33^3+H33*P33-J33)/(3*I33*P33^2+H33),"") -> 3.0554565 | R33: =IF(ISNUMBER(E33),Q33-(I33*Q33^3+H33*Q33-J33)/(3*I33*Q33^2+H33),"") -> 3.0554565 | S33: =IF(ISNUMBER(E33),R33-(I33*R33^3+H33*R33-J33)/(3*I33*R33^2+H33),"") -> 3.0554565 | T33: =IF(ISNUMBER(E33),$B$3*1000/S33/86400,"") -> 0.052274421 | U33: =IF(ISNUMBER(T33),T33*1440,"") -> 75.275167
A34: Kurve nu 7 | B34: ='Ekstra - Udfyld din profil'!C6 -> 80 | C34: ='Ekstra - Udfyld din profil'!$C$7*(1+'Scenario med tid på Alpe d''Huez'!A23) -> 235 | D34: =$B$11 -> 1 | E34: =IF(AND(ISNUMBER(B34),B34>0,ISNUMBER(C34),C34>0,ISNUMBER(D34),D34>0,D34<=1,ISNUMBER($B$5),$B$5>=0),C34*D34,"") -> 235 | F34: =IF(ISNUMBER(E34),E34/B34,"") -> 2.9375 | G34: =IF(ISNUMBER(E34),B34+$B$5,"") -> 90 | H34: =IF(ISNUMBER(E34),G34*$B$10*($B$4/($B$3*1000)+$B$6*SQRT(1-($B$4/($B$3*1000))^2)),"") -> 75.14993 | I34: =0.5*$B$8*$B$7 -> 0.1696 | J34: =IF(ISNUMBER(E34),E34*$B$9,"") -> 229.125 | K34: =IF(ISNUMBER(E34),MIN(J34/H34,(J34/I34)^(1/3)),"") -> 3.048905 | L34: =IF(ISNUMBER(E34),K34-(I34*K34^3+H34*K34-J34)/(3*I34*K34^2+H34),"") -> 2.9887293 | M34: =IF(ISNUMBER(E34),L34-(I34*L34^3+H34*L34-J34)/(3*I34*L34^2+H34),"") -> 2.9886593 | N34: =IF(ISNUMBER(E34),M34-(I34*M34^3+H34*M34-J34)/(3*I34*M34^2+H34),"") -> 2.9886593 | O34: =IF(ISNUMBER(E34),N34-(I34*N34^3+H34*N34-J34)/(3*I34*N34^2+H34),"") -> 2.9886593 | P34: =IF(ISNUMBER(E34),O34-(I34*O34^3+H34*O34-J34)/(3*I34*O34^2+H34),"") -> 2.9886593 | Q34: =IF(ISNUMBER(E34),P34-(I34*P34^3+H34*P34-J34)/(3*I34*P34^2+H34),"") -> 2.9886593 | R34: =IF(ISNUMBER(E34),Q34-(I34*Q34^3+H34*Q34-J34)/(3*I34*Q34^2+H34),"") -> 2.9886593 | S34: =IF(ISNUMBER(E34),R34-(I34*R34^3+H34*R34-J34)/(3*I34*R34^2+H34),"") -> 2.9886593 | T34: =IF(ISNUMBER(E34),$B$3*1000/S34/86400,"") -> 0.053442768 | U34: =IF(ISNUMBER(T34),T34*1440,"") -> 76.957585
A35: Kurve vægt 7 | B35: ='Ekstra - Udfyld din profil'!C9 -> 76 | C35: ='Ekstra - Udfyld din profil'!$C$7*(1+'Scenario med tid på Alpe d''Huez'!A23) -> 235 | D35: =$B$11 -> 1 | E35: =IF(AND(ISNUMBER(B35),B35>0,ISNUMBER(C35),C35>0,ISNUMBER(D35),D35>0,D35<=1,ISNUMBER($B$5),$B$5>=0),C35*D35,"") -> 235 | F35: =IF(ISNUMBER(E35),E35/B35,"") -> 3.0921053 | G35: =IF(ISNUMBER(E35),B35+$B$5,"") -> 86 | H35: =IF(ISNUMBER(E35),G35*$B$10*($B$4/($B$3*1000)+$B$6*SQRT(1-($B$4/($B$3*1000))^2)),"") -> 71.809933 | I35: =0.5*$B$8*$B$7 -> 0.1696 | J35: =IF(ISNUMBER(E35),E35*$B$9,"") -> 229.125 | K35: =IF(ISNUMBER(E35),MIN(J35/H35,(J35/I35)^(1/3)),"") -> 3.1907146 | L35: =IF(ISNUMBER(E35),K35-(I35*K35^3+H35*K35-J35)/(3*I35*K35^2+H35),"") -> 3.1191569 | M35: =IF(ISNUMBER(E35),L35-(I35*L35^3+H35*L35-J35)/(3*I35*L35^2+H35),"") -> 3.1190494 | N35: =IF(ISNUMBER(E35),M35-(I35*M35^3+H35*M35-J35)/(3*I35*M35^2+H35),"") -> 3.1190494 | O35: =IF(ISNUMBER(E35),N35-(I35*N35^3+H35*N35-J35)/(3*I35*N35^2+H35),"") -> 3.1190494 | P35: =IF(ISNUMBER(E35),O35-(I35*O35^3+H35*O35-J35)/(3*I35*O35^2+H35),"") -> 3.1190494 | Q35: =IF(ISNUMBER(E35),P35-(I35*P35^3+H35*P35-J35)/(3*I35*P35^2+H35),"") -> 3.1190494 | R35: =IF(ISNUMBER(E35),Q35-(I35*Q35^3+H35*Q35-J35)/(3*I35*Q35^2+H35),"") -> 3.1190494 | S35: =IF(ISNUMBER(E35),R35-(I35*R35^3+H35*R35-J35)/(3*I35*R35^2+H35),"") -> 3.1190494 | T35: =IF(ISNUMBER(E35),$B$3*1000/S35/86400,"") -> 0.051208622 | U35: =IF(ISNUMBER(T35),T35*1440,"") -> 73.740416
A36: Kurve nu 8 | B36: ='Ekstra - Udfyld din profil'!C6 -> 80 | C36: ='Ekstra - Udfyld din profil'!$C$7*(1+'Scenario med tid på Alpe d''Huez'!A24) -> 240 | D36: =$B$11 -> 1 | E36: =IF(AND(ISNUMBER(B36),B36>0,ISNUMBER(C36),C36>0,ISNUMBER(D36),D36>0,D36<=1,ISNUMBER($B$5),$B$5>=0),C36*D36,"") -> 240 | F36: =IF(ISNUMBER(E36),E36/B36,"") -> 3 | G36: =IF(ISNUMBER(E36),B36+$B$5,"") -> 90 | H36: =IF(ISNUMBER(E36),G36*$B$10*($B$4/($B$3*1000)+$B$6*SQRT(1-($B$4/($B$3*1000))^2)),"") -> 75.14993 | I36: =0.5*$B$8*$B$7 -> 0.1696 | J36: =IF(ISNUMBER(E36),E36*$B$9,"") -> 234 | K36: =IF(ISNUMBER(E36),MIN(J36/H36,(J36/I36)^(1/3)),"") -> 3.1137753 | L36: =IF(ISNUMBER(E36),K36-(I36*K36^3+H36*K36-J36)/(3*I36*K36^2+H36),"") -> 3.0498391 | M36: =IF(ISNUMBER(E36),L36-(I36*L36^3+H36*L36-J36)/(3*I36*L36^2+H36),"") -> 3.0497586 | N36: =IF(ISNUMBER(E36),M36-(I36*M36^3+H36*M36-J36)/(3*I36*M36^2+H36),"") -> 3.0497586 | O36: =IF(ISNUMBER(E36),N36-(I36*N36^3+H36*N36-J36)/(3*I36*N36^2+H36),"") -> 3.0497586 | P36: =IF(ISNUMBER(E36),O36-(I36*O36^3+H36*O36-J36)/(3*I36*O36^2+H36),"") -> 3.0497586 | Q36: =IF(ISNUMBER(E36),P36-(I36*P36^3+H36*P36-J36)/(3*I36*P36^2+H36),"") -> 3.0497586 | R36: =IF(ISNUMBER(E36),Q36-(I36*Q36^3+H36*Q36-J36)/(3*I36*Q36^2+H36),"") -> 3.0497586 | S36: =IF(ISNUMBER(E36),R36-(I36*R36^3+H36*R36-J36)/(3*I36*R36^2+H36),"") -> 3.0497586 | T36: =IF(ISNUMBER(E36),$B$3*1000/S36/86400,"") -> 0.052372087 | U36: =IF(ISNUMBER(T36),T36*1440,"") -> 75.415805
A37: Kurve vægt 8 | B37: ='Ekstra - Udfyld din profil'!C9 -> 76 | C37: ='Ekstra - Udfyld din profil'!$C$7*(1+'Scenario med tid på Alpe d''Huez'!A24) -> 240 | D37: =$B$11 -> 1 | E37: =IF(AND(ISNUMBER(B37),B37>0,ISNUMBER(C37),C37>0,ISNUMBER(D37),D37>0,D37<=1,ISNUMBER($B$5),$B$5>=0),C37*D37,"") -> 240 | F37: =IF(ISNUMBER(E37),E37/B37,"") -> 3.1578947 | G37: =IF(ISNUMBER(E37),B37+$B$5,"") -> 86 | H37: =IF(ISNUMBER(E37),G37*$B$10*($B$4/($B$3*1000)+$B$6*SQRT(1-($B$4/($B$3*1000))^2)),"") -> 71.809933 | I37: =0.5*$B$8*$B$7 -> 0.1696 | J37: =IF(ISNUMBER(E37),E37*$B$9,"") -> 234 | K37: =IF(ISNUMBER(E37),MIN(J37/H37,(J37/I37)^(1/3)),"") -> 3.2586021 | L37: =IF(ISNUMBER(E37),K37-(I37*K37^3+H37*K37-J37)/(3*I37*K37^2+H37),"") -> 3.182599 | M37: =IF(ISNUMBER(E37),L37-(I37*L37^3+H37*L37-J37)/(3*I37*L37^2+H37),"") -> 3.1824755 | N37: =IF(ISNUMBER(E37),M37-(I37*M37^3+H37*M37-J37)/(3*I37*M37^2+H37),"") -> 3.1824755 | O37: =IF(ISNUMBER(E37),N37-(I37*N37^3+H37*N37-J37)/(3*I37*N37^2+H37),"") -> 3.1824755 | P37: =IF(ISNUMBER(E37),O37-(I37*O37^3+H37*O37-J37)/(3*I37*O37^2+H37),"") -> 3.1824755 | Q37: =IF(ISNUMBER(E37),P37-(I37*P37^3+H37*P37-J37)/(3*I37*P37^2+H37),"") -> 3.1824755 | R37: =IF(ISNUMBER(E37),Q37-(I37*Q37^3+H37*Q37-J37)/(3*I37*Q37^2+H37),"") -> 3.1824755 | S37: =IF(ISNUMBER(E37),R37-(I37*R37^3+H37*R37-J37)/(3*I37*R37^2+H37),"") -> 3.1824755 | T37: =IF(ISNUMBER(E37),$B$3*1000/S37/86400,"") -> 0.050188045 | U37: =IF(ISNUMBER(T37),T37*1440,"") -> 72.270784
A38: W/kg 1.5 | B38: ='Ekstra - Udfyld din profil'!C6 -> 80 | C38: ='Scenario med tid på Alpe d''Huez'!B31 -> 120 | D38: =1 -> 1 | E38: =IF(AND(ISNUMBER(B38),B38>0,ISNUMBER(C38),C38>0,ISNUMBER(D38),D38>0,D38<=1,ISNUMBER($B$5),$B$5>=0),C38*D38,"") -> 120 | F38: =IF(ISNUMBER(E38),E38/B38,"") -> 1.5 | G38: =IF(ISNUMBER(E38),B38+$B$5,"") -> 90 | H38: =IF(ISNUMBER(E38),G38*$B$10*($B$4/($B$3*1000)+$B$6*SQRT(1-($B$4/($B$3*1000))^2)),"") -> 75.14993 | I38: =0.5*$B$8*$B$7 -> 0.1696 | J38: =IF(ISNUMBER(E38),E38*$B$9,"") -> 117 | K38: =IF(ISNUMBER(E38),MIN(J38/H38,(J38/I38)^(1/3)),"") -> 1.5568877 | L38: =IF(ISNUMBER(E38),K38-(I38*K38^3+H38*K38-J38)/(3*I38*K38^2+H38),"") -> 1.5485085 | M38: =IF(ISNUMBER(E38),L38-(I38*L38^3+H38*L38-J38)/(3*I38*L38^2+H38),"") -> 1.5485078 | N38: =IF(ISNUMBER(E38),M38-(I38*M38^3+H38*M38-J38)/(3*I38*M38^2+H38),"") -> 1.5485078 | O38: =IF(ISNUMBER(E38),N38-(I38*N38^3+H38*N38-J38)/(3*I38*N38^2+H38),"") -> 1.5485078 | P38: =IF(ISNUMBER(E38),O38-(I38*O38^3+H38*O38-J38)/(3*I38*O38^2+H38),"") -> 1.5485078 | Q38: =IF(ISNUMBER(E38),P38-(I38*P38^3+H38*P38-J38)/(3*I38*P38^2+H38),"") -> 1.5485078 | R38: =IF(ISNUMBER(E38),Q38-(I38*Q38^3+H38*Q38-J38)/(3*I38*Q38^2+H38),"") -> 1.5485078 | S38: =IF(ISNUMBER(E38),R38-(I38*R38^3+H38*R38-J38)/(3*I38*R38^2+H38),"") -> 1.5485078 | T38: =IF(ISNUMBER(E38),$B$3*1000/S38/86400,"") -> 0.10314589 | U38: =IF(ISNUMBER(T38),T38*1440,"") -> 148.53009
A39: W/kg 1.75 | B39: ='Ekstra - Udfyld din profil'!C6 -> 80 | C39: ='Scenario med tid på Alpe d''Huez'!B32 -> 140 | D39: =1 -> 1 | E39: =IF(AND(ISNUMBER(B39),B39>0,ISNUMBER(C39),C39>0,ISNUMBER(D39),D39>0,D39<=1,ISNUMBER($B$5),$B$5>=0),C39*D39,"") -> 140 | F39: =IF(ISNUMBER(E39),E39/B39,"") -> 1.75 | G39: =IF(ISNUMBER(E39),B39+$B$5,"") -> 90 | H39: =IF(ISNUMBER(E39),G39*$B$10*($B$4/($B$3*1000)+$B$6*SQRT(1-($B$4/($B$3*1000))^2)),"") -> 75.14993 | I39: =0.5*$B$8*$B$7 -> 0.1696 | J39: =IF(ISNUMBER(E39),E39*$B$9,"") -> 136.5 | K39: =IF(ISNUMBER(E39),MIN(J39/H39,(J39/I39)^(1/3)),"") -> 1.8163689 | L39: =IF(ISNUMBER(E39),K39-(I39*K39^3+H39*K39-J39)/(3*I39*K39^2+H39),"") -> 1.8031403 | M39: =IF(ISNUMBER(E39),L39-(I39*L39^3+H39*L39-J39)/(3*I39*L39^2+H39),"") -> 1.8031382 | N39: =IF(ISNUMBER(E39),M39-(I39*M39^3+H39*M39-J39)/(3*I39*M39^2+H39),"") -> 1.8031382 | O39: =IF(ISNUMBER(E39),N39-(I39*N39^3+H39*N39-J39)/(3*I39*N39^2+H39),"") -> 1.8031382 | P39: =IF(ISNUMBER(E39),O39-(I39*O39^3+H39*O39-J39)/(3*I39*O39^2+H39),"") -> 1.8031382 | Q39: =IF(ISNUMBER(E39),P39-(I39*P39^3+H39*P39-J39)/(3*I39*P39^2+H39),"") -> 1.8031382 | R39: =IF(ISNUMBER(E39),Q39-(I39*Q39^3+H39*Q39-J39)/(3*I39*Q39^2+H39),"") -> 1.8031382 | S39: =IF(ISNUMBER(E39),R39-(I39*R39^3+H39*R39-J39)/(3*I39*R39^2+H39),"") -> 1.8031382 | T39: =IF(ISNUMBER(E39),$B$3*1000/S39/86400,"") -> 0.088580133 | U39: =IF(ISNUMBER(T39),T39*1440,"") -> 127.55539
A40: W/kg 2 | B40: ='Ekstra - Udfyld din profil'!C6 -> 80 | C40: ='Scenario med tid på Alpe d''Huez'!B33 -> 160 | D40: =1 -> 1 | E40: =IF(AND(ISNUMBER(B40),B40>0,ISNUMBER(C40),C40>0,ISNUMBER(D40),D40>0,D40<=1,ISNUMBER($B$5),$B$5>=0),C40*D40,"") -> 160 | F40: =IF(ISNUMBER(E40),E40/B40,"") -> 2 | G40: =IF(ISNUMBER(E40),B40+$B$5,"") -> 90 | H40: =IF(ISNUMBER(E40),G40*$B$10*($B$4/($B$3*1000)+$B$6*SQRT(1-($B$4/($B$3*1000))^2)),"") -> 75.14993 | I40: =0.5*$B$8*$B$7 -> 0.1696 | J40: =IF(ISNUMBER(E40),E40*$B$9,"") -> 156 | K40: =IF(ISNUMBER(E40),MIN(J40/H40,(J40/I40)^(1/3)),"") -> 2.0758502 | L40: =IF(ISNUMBER(E40),K40-(I40*K40^3+H40*K40-J40)/(3*I40*K40^2+H40),"") -> 2.0562349 | M40: =IF(ISNUMBER(E40),L40-(I40*L40^3+H40*L40-J40)/(3*I40*L40^2+H40),"") -> 2.0562296 | N40: =IF(ISNUMBER(E40),M40-(I40*M40^3+H40*M40-J40)/(3*I40*M40^2+H40),"") -> 2.0562296 | O40: =IF(ISNUMBER(E40),N40-(I40*N40^3+H40*N40-J40)/(3*I40*N40^2+H40),"") -> 2.0562296 | P40: =IF(ISNUMBER(E40),O40-(I40*O40^3+H40*O40-J40)/(3*I40*O40^2+H40),"") -> 2.0562296 | Q40: =IF(ISNUMBER(E40),P40-(I40*P40^3+H40*P40-J40)/(3*I40*P40^2+H40),"") -> 2.0562296 | R40: =IF(ISNUMBER(E40),Q40-(I40*Q40^3+H40*Q40-J40)/(3*I40*Q40^2+H40),"") -> 2.0562296 | S40: =IF(ISNUMBER(E40),R40-(I40*R40^3+H40*R40-J40)/(3*I40*R40^2+H40),"") -> 2.0562296 | T40: =IF(ISNUMBER(E40),$B$3*1000/S40/86400,"") -> 0.07767723 | U40: =IF(ISNUMBER(T40),T40*1440,"") -> 111.85521
A41: W/kg 2.25 | B41: ='Ekstra - Udfyld din profil'!C6 -> 80 | C41: ='Scenario med tid på Alpe d''Huez'!B34 -> 180 | D41: =1 -> 1 | E41: =IF(AND(ISNUMBER(B41),B41>0,ISNUMBER(C41),C41>0,ISNUMBER(D41),D41>0,D41<=1,ISNUMBER($B$5),$B$5>=0),C41*D41,"") -> 180 | F41: =IF(ISNUMBER(E41),E41/B41,"") -> 2.25 | G41: =IF(ISNUMBER(E41),B41+$B$5,"") -> 90 | H41: =IF(ISNUMBER(E41),G41*$B$10*($B$4/($B$3*1000)+$B$6*SQRT(1-($B$4/($B$3*1000))^2)),"") -> 75.14993 | I41: =0.5*$B$8*$B$7 -> 0.1696 | J41: =IF(ISNUMBER(E41),E41*$B$9,"") -> 175.5 | K41: =IF(ISNUMBER(E41),MIN(J41/H41,(J41/I41)^(1/3)),"") -> 2.3353315 | L41: =IF(ISNUMBER(E41),K41-(I41*K41^3+H41*K41-J41)/(3*I41*K41^2+H41),"") -> 2.3076113 | M41: =IF(ISNUMBER(E41),L41-(I41*L41^3+H41*L41-J41)/(3*I41*L41^2+H41),"") -> 2.3075997 | N41: =IF(ISNUMBER(E41),M41-(I41*M41^3+H41*M41-J41)/(3*I41*M41^2+H41),"") -> 2.3075997 | O41: =IF(ISNUMBER(E41),N41-(I41*N41^3+H41*N41-J41)/(3*I41*N41^2+H41),"") -> 2.3075997 | P41: =IF(ISNUMBER(E41),O41-(I41*O41^3+H41*O41-J41)/(3*I41*O41^2+H41),"") -> 2.3075997 | Q41: =IF(ISNUMBER(E41),P41-(I41*P41^3+H41*P41-J41)/(3*I41*P41^2+H41),"") -> 2.3075997 | R41: =IF(ISNUMBER(E41),Q41-(I41*Q41^3+H41*Q41-J41)/(3*I41*Q41^2+H41),"") -> 2.3075997 | S41: =IF(ISNUMBER(E41),R41-(I41*R41^3+H41*R41-J41)/(3*I41*R41^2+H41),"") -> 2.3075997 | T41: =IF(ISNUMBER(E41),$B$3*1000/S41/86400,"") -> 0.069215742 | U41: =IF(ISNUMBER(T41),T41*1440,"") -> 99.670668
A42: W/kg 2.5 | B42: ='Ekstra - Udfyld din profil'!C6 -> 80 | C42: ='Scenario med tid på Alpe d''Huez'!B35 -> 200 | D42: =1 -> 1 | E42: =IF(AND(ISNUMBER(B42),B42>0,ISNUMBER(C42),C42>0,ISNUMBER(D42),D42>0,D42<=1,ISNUMBER($B$5),$B$5>=0),C42*D42,"") -> 200 | F42: =IF(ISNUMBER(E42),E42/B42,"") -> 2.5 | G42: =IF(ISNUMBER(E42),B42+$B$5,"") -> 90 | H42: =IF(ISNUMBER(E42),G42*$B$10*($B$4/($B$3*1000)+$B$6*SQRT(1-($B$4/($B$3*1000))^2)),"") -> 75.14993 | I42: =0.5*$B$8*$B$7 -> 0.1696 | J42: =IF(ISNUMBER(E42),E42*$B$9,"") -> 195 | K42: =IF(ISNUMBER(E42),MIN(J42/H42,(J42/I42)^(1/3)),"") -> 2.5948128 | L42: =IF(ISNUMBER(E42),K42-(I42*K42^3+H42*K42-J42)/(3*I42*K42^2+H42),"") -> 2.5571029 | M42: =IF(ISNUMBER(E42),L42-(I42*L42^3+H42*L42-J42)/(3*I42*L42^2+H42),"") -> 2.5570791 | N42: =IF(ISNUMBER(E42),M42-(I42*M42^3+H42*M42-J42)/(3*I42*M42^2+H42),"") -> 2.5570791 | O42: =IF(ISNUMBER(E42),N42-(I42*N42^3+H42*N42-J42)/(3*I42*N42^2+H42),"") -> 2.5570791 | P42: =IF(ISNUMBER(E42),O42-(I42*O42^3+H42*O42-J42)/(3*I42*O42^2+H42),"") -> 2.5570791 | Q42: =IF(ISNUMBER(E42),P42-(I42*P42^3+H42*P42-J42)/(3*I42*P42^2+H42),"") -> 2.5570791 | R42: =IF(ISNUMBER(E42),Q42-(I42*Q42^3+H42*Q42-J42)/(3*I42*Q42^2+H42),"") -> 2.5570791 | S42: =IF(ISNUMBER(E42),R42-(I42*R42^3+H42*R42-J42)/(3*I42*R42^2+H42),"") -> 2.5570791 | T42: =IF(ISNUMBER(E42),$B$3*1000/S42/86400,"") -> 0.062462763 | U42: =IF(ISNUMBER(T42),T42*1440,"") -> 89.946378
A43: W/kg 2.75 | B43: ='Ekstra - Udfyld din profil'!C6 -> 80 | C43: ='Scenario med tid på Alpe d''Huez'!B36 -> 220 | D43: =1 -> 1 | E43: =IF(AND(ISNUMBER(B43),B43>0,ISNUMBER(C43),C43>0,ISNUMBER(D43),D43>0,D43<=1,ISNUMBER($B$5),$B$5>=0),C43*D43,"") -> 220 | F43: =IF(ISNUMBER(E43),E43/B43,"") -> 2.75 | G43: =IF(ISNUMBER(E43),B43+$B$5,"") -> 90 | H43: =IF(ISNUMBER(E43),G43*$B$10*($B$4/($B$3*1000)+$B$6*SQRT(1-($B$4/($B$3*1000))^2)),"") -> 75.14993 | I43: =0.5*$B$8*$B$7 -> 0.1696 | J43: =IF(ISNUMBER(E43),E43*$B$9,"") -> 214.5 | K43: =IF(ISNUMBER(E43),MIN(J43/H43,(J43/I43)^(1/3)),"") -> 2.8542941 | L43: =IF(ISNUMBER(E43),K43-(I43*K43^3+H43*K43-J43)/(3*I43*K43^2+H43),"") -> 2.8045575 | M43: =IF(ISNUMBER(E43),L43-(I43*L43^3+H43*L43-J43)/(3*I43*L43^2+H43),"") -> 2.8045124 | N43: =IF(ISNUMBER(E43),M43-(I43*M43^3+H43*M43-J43)/(3*I43*M43^2+H43),"") -> 2.8045124 | O43: =IF(ISNUMBER(E43),N43-(I43*N43^3+H43*N43-J43)/(3*I43*N43^2+H43),"") -> 2.8045124 | P43: =IF(ISNUMBER(E43),O43-(I43*O43^3+H43*O43-J43)/(3*I43*O43^2+H43),"") -> 2.8045124 | Q43: =IF(ISNUMBER(E43),P43-(I43*P43^3+H43*P43-J43)/(3*I43*P43^2+H43),"") -> 2.8045124 | R43: =IF(ISNUMBER(E43),Q43-(I43*Q43^3+H43*Q43-J43)/(3*I43*Q43^2+H43),"") -> 2.8045124 | S43: =IF(ISNUMBER(E43),R43-(I43*R43^3+H43*R43-J43)/(3*I43*R43^2+H43),"") -> 2.8045124 | T43: =IF(ISNUMBER(E43),$B$3*1000/S43/86400,"") -> 0.056951869 | U43: =IF(ISNUMBER(T43),T43*1440,"") -> 82.010691
A44: W/kg 3 | B44: ='Ekstra - Udfyld din profil'!C6 -> 80 | C44: ='Scenario med tid på Alpe d''Huez'!B37 -> 240 | D44: =1 -> 1 | E44: =IF(AND(ISNUMBER(B44),B44>0,ISNUMBER(C44),C44>0,ISNUMBER(D44),D44>0,D44<=1,ISNUMBER($B$5),$B$5>=0),C44*D44,"") -> 240 | F44: =IF(ISNUMBER(E44),E44/B44,"") -> 3 | G44: =IF(ISNUMBER(E44),B44+$B$5,"") -> 90 | H44: =IF(ISNUMBER(E44),G44*$B$10*($B$4/($B$3*1000)+$B$6*SQRT(1-($B$4/($B$3*1000))^2)),"") -> 75.14993 | I44: =0.5*$B$8*$B$7 -> 0.1696 | J44: =IF(ISNUMBER(E44),E44*$B$9,"") -> 234 | K44: =IF(ISNUMBER(E44),MIN(J44/H44,(J44/I44)^(1/3)),"") -> 3.1137753 | L44: =IF(ISNUMBER(E44),K44-(I44*K44^3+H44*K44-J44)/(3*I44*K44^2+H44),"") -> 3.0498391 | M44: =IF(ISNUMBER(E44),L44-(I44*L44^3+H44*L44-J44)/(3*I44*L44^2+H44),"") -> 3.0497586 | N44: =IF(ISNUMBER(E44),M44-(I44*M44^3+H44*M44-J44)/(3*I44*M44^2+H44),"") -> 3.0497586 | O44: =IF(ISNUMBER(E44),N44-(I44*N44^3+H44*N44-J44)/(3*I44*N44^2+H44),"") -> 3.0497586 | P44: =IF(ISNUMBER(E44),O44-(I44*O44^3+H44*O44-J44)/(3*I44*O44^2+H44),"") -> 3.0497586 | Q44: =IF(ISNUMBER(E44),P44-(I44*P44^3+H44*P44-J44)/(3*I44*P44^2+H44),"") -> 3.0497586 | R44: =IF(ISNUMBER(E44),Q44-(I44*Q44^3+H44*Q44-J44)/(3*I44*Q44^2+H44),"") -> 3.0497586 | S44: =IF(ISNUMBER(E44),R44-(I44*R44^3+H44*R44-J44)/(3*I44*R44^2+H44),"") -> 3.0497586 | T44: =IF(ISNUMBER(E44),$B$3*1000/S44/86400,"") -> 0.052372087 | U44: =IF(ISNUMBER(T44),T44*1440,"") -> 75.415805
A45: W/kg 3.25 | B45: ='Ekstra - Udfyld din profil'!C6 -> 80 | C45: ='Scenario med tid på Alpe d''Huez'!B38 -> 260 | D45: =1 -> 1 | E45: =IF(AND(ISNUMBER(B45),B45>0,ISNUMBER(C45),C45>0,ISNUMBER(D45),D45>0,D45<=1,ISNUMBER($B$5),$B$5>=0),C45*D45,"") -> 260 | F45: =IF(ISNUMBER(E45),E45/B45,"") -> 3.25 | G45: =IF(ISNUMBER(E45),B45+$B$5,"") -> 90 | H45: =IF(ISNUMBER(E45),G45*$B$10*($B$4/($B$3*1000)+$B$6*SQRT(1-($B$4/($B$3*1000))^2)),"") -> 75.14993 | I45: =0.5*$B$8*$B$7 -> 0.1696 | J45: =IF(ISNUMBER(E45),E45*$B$9,"") -> 253.5 | K45: =IF(ISNUMBER(E45),MIN(J45/H45,(J45/I45)^(1/3)),"") -> 3.3732566 | L45: =IF(ISNUMBER(E45),K45-(I45*K45^3+H45*K45-J45)/(3*I45*K45^2+H45),"") -> 3.2928275 | M45: =IF(ISNUMBER(E45),L45-(I45*L45^3+H45*L45-J45)/(3*I45*L45^2+H45),"") -> 3.2926909 | N45: =IF(ISNUMBER(E45),M45-(I45*M45^3+H45*M45-J45)/(3*I45*M45^2+H45),"") -> 3.2926909 | O45: =IF(ISNUMBER(E45),N45-(I45*N45^3+H45*N45-J45)/(3*I45*N45^2+H45),"") -> 3.2926909 | P45: =IF(ISNUMBER(E45),O45-(I45*O45^3+H45*O45-J45)/(3*I45*O45^2+H45),"") -> 3.2926909 | Q45: =IF(ISNUMBER(E45),P45-(I45*P45^3+H45*P45-J45)/(3*I45*P45^2+H45),"") -> 3.2926909 | R45: =IF(ISNUMBER(E45),Q45-(I45*Q45^3+H45*Q45-J45)/(3*I45*Q45^2+H45),"") -> 3.2926909 | S45: =IF(ISNUMBER(E45),R45-(I45*R45^3+H45*R45-J45)/(3*I45*R45^2+H45),"") -> 3.2926909 | T45: =IF(ISNUMBER(E45),$B$3*1000/S45/86400,"") -> 0.048508113 | U45: =IF(ISNUMBER(T45),T45*1440,"") -> 69.851682
A46: W/kg 3.5 | B46: ='Ekstra - Udfyld din profil'!C6 -> 80 | C46: ='Scenario med tid på Alpe d''Huez'!B39 -> 280 | D46: =1 -> 1 | E46: =IF(AND(ISNUMBER(B46),B46>0,ISNUMBER(C46),C46>0,ISNUMBER(D46),D46>0,D46<=1,ISNUMBER($B$5),$B$5>=0),C46*D46,"") -> 280 | F46: =IF(ISNUMBER(E46),E46/B46,"") -> 3.5 | G46: =IF(ISNUMBER(E46),B46+$B$5,"") -> 90 | H46: =IF(ISNUMBER(E46),G46*$B$10*($B$4/($B$3*1000)+$B$6*SQRT(1-($B$4/($B$3*1000))^2)),"") -> 75.14993 | I46: =0.5*$B$8*$B$7 -> 0.1696 | J46: =IF(ISNUMBER(E46),E46*$B$9,"") -> 273 | K46: =IF(ISNUMBER(E46),MIN(J46/H46,(J46/I46)^(1/3)),"") -> 3.6327379 | L46: =IF(ISNUMBER(E46),K46-(I46*K46^3+H46*K46-J46)/(3*I46*K46^2+H46),"") -> 3.5334188 | M46: =IF(ISNUMBER(E46),L46-(I46*L46^3+H46*L46-J46)/(3*I46*L46^2+H46),"") -> 3.5331972 | N46: =IF(ISNUMBER(E46),M46-(I46*M46^3+H46*M46-J46)/(3*I46*M46^2+H46),"") -> 3.5331972 | O46: =IF(ISNUMBER(E46),N46-(I46*N46^3+H46*N46-J46)/(3*I46*N46^2+H46),"") -> 3.5331972 | P46: =IF(ISNUMBER(E46),O46-(I46*O46^3+H46*O46-J46)/(3*I46*O46^2+H46),"") -> 3.5331972 | Q46: =IF(ISNUMBER(E46),P46-(I46*P46^3+H46*P46-J46)/(3*I46*P46^2+H46),"") -> 3.5331972 | R46: =IF(ISNUMBER(E46),Q46-(I46*Q46^3+H46*Q46-J46)/(3*I46*Q46^2+H46),"") -> 3.5331972 | S46: =IF(ISNUMBER(E46),R46-(I46*R46^3+H46*R46-J46)/(3*I46*R46^2+H46),"") -> 3.5331972 | T46: =IF(ISNUMBER(E46),$B$3*1000/S46/86400,"") -> 0.045206145 | U46: =IF(ISNUMBER(T46),T46*1440,"") -> 65.096849
A47: W/kg 3.75 | B47: ='Ekstra - Udfyld din profil'!C6 -> 80 | C47: ='Scenario med tid på Alpe d''Huez'!B40 -> 300 | D47: =1 -> 1 | E47: =IF(AND(ISNUMBER(B47),B47>0,ISNUMBER(C47),C47>0,ISNUMBER(D47),D47>0,D47<=1,ISNUMBER($B$5),$B$5>=0),C47*D47,"") -> 300 | F47: =IF(ISNUMBER(E47),E47/B47,"") -> 3.75 | G47: =IF(ISNUMBER(E47),B47+$B$5,"") -> 90 | H47: =IF(ISNUMBER(E47),G47*$B$10*($B$4/($B$3*1000)+$B$6*SQRT(1-($B$4/($B$3*1000))^2)),"") -> 75.14993 | I47: =0.5*$B$8*$B$7 -> 0.1696 | J47: =IF(ISNUMBER(E47),E47*$B$9,"") -> 292.5 | K47: =IF(ISNUMBER(E47),MIN(J47/H47,(J47/I47)^(1/3)),"") -> 3.8922192 | L47: =IF(ISNUMBER(E47),K47-(I47*K47^3+H47*K47-J47)/(3*I47*K47^2+H47),"") -> 3.7715257 | M47: =IF(ISNUMBER(E47),L47-(I47*L47^3+H47*L47-J47)/(3*I47*L47^2+H47),"") -> 3.7711792 | N47: =IF(ISNUMBER(E47),M47-(I47*M47^3+H47*M47-J47)/(3*I47*M47^2+H47),"") -> 3.7711792 | O47: =IF(ISNUMBER(E47),N47-(I47*N47^3+H47*N47-J47)/(3*I47*N47^2+H47),"") -> 3.7711792 | P47: =IF(ISNUMBER(E47),O47-(I47*O47^3+H47*O47-J47)/(3*I47*O47^2+H47),"") -> 3.7711792 | Q47: =IF(ISNUMBER(E47),P47-(I47*P47^3+H47*P47-J47)/(3*I47*P47^2+H47),"") -> 3.7711792 | R47: =IF(ISNUMBER(E47),Q47-(I47*Q47^3+H47*Q47-J47)/(3*I47*Q47^2+H47),"") -> 3.7711792 | S47: =IF(ISNUMBER(E47),R47-(I47*R47^3+H47*R47-J47)/(3*I47*R47^2+H47),"") -> 3.7711792 | T47: =IF(ISNUMBER(E47),$B$3*1000/S47/86400,"") -> 0.04235339 | U47: =IF(ISNUMBER(T47),T47*1440,"") -> 60.988881
A48: W/kg 4 | B48: ='Ekstra - Udfyld din profil'!C6 -> 80 | C48: ='Scenario med tid på Alpe d''Huez'!B41 -> 320 | D48: =1 -> 1 | E48: =IF(AND(ISNUMBER(B48),B48>0,ISNUMBER(C48),C48>0,ISNUMBER(D48),D48>0,D48<=1,ISNUMBER($B$5),$B$5>=0),C48*D48,"") -> 320 | F48: =IF(ISNUMBER(E48),E48/B48,"") -> 4 | G48: =IF(ISNUMBER(E48),B48+$B$5,"") -> 90 | H48: =IF(ISNUMBER(E48),G48*$B$10*($B$4/($B$3*1000)+$B$6*SQRT(1-($B$4/($B$3*1000))^2)),"") -> 75.14993 | I48: =0.5*$B$8*$B$7 -> 0.1696 | J48: =IF(ISNUMBER(E48),E48*$B$9,"") -> 312 | K48: =IF(ISNUMBER(E48),MIN(J48/H48,(J48/I48)^(1/3)),"") -> 4.1517005 | L48: =IF(ISNUMBER(E48),K48-(I48*K48^3+H48*K48-J48)/(3*I48*K48^2+H48),"") -> 4.007077 | M48: =IF(ISNUMBER(E48),L48-(I48*L48^3+H48*L48-J48)/(3*I48*L48^2+H48),"") -> 4.0065529 | N48: =IF(ISNUMBER(E48),M48-(I48*M48^3+H48*M48-J48)/(3*I48*M48^2+H48),"") -> 4.0065528 | O48: =IF(ISNUMBER(E48),N48-(I48*N48^3+H48*N48-J48)/(3*I48*N48^2+H48),"") -> 4.0065528 | P48: =IF(ISNUMBER(E48),O48-(I48*O48^3+H48*O48-J48)/(3*I48*O48^2+H48),"") -> 4.0065528 | Q48: =IF(ISNUMBER(E48),P48-(I48*P48^3+H48*P48-J48)/(3*I48*P48^2+H48),"") -> 4.0065528 | R48: =IF(ISNUMBER(E48),Q48-(I48*Q48^3+H48*Q48-J48)/(3*I48*Q48^2+H48),"") -> 4.0065528 | S48: =IF(ISNUMBER(E48),R48-(I48*R48^3+H48*R48-J48)/(3*I48*R48^2+H48),"") -> 4.0065528 | T48: =IF(ISNUMBER(E48),$B$3*1000/S48/86400,"") -> 0.039865248 | U48: =IF(ISNUMBER(T48),T48*1440,"") -> 57.405957
A49: W/kg 4.25 | B49: ='Ekstra - Udfyld din profil'!C6 -> 80 | C49: ='Scenario med tid på Alpe d''Huez'!B42 -> 340 | D49: =1 -> 1 | E49: =IF(AND(ISNUMBER(B49),B49>0,ISNUMBER(C49),C49>0,ISNUMBER(D49),D49>0,D49<=1,ISNUMBER($B$5),$B$5>=0),C49*D49,"") -> 340 | F49: =IF(ISNUMBER(E49),E49/B49,"") -> 4.25 | G49: =IF(ISNUMBER(E49),B49+$B$5,"") -> 90 | H49: =IF(ISNUMBER(E49),G49*$B$10*($B$4/($B$3*1000)+$B$6*SQRT(1-($B$4/($B$3*1000))^2)),"") -> 75.14993 | I49: =0.5*$B$8*$B$7 -> 0.1696 | J49: =IF(ISNUMBER(E49),E49*$B$9,"") -> 331.5 | K49: =IF(ISNUMBER(E49),MIN(J49/H49,(J49/I49)^(1/3)),"") -> 4.4111817 | L49: =IF(ISNUMBER(E49),K49-(I49*K49^3+H49*K49-J49)/(3*I49*K49^2+H49),"") -> 4.240017 | M49: =IF(ISNUMBER(E49),L49-(I49*L49^3+H49*L49-J49)/(3*I49*L49^2+H49),"") -> 4.2392471 | N49: =IF(ISNUMBER(E49),M49-(I49*M49^3+H49*M49-J49)/(3*I49*M49^2+H49),"") -> 4.2392471 | O49: =IF(ISNUMBER(E49),N49-(I49*N49^3+H49*N49-J49)/(3*I49*N49^2+H49),"") -> 4.2392471 | P49: =IF(ISNUMBER(E49),O49-(I49*O49^3+H49*O49-J49)/(3*I49*O49^2+H49),"") -> 4.2392471 | Q49: =IF(ISNUMBER(E49),P49-(I49*P49^3+H49*P49-J49)/(3*I49*P49^2+H49),"") -> 4.2392471 | R49: =IF(ISNUMBER(E49),Q49-(I49*Q49^3+H49*Q49-J49)/(3*I49*Q49^2+H49),"") -> 4.2392471 | S49: =IF(ISNUMBER(E49),R49-(I49*R49^3+H49*R49-J49)/(3*I49*R49^2+H49),"") -> 4.2392471 | T49: =IF(ISNUMBER(E49),$B$3*1000/S49/86400,"") -> 0.037677026 | U49: =IF(ISNUMBER(T49),T49*1440,"") -> 54.254918
A50: W/kg 4.5 | B50: ='Ekstra - Udfyld din profil'!C6 -> 80 | C50: ='Scenario med tid på Alpe d''Huez'!B43 -> 360 | D50: =1 -> 1 | E50: =IF(AND(ISNUMBER(B50),B50>0,ISNUMBER(C50),C50>0,ISNUMBER(D50),D50>0,D50<=1,ISNUMBER($B$5),$B$5>=0),C50*D50,"") -> 360 | F50: =IF(ISNUMBER(E50),E50/B50,"") -> 4.5 | G50: =IF(ISNUMBER(E50),B50+$B$5,"") -> 90 | H50: =IF(ISNUMBER(E50),G50*$B$10*($B$4/($B$3*1000)+$B$6*SQRT(1-($B$4/($B$3*1000))^2)),"") -> 75.14993 | I50: =0.5*$B$8*$B$7 -> 0.1696 | J50: =IF(ISNUMBER(E50),E50*$B$9,"") -> 351 | K50: =IF(ISNUMBER(E50),MIN(J50/H50,(J50/I50)^(1/3)),"") -> 4.670663 | L50: =IF(ISNUMBER(E50),K50-(I50*K50^3+H50*K50-J50)/(3*I50*K50^2+H50),"") -> 4.4703057 | M50: =IF(ISNUMBER(E50),L50-(I50*L50^3+H50*L50-J50)/(3*I50*L50^2+H50),"") -> 4.4692036 | N50: =IF(ISNUMBER(E50),M50-(I50*M50^3+H50*M50-J50)/(3*I50*M50^2+H50),"") -> 4.4692036 | O50: =IF(ISNUMBER(E50),N50-(I50*N50^3+H50*N50-J50)/(3*I50*N50^2+H50),"") -> 4.4692036 | P50: =IF(ISNUMBER(E50),O50-(I50*O50^3+H50*O50-J50)/(3*I50*O50^2+H50),"") -> 4.4692036 | Q50: =IF(ISNUMBER(E50),P50-(I50*P50^3+H50*P50-J50)/(3*I50*P50^2+H50),"") -> 4.4692036 | R50: =IF(ISNUMBER(E50),Q50-(I50*Q50^3+H50*Q50-J50)/(3*I50*Q50^2+H50),"") -> 4.4692036 | S50: =IF(ISNUMBER(E50),R50-(I50*R50^3+H50*R50-J50)/(3*I50*R50^2+H50),"") -> 4.4692036 | T50: =IF(ISNUMBER(E50),$B$3*1000/S50/86400,"") -> 0.035738409 | U50: =IF(ISNUMBER(T50),T50*1440,"") -> 51.463308
A51: W/kg 4.75 | B51: ='Ekstra - Udfyld din profil'!C6 -> 80 | C51: ='Scenario med tid på Alpe d''Huez'!B44 -> 380 | D51: =1 -> 1 | E51: =IF(AND(ISNUMBER(B51),B51>0,ISNUMBER(C51),C51>0,ISNUMBER(D51),D51>0,D51<=1,ISNUMBER($B$5),$B$5>=0),C51*D51,"") -> 380 | F51: =IF(ISNUMBER(E51),E51/B51,"") -> 4.75 | G51: =IF(ISNUMBER(E51),B51+$B$5,"") -> 90 | H51: =IF(ISNUMBER(E51),G51*$B$10*($B$4/($B$3*1000)+$B$6*SQRT(1-($B$4/($B$3*1000))^2)),"") -> 75.14993 | I51: =0.5*$B$8*$B$7 -> 0.1696 | J51: =IF(ISNUMBER(E51),E51*$B$9,"") -> 370.5 | K51: =IF(ISNUMBER(E51),MIN(J51/H51,(J51/I51)^(1/3)),"") -> 4.9301443 | L51: =IF(ISNUMBER(E51),K51-(I51*K51^3+H51*K51-J51)/(3*I51*K51^2+H51),"") -> 4.6979175 | M51: =IF(ISNUMBER(E51),L51-(I51*L51^3+H51*L51-J51)/(3*I51*L51^2+H51),"") -> 4.696376 | N51: =IF(ISNUMBER(E51),M51-(I51*M51^3+H51*M51-J51)/(3*I51*M51^2+H51),"") -> 4.6963759 | O51: =IF(ISNUMBER(E51),N51-(I51*N51^3+H51*N51-J51)/(3*I51*N51^2+H51),"") -> 4.6963759 | P51: =IF(ISNUMBER(E51),O51-(I51*O51^3+H51*O51-J51)/(3*I51*O51^2+H51),"") -> 4.6963759 | Q51: =IF(ISNUMBER(E51),P51-(I51*P51^3+H51*P51-J51)/(3*I51*P51^2+H51),"") -> 4.6963759 | R51: =IF(ISNUMBER(E51),Q51-(I51*Q51^3+H51*Q51-J51)/(3*I51*Q51^2+H51),"") -> 4.6963759 | S51: =IF(ISNUMBER(E51),R51-(I51*R51^3+H51*R51-J51)/(3*I51*R51^2+H51),"") -> 4.6963759 | T51: =IF(ISNUMBER(E51),$B$3*1000/S51/86400,"") -> 0.034009676 | U51: =IF(ISNUMBER(T51),T51*1440,"") -> 48.973933
A52: W/kg 5 | B52: ='Ekstra - Udfyld din profil'!C6 -> 80 | C52: ='Scenario med tid på Alpe d''Huez'!B45 -> 400 | D52: =1 -> 1 | E52: =IF(AND(ISNUMBER(B52),B52>0,ISNUMBER(C52),C52>0,ISNUMBER(D52),D52>0,D52<=1,ISNUMBER($B$5),$B$5>=0),C52*D52,"") -> 400 | F52: =IF(ISNUMBER(E52),E52/B52,"") -> 5 | G52: =IF(ISNUMBER(E52),B52+$B$5,"") -> 90 | H52: =IF(ISNUMBER(E52),G52*$B$10*($B$4/($B$3*1000)+$B$6*SQRT(1-($B$4/($B$3*1000))^2)),"") -> 75.14993 | I52: =0.5*$B$8*$B$7 -> 0.1696 | J52: =IF(ISNUMBER(E52),E52*$B$9,"") -> 390 | K52: =IF(ISNUMBER(E52),MIN(J52/H52,(J52/I52)^(1/3)),"") -> 5.1896256 | L52: =IF(ISNUMBER(E52),K52-(I52*K52^3+H52*K52-J52)/(3*I52*K52^2+H52),"") -> 4.9228404 | M52: =IF(ISNUMBER(E52),L52-(I52*L52^3+H52*L52-J52)/(3*I52*L52^2+H52),"") -> 4.9207289 | N52: =IF(ISNUMBER(E52),M52-(I52*M52^3+H52*M52-J52)/(3*I52*M52^2+H52),"") -> 4.9207288 | O52: =IF(ISNUMBER(E52),N52-(I52*N52^3+H52*N52-J52)/(3*I52*N52^2+H52),"") -> 4.9207288 | P52: =IF(ISNUMBER(E52),O52-(I52*O52^3+H52*O52-J52)/(3*I52*O52^2+H52),"") -> 4.9207288 | Q52: =IF(ISNUMBER(E52),P52-(I52*P52^3+H52*P52-J52)/(3*I52*P52^2+H52),"") -> 4.9207288 | R52: =IF(ISNUMBER(E52),Q52-(I52*Q52^3+H52*Q52-J52)/(3*I52*Q52^2+H52),"") -> 4.9207288 | S52: =IF(ISNUMBER(E52),R52-(I52*R52^3+H52*R52-J52)/(3*I52*R52^2+H52),"") -> 4.9207288 | T52: =IF(ISNUMBER(E52),$B$3*1000/S52/86400,"") -> 0.032459058 | U52: =IF(ISNUMBER(T52),T52*1440,"") -> 46.741044
A53: W/kg 5.25 | B53: ='Ekstra - Udfyld din profil'!C6 -> 80 | C53: ='Scenario med tid på Alpe d''Huez'!B46 -> 420 | D53: =1 -> 1 | E53: =IF(AND(ISNUMBER(B53),B53>0,ISNUMBER(C53),C53>0,ISNUMBER(D53),D53>0,D53<=1,ISNUMBER($B$5),$B$5>=0),C53*D53,"") -> 420 | F53: =IF(ISNUMBER(E53),E53/B53,"") -> 5.25 | G53: =IF(ISNUMBER(E53),B53+$B$5,"") -> 90 | H53: =IF(ISNUMBER(E53),G53*$B$10*($B$4/($B$3*1000)+$B$6*SQRT(1-($B$4/($B$3*1000))^2)),"") -> 75.14993 | I53: =0.5*$B$8*$B$7 -> 0.1696 | J53: =IF(ISNUMBER(E53),E53*$B$9,"") -> 409.5 | K53: =IF(ISNUMBER(E53),MIN(J53/H53,(J53/I53)^(1/3)),"") -> 5.4491068 | L53: =IF(ISNUMBER(E53),K53-(I53*K53^3+H53*K53-J53)/(3*I53*K53^2+H53),"") -> 5.1450758 | M53: =IF(ISNUMBER(E53),L53-(I53*L53^3+H53*L53-J53)/(3*I53*L53^2+H53),"") -> 5.1422377 | N53: =IF(ISNUMBER(E53),M53-(I53*M53^3+H53*M53-J53)/(3*I53*M53^2+H53),"") -> 5.1422374 | O53: =IF(ISNUMBER(E53),N53-(I53*N53^3+H53*N53-J53)/(3*I53*N53^2+H53),"") -> 5.1422374 | P53: =IF(ISNUMBER(E53),O53-(I53*O53^3+H53*O53-J53)/(3*I53*O53^2+H53),"") -> 5.1422374 | Q53: =IF(ISNUMBER(E53),P53-(I53*P53^3+H53*P53-J53)/(3*I53*P53^2+H53),"") -> 5.1422374 | R53: =IF(ISNUMBER(E53),Q53-(I53*Q53^3+H53*Q53-J53)/(3*I53*Q53^2+H53),"") -> 5.1422374 | S53: =IF(ISNUMBER(E53),R53-(I53*R53^3+H53*R53-J53)/(3*I53*R53^2+H53),"") -> 5.1422374 | T53: =IF(ISNUMBER(E53),$B$3*1000/S53/86400,"") -> 0.031060842 | U53: =IF(ISNUMBER(T53),T53*1440,"") -> 44.727612
A54: W/kg 5.5 | B54: ='Ekstra - Udfyld din profil'!C6 -> 80 | C54: ='Scenario med tid på Alpe d''Huez'!B47 -> 440 | D54: =1 -> 1 | E54: =IF(AND(ISNUMBER(B54),B54>0,ISNUMBER(C54),C54>0,ISNUMBER(D54),D54>0,D54<=1,ISNUMBER($B$5),$B$5>=0),C54*D54,"") -> 440 | F54: =IF(ISNUMBER(E54),E54/B54,"") -> 5.5 | G54: =IF(ISNUMBER(E54),B54+$B$5,"") -> 90 | H54: =IF(ISNUMBER(E54),G54*$B$10*($B$4/($B$3*1000)+$B$6*SQRT(1-($B$4/($B$3*1000))^2)),"") -> 75.14993 | I54: =0.5*$B$8*$B$7 -> 0.1696 | J54: =IF(ISNUMBER(E54),E54*$B$9,"") -> 429 | K54: =IF(ISNUMBER(E54),MIN(J54/H54,(J54/I54)^(1/3)),"") -> 5.7085881 | L54: =IF(ISNUMBER(E54),K54-(I54*K54^3+H54*K54-J54)/(3*I54*K54^2+H54),"") -> 5.3646366 | M54: =IF(ISNUMBER(E54),L54-(I54*L54^3+H54*L54-J54)/(3*I54*L54^2+H54),"") -> 5.3608867 | N54: =IF(ISNUMBER(E54),M54-(I54*M54^3+H54*M54-J54)/(3*I54*M54^2+H54),"") -> 5.3608862 | O54: =IF(ISNUMBER(E54),N54-(I54*N54^3+H54*N54-J54)/(3*I54*N54^2+H54),"") -> 5.3608862 | P54: =IF(ISNUMBER(E54),O54-(I54*O54^3+H54*O54-J54)/(3*I54*O54^2+H54),"") -> 5.3608862 | Q54: =IF(ISNUMBER(E54),P54-(I54*P54^3+H54*P54-J54)/(3*I54*P54^2+H54),"") -> 5.3608862 | R54: =IF(ISNUMBER(E54),Q54-(I54*Q54^3+H54*Q54-J54)/(3*I54*Q54^2+H54),"") -> 5.3608862 | S54: =IF(ISNUMBER(E54),R54-(I54*R54^3+H54*R54-J54)/(3*I54*R54^2+H54),"") -> 5.3608862 | T54: =IF(ISNUMBER(E54),$B$3*1000/S54/86400,"") -> 0.029793996 | U54: =IF(ISNUMBER(T54),T54*1440,"") -> 42.903354

Sheet Beregninger
A1: Beregninger og forudsætninger
A2: Seneste uge slut | B2: =MAX(W12:W51) -> 0
A4: Periode | B4: Start | C4: Slut | D4: Nedre timer/uge | E4: Øvre timer/uge
A5: BASE | B5: 46272 | C5: 46387 | D5: 3 | E5: 5 | F5: Ugetimer fordeles på perioder i forhold til antal kalenderdage.
A6: OPBYGNING | B6: 46388 | C6: 46477 | D6: 5 | E6: 7 | F6: OBS. Manglende timer før seneste registrering stopper samlet status og akkumuleret faktisk kurve.
A7: FORBEREDELSE | B7: 46478 | C7: 46546 | D7: 7 | E7: 9
A11: Uge | B11: Ugeslut | C11: Dage | D11: BASE dage | E11: OPB dage | F11: FORB dage | G11: Min. timer | H11: Maks. timer | I11: Ugetimer | J11: Akk. min. | K11: Akk. maks. | L11: Akk. udført | M11: Km | N11: Hm | O11: Aktuel FTP | P11: Aktuel kg | Q11: FTP/kg | R11: Gns. W/kg | S11: Pulsandel | T11: Pulszone | U11: Mangler uge | V11: Ugestatus | W11: Registreret slut | X11: Uge | Y11: Nedre anbefaling | Z11: Øvre anbefaling | AA11: Udført | AB11: Uge | AC11: Nedre anbefaling | AD11: Øvre anbefaling | AE11: Udført | AF11: Uge | AG11: Nedre anbefaling | AH11: Øvre anbefaling | AI11: Udført | AJ11: Timer pr. dag | AK11: Gns. watt | AL11: Vægt kg | AM11: FTP/kg | AN11: Gns. W/kg | AO11: Puls / maks. | AP11: Timer
A12: =TEXT(Ugeindtastning!A15,"dd/mm") -> 07/09 | B12: =Ugeindtastning!B15 -> 46278 | C12: =B12-Ugeindtastning!A15+1 -> 7 | D12: =MAX(0,MIN(B12,$C$5)-MAX(Ugeindtastning!A15,$B$5)+1) -> 7 | E12: =MAX(0,MIN(B12,$C$6)-MAX(Ugeindtastning!A15,$B$6)+1) -> 0 | F12: =MAX(0,MIN(B12,$C$7)-MAX(Ugeindtastning!A15,$B$7)+1) -> 0 | G12: =(D12*$D$5+E12*$D$6+F12*$D$7)/7 -> 3 | H12: =(D12*$E$5+E12*$E$6+F12*$E$7)/7 -> 5 | I12: =IF(NOT(ISNUMBER(Ugeindtastning!D15)),"",Ugeindtastning!D15) | J12: =SUM(G$12:G12) -> 3 | K12: =SUM(H$12:H12) -> 5 | L12: =IF(OR(B12>$B$2,COUNT(I$12:I12)<ROWS(I$12:I12)),NA(),SUM(I$12:I12)) -> #N/A | M12: =IF(NOT(ISNUMBER(Ugeindtastning!E15)),NA(),Ugeindtastning!E15) -> #N/A | N12: =IF(NOT(ISNUMBER(Ugeindtastning!F15)),NA(),Ugeindtastning!F15) -> #N/A | O12: =IF(Ugeindtastning!H15<>"",Ugeindtastning!H15,"") | P12: =IF(Ugeindtastning!G15<>"",Ugeindtastning!G15,"") | Q12: =IF(OR(O12="",P12="",P12<=0),"",O12/P12) | R12: =IF(OR(NOT(ISNUMBER(Ugeindtastning!I15)),P12="",P12<=0),"",Ugeindtastning!I15/P12) | S12: =IF(OR(Ugeindtastning!J15="",Ugeindtastning!$B$6="",Ugeindtastning!$B$6<=0),"",Ugeindtastning!J15/Ugeindtastning!$B$6) | T12: =IF(S12="","",IF(S12>1,"Tjek maks. puls",IF(S12<0.5,"Under Z1",IF(S12<0.6,"Z1",IF(S12<0.7,"Z2",IF(S12<0.8,"Z3",IF(S12<0.9,"Z4","Z5"))))))) | U12: =IF(AND(B12<=$B$2,NOT(ISNUMBER(I12))),1,0) -> 0 | V12: =IF(NOT(ISNUMBER(I12)),"Ikke registreret",IF(I12<G12,"Under interval",IF(I12>H12,"Over interval","Inden for interval"))) -> Ikke registreret | W12: =IF(NOT(ISNUMBER(I12)),0,B12) -> 0 | X12: =A12 -> 07/09 | Y12: =SUM(D$12:D12)*$D$5/7 -> 3 | Z12: =SUM(D$12:D12)*$E$5/7 -> 5 | AA12: =IF(OR(B12>$B$2,SUMPRODUCT(D$12:D12,U$12:U12)>0),NA(),SUMPRODUCT(D$12:D12,AJ$12:AJ12)) -> #N/A | AB12: =A28 -> 28/12 | AC12: =SUM(E$12:E28)*$D$6/7 -> 2.1428571 | AD12: =SUM(E$12:E28)*$E$6/7 -> 3 | AE12: =IF(OR(B28>$B$2,SUMPRODUCT(E$12:E28,U$12:U28)>0),NA(),SUMPRODUCT(E$12:E28,AJ$12:AJ28)) -> #N/A | AF12: =A41 -> 29/03 | AG12: =SUM(F$12:F41)*$D$7/7 -> 4 | AH12: =SUM(F$12:F41)*$E$7/7 -> 5.1428571 | AI12: =IF(OR(B41>$B$2,SUMPRODUCT(F$12:F41,U$12:U41)>0),NA(),SUMPRODUCT(F$12:F41,AJ$12:AJ41)) -> #N/A | AJ12: =IF(NOT(ISNUMBER(I12)),0,I12/C12) -> 0 | AK12: =IF(NOT(ISNUMBER(Ugeindtastning!I15)),NA(),Ugeindtastning!I15) -> #N/A | AL12: =IF(OR(B12>$B$2,P12=""),NA(),P12) -> #N/A | AM12: =IF(OR(B12>$B$2,Q12=""),NA(),Q12) -> #N/A | AN12: =IF(OR(B12>$B$2,R12=""),NA(),R12) -> #N/A | AO12: =IF(OR(B12>$B$2,S12=""),NA(),S12) -> #N/A | AP12: =IF(NOT(ISNUMBER(I12)),NA(),I12) -> #N/A
A13: =TEXT(Ugeindtastning!A16,"dd/mm") -> 14/09 | B13: =Ugeindtastning!B16 -> 46285 | C13: =B13-Ugeindtastning!A16+1 -> 7 | D13: =MAX(0,MIN(B13,$C$5)-MAX(Ugeindtastning!A16,$B$5)+1) -> 7 | E13: =MAX(0,MIN(B13,$C$6)-MAX(Ugeindtastning!A16,$B$6)+1) -> 0 | F13: =MAX(0,MIN(B13,$C$7)-MAX(Ugeindtastning!A16,$B$7)+1) -> 0 | G13: =(D13*$D$5+E13*$D$6+F13*$D$7)/7 -> 3 | H13: =(D13*$E$5+E13*$E$6+F13*$E$7)/7 -> 5 | I13: =IF(NOT(ISNUMBER(Ugeindtastning!D16)),"",Ugeindtastning!D16) | J13: =SUM(G$12:G13) -> 6 | K13: =SUM(H$12:H13) -> 10 | L13: =IF(OR(B13>$B$2,COUNT(I$12:I13)<ROWS(I$12:I13)),NA(),SUM(I$12:I13)) -> #N/A | M13: =IF(NOT(ISNUMBER(Ugeindtastning!E16)),NA(),Ugeindtastning!E16) -> #N/A | N13: =IF(NOT(ISNUMBER(Ugeindtastning!F16)),NA(),Ugeindtastning!F16) -> #N/A | O13: =IF(Ugeindtastning!H16<>"",Ugeindtastning!H16,O12) | P13: =IF(Ugeindtastning!G16<>"",Ugeindtastning!G16,P12) | Q13: =IF(OR(O13="",P13="",P13<=0),"",O13/P13) | R13: =IF(OR(NOT(ISNUMBER(Ugeindtastning!I16)),P13="",P13<=0),"",Ugeindtastning!I16/P13) | S13: =IF(OR(Ugeindtastning!J16="",Ugeindtastning!$B$6="",Ugeindtastning!$B$6<=0),"",Ugeindtastning!J16/Ugeindtastning!$B$6) | T13: =IF(S13="","",IF(S13>1,"Tjek maks. puls",IF(S13<0.5,"Under Z1",IF(S13<0.6,"Z1",IF(S13<0.7,"Z2",IF(S13<0.8,"Z3",IF(S13<0.9,"Z4","Z5"))))))) | U13: =IF(AND(B13<=$B$2,NOT(ISNUMBER(I13))),1,0) -> 0 | V13: =IF(NOT(ISNUMBER(I13)),"Ikke registreret",IF(I13<G13,"Under interval",IF(I13>H13,"Over interval","Inden for interval"))) -> Ikke registreret | W13: =IF(NOT(ISNUMBER(I13)),0,B13) -> 0 | X13: =A13 -> 14/09 | Y13: =SUM(D$12:D13)*$D$5/7 -> 6 | Z13: =SUM(D$12:D13)*$E$5/7 -> 10 | AA13: =IF(OR(B13>$B$2,SUMPRODUCT(D$12:D13,U$12:U13)>0),NA(),SUMPRODUCT(D$12:D13,AJ$12:AJ13)) -> #N/A | AB13: =A29 -> 04/01 | AC13: =SUM(E$12:E29)*$D$6/7 -> 7.1428571 | AD13: =SUM(E$12:E29)*$E$6/7 -> 10 | AE13: =IF(OR(B29>$B$2,SUMPRODUCT(E$12:E29,U$12:U29)>0),NA(),SUMPRODUCT(E$12:E29,AJ$12:AJ29)) -> #N/A | AF13: =A42 -> 05/04 | AG13: =SUM(F$12:F42)*$D$7/7 -> 11 | AH13: =SUM(F$12:F42)*$E$7/7 -> 14.142857 | AI13: =IF(OR(B42>$B$2,SUMPRODUCT(F$12:F42,U$12:U42)>0),NA(),SUMPRODUCT(F$12:F42,AJ$12:AJ42)) -> #N/A | AJ13: =IF(NOT(ISNUMBER(I13)),0,I13/C13) -> 0 | AK13: =IF(NOT(ISNUMBER(Ugeindtastning!I16)),NA(),Ugeindtastning!I16) -> #N/A | AL13: =IF(OR(B13>$B$2,P13=""),NA(),P13) -> #N/A | AM13: =IF(OR(B13>$B$2,Q13=""),NA(),Q13) -> #N/A | AN13: =IF(OR(B13>$B$2,R13=""),NA(),R13) -> #N/A | AO13: =IF(OR(B13>$B$2,S13=""),NA(),S13) -> #N/A | AP13: =IF(NOT(ISNUMBER(I13)),NA(),I13) -> #N/A
A14: =TEXT(Ugeindtastning!A17,"dd/mm") -> 21/09 | B14: =Ugeindtastning!B17 -> 46292 | C14: =B14-Ugeindtastning!A17+1 -> 7 | D14: =MAX(0,MIN(B14,$C$5)-MAX(Ugeindtastning!A17,$B$5)+1) -> 7 | E14: =MAX(0,MIN(B14,$C$6)-MAX(Ugeindtastning!A17,$B$6)+1) -> 0 | F14: =MAX(0,MIN(B14,$C$7)-MAX(Ugeindtastning!A17,$B$7)+1) -> 0 | G14: =(D14*$D$5+E14*$D$6+F14*$D$7)/7 -> 3 | H14: =(D14*$E$5+E14*$E$6+F14*$E$7)/7 -> 5 | I14: =IF(NOT(ISNUMBER(Ugeindtastning!D17)),"",Ugeindtastning!D17) | J14: =SUM(G$12:G14) -> 9 | K14: =SUM(H$12:H14) -> 15 | L14: =IF(OR(B14>$B$2,COUNT(I$12:I14)<ROWS(I$12:I14)),NA(),SUM(I$12:I14)) -> #N/A | M14: =IF(NOT(ISNUMBER(Ugeindtastning!E17)),NA(),Ugeindtastning!E17) -> #N/A | N14: =IF(NOT(ISNUMBER(Ugeindtastning!F17)),NA(),Ugeindtastning!F17) -> #N/A | O14: =IF(Ugeindtastning!H17<>"",Ugeindtastning!H17,O13) | P14: =IF(Ugeindtastning!G17<>"",Ugeindtastning!G17,P13) | Q14: =IF(OR(O14="",P14="",P14<=0),"",O14/P14) | R14: =IF(OR(NOT(ISNUMBER(Ugeindtastning!I17)),P14="",P14<=0),"",Ugeindtastning!I17/P14) | S14: =IF(OR(Ugeindtastning!J17="",Ugeindtastning!$B$6="",Ugeindtastning!$B$6<=0),"",Ugeindtastning!J17/Ugeindtastning!$B$6) | T14: =IF(S14="","",IF(S14>1,"Tjek maks. puls",IF(S14<0.5,"Under Z1",IF(S14<0.6,"Z1",IF(S14<0.7,"Z2",IF(S14<0.8,"Z3",IF(S14<0.9,"Z4","Z5"))))))) | U14: =IF(AND(B14<=$B$2,NOT(ISNUMBER(I14))),1,0) -> 0 | V14: =IF(NOT(ISNUMBER(I14)),"Ikke registreret",IF(I14<G14,"Under interval",IF(I14>H14,"Over interval","Inden for interval"))) -> Ikke registreret | W14: =IF(NOT(ISNUMBER(I14)),0,B14) -> 0 | X14: =A14 -> 21/09 | Y14: =SUM(D$12:D14)*$D$5/7 -> 9 | Z14: =SUM(D$12:D14)*$E$5/7 -> 15 | AA14: =IF(OR(B14>$B$2,SUMPRODUCT(D$12:D14,U$12:U14)>0),NA(),SUMPRODUCT(D$12:D14,AJ$12:AJ14)) -> #N/A | AB14: =A30 -> 11/01 | AC14: =SUM(E$12:E30)*$D$6/7 -> 12.142857 | AD14: =SUM(E$12:E30)*$E$6/7 -> 17 | AE14: =IF(OR(B30>$B$2,SUMPRODUCT(E$12:E30,U$12:U30)>0),NA(),SUMPRODUCT(E$12:E30,AJ$12:AJ30)) -> #N/A | AF14: =A43 -> 12/04 | AG14: =SUM(F$12:F43)*$D$7/7 -> 18 | AH14: =SUM(F$12:F43)*$E$7/7 -> 23.142857 | AI14: =IF(OR(B43>$B$2,SUMPRODUCT(F$12:F43,U$12:U43)>0),NA(),SUMPRODUCT(F$12:F43,AJ$12:AJ43)) -> #N/A | AJ14: =IF(NOT(ISNUMBER(I14)),0,I14/C14) -> 0 | AK14: =IF(NOT(ISNUMBER(Ugeindtastning!I17)),NA(),Ugeindtastning!I17) -> #N/A | AL14: =IF(OR(B14>$B$2,P14=""),NA(),P14) -> #N/A | AM14: =IF(OR(B14>$B$2,Q14=""),NA(),Q14) -> #N/A | AN14: =IF(OR(B14>$B$2,R14=""),NA(),R14) -> #N/A | AO14: =IF(OR(B14>$B$2,S14=""),NA(),S14) -> #N/A | AP14: =IF(NOT(ISNUMBER(I14)),NA(),I14) -> #N/A
A15: =TEXT(Ugeindtastning!A18,"dd/mm") -> 28/09 | B15: =Ugeindtastning!B18 -> 46299 | C15: =B15-Ugeindtastning!A18+1 -> 7 | D15: =MAX(0,MIN(B15,$C$5)-MAX(Ugeindtastning!A18,$B$5)+1) -> 7 | E15: =MAX(0,MIN(B15,$C$6)-MAX(Ugeindtastning!A18,$B$6)+1) -> 0 | F15: =MAX(0,MIN(B15,$C$7)-MAX(Ugeindtastning!A18,$B$7)+1) -> 0 | G15: =(D15*$D$5+E15*$D$6+F15*$D$7)/7 -> 3 | H15: =(D15*$E$5+E15*$E$6+F15*$E$7)/7 -> 5 | I15: =IF(NOT(ISNUMBER(Ugeindtastning!D18)),"",Ugeindtastning!D18) | J15: =SUM(G$12:G15) -> 12 | K15: =SUM(H$12:H15) -> 20 | L15: =IF(OR(B15>$B$2,COUNT(I$12:I15)<ROWS(I$12:I15)),NA(),SUM(I$12:I15)) -> #N/A | M15: =IF(NOT(ISNUMBER(Ugeindtastning!E18)),NA(),Ugeindtastning!E18) -> #N/A | N15: =IF(NOT(ISNUMBER(Ugeindtastning!F18)),NA(),Ugeindtastning!F18) -> #N/A | O15: =IF(Ugeindtastning!H18<>"",Ugeindtastning!H18,O14) | P15: =IF(Ugeindtastning!G18<>"",Ugeindtastning!G18,P14) | Q15: =IF(OR(O15="",P15="",P15<=0),"",O15/P15) | R15: =IF(OR(NOT(ISNUMBER(Ugeindtastning!I18)),P15="",P15<=0),"",Ugeindtastning!I18/P15) | S15: =IF(OR(Ugeindtastning!J18="",Ugeindtastning!$B$6="",Ugeindtastning!$B$6<=0),"",Ugeindtastning!J18/Ugeindtastning!$B$6) | T15: =IF(S15="","",IF(S15>1,"Tjek maks. puls",IF(S15<0.5,"Under Z1",IF(S15<0.6,"Z1",IF(S15<0.7,"Z2",IF(S15<0.8,"Z3",IF(S15<0.9,"Z4","Z5"))))))) | U15: =IF(AND(B15<=$B$2,NOT(ISNUMBER(I15))),1,0) -> 0 | V15: =IF(NOT(ISNUMBER(I15)),"Ikke registreret",IF(I15<G15,"Under interval",IF(I15>H15,"Over interval","Inden for interval"))) -> Ikke registreret | W15: =IF(NOT(ISNUMBER(I15)),0,B15) -> 0 | X15: =A15 -> 28/09 | Y15: =SUM(D$12:D15)*$D$5/7 -> 12 | Z15: =SUM(D$12:D15)*$E$5/7 -> 20 | AA15: =IF(OR(B15>$B$2,SUMPRODUCT(D$12:D15,U$12:U15)>0),NA(),SUMPRODUCT(D$12:D15,AJ$12:AJ15)) -> #N/A | AB15: =A31 -> 18/01 | AC15: =SUM(E$12:E31)*$D$6/7 -> 17.142857 | AD15: =SUM(E$12:E31)*$E$6/7 -> 24 | AE15: =IF(OR(B31>$B$2,SUMPRODUCT(E$12:E31,U$12:U31)>0),NA(),SUMPRODUCT(E$12:E31,AJ$12:AJ31)) -> #N/A | AF15: =A44 -> 19/04 | AG15: =SUM(F$12:F44)*$D$7/7 -> 25 | AH15: =SUM(F$12:F44)*$E$7/7 -> 32.142857 | AI15: =IF(OR(B44>$B$2,SUMPRODUCT(F$12:F44,U$12:U44)>0),NA(),SUMPRODUCT(F$12:F44,AJ$12:AJ44)) -> #N/A | AJ15: =IF(NOT(ISNUMBER(I15)),0,I15/C15) -> 0 | AK15: =IF(NOT(ISNUMBER(Ugeindtastning!I18)),NA(),Ugeindtastning!I18) -> #N/A | AL15: =IF(OR(B15>$B$2,P15=""),NA(),P15) -> #N/A | AM15: =IF(OR(B15>$B$2,Q15=""),NA(),Q15) -> #N/A | AN15: =IF(OR(B15>$B$2,R15=""),NA(),R15) -> #N/A | AO15: =IF(OR(B15>$B$2,S15=""),NA(),S15) -> #N/A | AP15: =IF(NOT(ISNUMBER(I15)),NA(),I15) -> #N/A
A16: =TEXT(Ugeindtastning!A19,"dd/mm") -> 05/10 | B16: =Ugeindtastning!B19 -> 46306 | C16: =B16-Ugeindtastning!A19+1 -> 7 | D16: =MAX(0,MIN(B16,$C$5)-MAX(Ugeindtastning!A19,$B$5)+1) -> 7 | E16: =MAX(0,MIN(B16,$C$6)-MAX(Ugeindtastning!A19,$B$6)+1) -> 0 | F16: =MAX(0,MIN(B16,$C$7)-MAX(Ugeindtastning!A19,$B$7)+1) -> 0 | G16: =(D16*$D$5+E16*$D$6+F16*$D$7)/7 -> 3 | H16: =(D16*$E$5+E16*$E$6+F16*$E$7)/7 -> 5 | I16: =IF(NOT(ISNUMBER(Ugeindtastning!D19)),"",Ugeindtastning!D19) | J16: =SUM(G$12:G16) -> 15 | K16: =SUM(H$12:H16) -> 25 | L16: =IF(OR(B16>$B$2,COUNT(I$12:I16)<ROWS(I$12:I16)),NA(),SUM(I$12:I16)) -> #N/A | M16: =IF(NOT(ISNUMBER(Ugeindtastning!E19)),NA(),Ugeindtastning!E19) -> #N/A | N16: =IF(NOT(ISNUMBER(Ugeindtastning!F19)),NA(),Ugeindtastning!F19) -> #N/A | O16: =IF(Ugeindtastning!H19<>"",Ugeindtastning!H19,O15) | P16: =IF(Ugeindtastning!G19<>"",Ugeindtastning!G19,P15) | Q16: =IF(OR(O16="",P16="",P16<=0),"",O16/P16) | R16: =IF(OR(NOT(ISNUMBER(Ugeindtastning!I19)),P16="",P16<=0),"",Ugeindtastning!I19/P16) | S16: =IF(OR(Ugeindtastning!J19="",Ugeindtastning!$B$6="",Ugeindtastning!$B$6<=0),"",Ugeindtastning!J19/Ugeindtastning!$B$6) | T16: =IF(S16="","",IF(S16>1,"Tjek maks. puls",IF(S16<0.5,"Under Z1",IF(S16<0.6,"Z1",IF(S16<0.7,"Z2",IF(S16<0.8,"Z3",IF(S16<0.9,"Z4","Z5"))))))) | U16: =IF(AND(B16<=$B$2,NOT(ISNUMBER(I16))),1,0) -> 0 | V16: =IF(NOT(ISNUMBER(I16)),"Ikke registreret",IF(I16<G16,"Under interval",IF(I16>H16,"Over interval","Inden for interval"))) -> Ikke registreret | W16: =IF(NOT(ISNUMBER(I16)),0,B16) -> 0 | X16: =A16 -> 05/10 | Y16: =SUM(D$12:D16)*$D$5/7 -> 15 | Z16: =SUM(D$12:D16)*$E$5/7 -> 25 | AA16: =IF(OR(B16>$B$2,SUMPRODUCT(D$12:D16,U$12:U16)>0),NA(),SUMPRODUCT(D$12:D16,AJ$12:AJ16)) -> #N/A | AB16: =A32 -> 25/01 | AC16: =SUM(E$12:E32)*$D$6/7 -> 22.142857 | AD16: =SUM(E$12:E32)*$E$6/7 -> 31 | AE16: =IF(OR(B32>$B$2,SUMPRODUCT(E$12:E32,U$12:U32)>0),NA(),SUMPRODUCT(E$12:E32,AJ$12:AJ32)) -> #N/A | AF16: =A45 -> 26/04 | AG16: =SUM(F$12:F45)*$D$7/7 -> 32 | AH16: =SUM(F$12:F45)*$E$7/7 -> 41.142857 | AI16: =IF(OR(B45>$B$2,SUMPRODUCT(F$12:F45,U$12:U45)>0),NA(),SUMPRODUCT(F$12:F45,AJ$12:AJ45)) -> #N/A | AJ16: =IF(NOT(ISNUMBER(I16)),0,I16/C16) -> 0 | AK16: =IF(NOT(ISNUMBER(Ugeindtastning!I19)),NA(),Ugeindtastning!I19) -> #N/A | AL16: =IF(OR(B16>$B$2,P16=""),NA(),P16) -> #N/A | AM16: =IF(OR(B16>$B$2,Q16=""),NA(),Q16) -> #N/A | AN16: =IF(OR(B16>$B$2,R16=""),NA(),R16) -> #N/A | AO16: =IF(OR(B16>$B$2,S16=""),NA(),S16) -> #N/A | AP16: =IF(NOT(ISNUMBER(I16)),NA(),I16) -> #N/A
A17: =TEXT(Ugeindtastning!A20,"dd/mm") -> 12/10 | B17: =Ugeindtastning!B20 -> 46313 | C17: =B17-Ugeindtastning!A20+1 -> 7 | D17: =MAX(0,MIN(B17,$C$5)-MAX(Ugeindtastning!A20,$B$5)+1) -> 7 | E17: =MAX(0,MIN(B17,$C$6)-MAX(Ugeindtastning!A20,$B$6)+1) -> 0 | F17: =MAX(0,MIN(B17,$C$7)-MAX(Ugeindtastning!A20,$B$7)+1) -> 0 | G17: =(D17*$D$5+E17*$D$6+F17*$D$7)/7 -> 3 | H17: =(D17*$E$5+E17*$E$6+F17*$E$7)/7 -> 5 | I17: =IF(NOT(ISNUMBER(Ugeindtastning!D20)),"",Ugeindtastning!D20) | J17: =SUM(G$12:G17) -> 18 | K17: =SUM(H$12:H17) -> 30 | L17: =IF(OR(B17>$B$2,COUNT(I$12:I17)<ROWS(I$12:I17)),NA(),SUM(I$12:I17)) -> #N/A | M17: =IF(NOT(ISNUMBER(Ugeindtastning!E20)),NA(),Ugeindtastning!E20) -> #N/A | N17: =IF(NOT(ISNUMBER(Ugeindtastning!F20)),NA(),Ugeindtastning!F20) -> #N/A | O17: =IF(Ugeindtastning!H20<>"",Ugeindtastning!H20,O16) | P17: =IF(Ugeindtastning!G20<>"",Ugeindtastning!G20,P16) | Q17: =IF(OR(O17="",P17="",P17<=0),"",O17/P17) | R17: =IF(OR(NOT(ISNUMBER(Ugeindtastning!I20)),P17="",P17<=0),"",Ugeindtastning!I20/P17) | S17: =IF(OR(Ugeindtastning!J20="",Ugeindtastning!$B$6="",Ugeindtastning!$B$6<=0),"",Ugeindtastning!J20/Ugeindtastning!$B$6) | T17: =IF(S17="","",IF(S17>1,"Tjek maks. puls",IF(S17<0.5,"Under Z1",IF(S17<0.6,"Z1",IF(S17<0.7,"Z2",IF(S17<0.8,"Z3",IF(S17<0.9,"Z4","Z5"))))))) | U17: =IF(AND(B17<=$B$2,NOT(ISNUMBER(I17))),1,0) -> 0 | V17: =IF(NOT(ISNUMBER(I17)),"Ikke registreret",IF(I17<G17,"Under interval",IF(I17>H17,"Over interval","Inden for interval"))) -> Ikke registreret | W17: =IF(NOT(ISNUMBER(I17)),0,B17) -> 0 | X17: =A17 -> 12/10 | Y17: =SUM(D$12:D17)*$D$5/7 -> 18 | Z17: =SUM(D$12:D17)*$E$5/7 -> 30 | AA17: =IF(OR(B17>$B$2,SUMPRODUCT(D$12:D17,U$12:U17)>0),NA(),SUMPRODUCT(D$12:D17,AJ$12:AJ17)) -> #N/A | AB17: =A33 -> 01/02 | AC17: =SUM(E$12:E33)*$D$6/7 -> 27.142857 | AD17: =SUM(E$12:E33)*$E$6/7 -> 38 | AE17: =IF(OR(B33>$B$2,SUMPRODUCT(E$12:E33,U$12:U33)>0),NA(),SUMPRODUCT(E$12:E33,AJ$12:AJ33)) -> #N/A | AF17: =A46 -> 03/05 | AG17: =SUM(F$12:F46)*$D$7/7 -> 39 | AH17: =SUM(F$12:F46)*$E$7/7 -> 50.142857 | AI17: =IF(OR(B46>$B$2,SUMPRODUCT(F$12:F46,U$12:U46)>0),NA(),SUMPRODUCT(F$12:F46,AJ$12:AJ46)) -> #N/A | AJ17: =IF(NOT(ISNUMBER(I17)),0,I17/C17) -> 0 | AK17: =IF(NOT(ISNUMBER(Ugeindtastning!I20)),NA(),Ugeindtastning!I20) -> #N/A | AL17: =IF(OR(B17>$B$2,P17=""),NA(),P17) -> #N/A | AM17: =IF(OR(B17>$B$2,Q17=""),NA(),Q17) -> #N/A | AN17: =IF(OR(B17>$B$2,R17=""),NA(),R17) -> #N/A | AO17: =IF(OR(B17>$B$2,S17=""),NA(),S17) -> #N/A | AP17: =IF(NOT(ISNUMBER(I17)),NA(),I17) -> #N/A
A18: =TEXT(Ugeindtastning!A21,"dd/mm") -> 19/10 | B18: =Ugeindtastning!B21 -> 46320 | C18: =B18-Ugeindtastning!A21+1 -> 7 | D18: =MAX(0,MIN(B18,$C$5)-MAX(Ugeindtastning!A21,$B$5)+1) -> 7 | E18: =MAX(0,MIN(B18,$C$6)-MAX(Ugeindtastning!A21,$B$6)+1) -> 0 | F18: =MAX(0,MIN(B18,$C$7)-MAX(Ugeindtastning!A21,$B$7)+1) -> 0 | G18: =(D18*$D$5+E18*$D$6+F18*$D$7)/7 -> 3 | H18: =(D18*$E$5+E18*$E$6+F18*$E$7)/7 -> 5 | I18: =IF(NOT(ISNUMBER(Ugeindtastning!D21)),"",Ugeindtastning!D21) | J18: =SUM(G$12:G18) -> 21 | K18: =SUM(H$12:H18) -> 35 | L18: =IF(OR(B18>$B$2,COUNT(I$12:I18)<ROWS(I$12:I18)),NA(),SUM(I$12:I18)) -> #N/A | M18: =IF(NOT(ISNUMBER(Ugeindtastning!E21)),NA(),Ugeindtastning!E21) -> #N/A | N18: =IF(NOT(ISNUMBER(Ugeindtastning!F21)),NA(),Ugeindtastning!F21) -> #N/A | O18: =IF(Ugeindtastning!H21<>"",Ugeindtastning!H21,O17) | P18: =IF(Ugeindtastning!G21<>"",Ugeindtastning!G21,P17) | Q18: =IF(OR(O18="",P18="",P18<=0),"",O18/P18) | R18: =IF(OR(NOT(ISNUMBER(Ugeindtastning!I21)),P18="",P18<=0),"",Ugeindtastning!I21/P18) | S18: =IF(OR(Ugeindtastning!J21="",Ugeindtastning!$B$6="",Ugeindtastning!$B$6<=0),"",Ugeindtastning!J21/Ugeindtastning!$B$6) | T18: =IF(S18="","",IF(S18>1,"Tjek maks. puls",IF(S18<0.5,"Under Z1",IF(S18<0.6,"Z1",IF(S18<0.7,"Z2",IF(S18<0.8,"Z3",IF(S18<0.9,"Z4","Z5"))))))) | U18: =IF(AND(B18<=$B$2,NOT(ISNUMBER(I18))),1,0) -> 0 | V18: =IF(NOT(ISNUMBER(I18)),"Ikke registreret",IF(I18<G18,"Under interval",IF(I18>H18,"Over interval","Inden for interval"))) -> Ikke registreret | W18: =IF(NOT(ISNUMBER(I18)),0,B18) -> 0 | X18: =A18 -> 19/10 | Y18: =SUM(D$12:D18)*$D$5/7 -> 21 | Z18: =SUM(D$12:D18)*$E$5/7 -> 35 | AA18: =IF(OR(B18>$B$2,SUMPRODUCT(D$12:D18,U$12:U18)>0),NA(),SUMPRODUCT(D$12:D18,AJ$12:AJ18)) -> #N/A | AB18: =A34 -> 08/02 | AC18: =SUM(E$12:E34)*$D$6/7 -> 32.142857 | AD18: =SUM(E$12:E34)*$E$6/7 -> 45 | AE18: =IF(OR(B34>$B$2,SUMPRODUCT(E$12:E34,U$12:U34)>0),NA(),SUMPRODUCT(E$12:E34,AJ$12:AJ34)) -> #N/A | AF18: =A47 -> 10/05 | AG18: =SUM(F$12:F47)*$D$7/7 -> 46 | AH18: =SUM(F$12:F47)*$E$7/7 -> 59.142857 | AI18: =IF(OR(B47>$B$2,SUMPRODUCT(F$12:F47,U$12:U47)>0),NA(),SUMPRODUCT(F$12:F47,AJ$12:AJ47)) -> #N/A | AJ18: =IF(NOT(ISNUMBER(I18)),0,I18/C18) -> 0 | AK18: =IF(NOT(ISNUMBER(Ugeindtastning!I21)),NA(),Ugeindtastning!I21) -> #N/A | AL18: =IF(OR(B18>$B$2,P18=""),NA(),P18) -> #N/A | AM18: =IF(OR(B18>$B$2,Q18=""),NA(),Q18) -> #N/A | AN18: =IF(OR(B18>$B$2,R18=""),NA(),R18) -> #N/A | AO18: =IF(OR(B18>$B$2,S18=""),NA(),S18) -> #N/A | AP18: =IF(NOT(ISNUMBER(I18)),NA(),I18) -> #N/A
A19: =TEXT(Ugeindtastning!A22,"dd/mm") -> 26/10 | B19: =Ugeindtastning!B22 -> 46327 | C19: =B19-Ugeindtastning!A22+1 -> 7 | D19: =MAX(0,MIN(B19,$C$5)-MAX(Ugeindtastning!A22,$B$5)+1) -> 7 | E19: =MAX(0,MIN(B19,$C$6)-MAX(Ugeindtastning!A22,$B$6)+1) -> 0 | F19: =MAX(0,MIN(B19,$C$7)-MAX(Ugeindtastning!A22,$B$7)+1) -> 0 | G19: =(D19*$D$5+E19*$D$6+F19*$D$7)/7 -> 3 | H19: =(D19*$E$5+E19*$E$6+F19*$E$7)/7 -> 5 | I19: =IF(NOT(ISNUMBER(Ugeindtastning!D22)),"",Ugeindtastning!D22) | J19: =SUM(G$12:G19) -> 24 | K19: =SUM(H$12:H19) -> 40 | L19: =IF(OR(B19>$B$2,COUNT(I$12:I19)<ROWS(I$12:I19)),NA(),SUM(I$12:I19)) -> #N/A | M19: =IF(NOT(ISNUMBER(Ugeindtastning!E22)),NA(),Ugeindtastning!E22) -> #N/A | N19: =IF(NOT(ISNUMBER(Ugeindtastning!F22)),NA(),Ugeindtastning!F22) -> #N/A | O19: =IF(Ugeindtastning!H22<>"",Ugeindtastning!H22,O18) | P19: =IF(Ugeindtastning!G22<>"",Ugeindtastning!G22,P18) | Q19: =IF(OR(O19="",P19="",P19<=0),"",O19/P19) | R19: =IF(OR(NOT(ISNUMBER(Ugeindtastning!I22)),P19="",P19<=0),"",Ugeindtastning!I22/P19) | S19: =IF(OR(Ugeindtastning!J22="",Ugeindtastning!$B$6="",Ugeindtastning!$B$6<=0),"",Ugeindtastning!J22/Ugeindtastning!$B$6) | T19: =IF(S19="","",IF(S19>1,"Tjek maks. puls",IF(S19<0.5,"Under Z1",IF(S19<0.6,"Z1",IF(S19<0.7,"Z2",IF(S19<0.8,"Z3",IF(S19<0.9,"Z4","Z5"))))))) | U19: =IF(AND(B19<=$B$2,NOT(ISNUMBER(I19))),1,0) -> 0 | V19: =IF(NOT(ISNUMBER(I19)),"Ikke registreret",IF(I19<G19,"Under interval",IF(I19>H19,"Over interval","Inden for interval"))) -> Ikke registreret | W19: =IF(NOT(ISNUMBER(I19)),0,B19) -> 0 | X19: =A19 -> 26/10 | Y19: =SUM(D$12:D19)*$D$5/7 -> 24 | Z19: =SUM(D$12:D19)*$E$5/7 -> 40 | AA19: =IF(OR(B19>$B$2,SUMPRODUCT(D$12:D19,U$12:U19)>0),NA(),SUMPRODUCT(D$12:D19,AJ$12:AJ19)) -> #N/A | AB19: =A35 -> 15/02 | AC19: =SUM(E$12:E35)*$D$6/7 -> 37.142857 | AD19: =SUM(E$12:E35)*$E$6/7 -> 52 | AE19: =IF(OR(B35>$B$2,SUMPRODUCT(E$12:E35,U$12:U35)>0),NA(),SUMPRODUCT(E$12:E35,AJ$12:AJ35)) -> #N/A | AF19: =A48 -> 17/05 | AG19: =SUM(F$12:F48)*$D$7/7 -> 53 | AH19: =SUM(F$12:F48)*$E$7/7 -> 68.142857 | AI19: =IF(OR(B48>$B$2,SUMPRODUCT(F$12:F48,U$12:U48)>0),NA(),SUMPRODUCT(F$12:F48,AJ$12:AJ48)) -> #N/A | AJ19: =IF(NOT(ISNUMBER(I19)),0,I19/C19) -> 0 | AK19: =IF(NOT(ISNUMBER(Ugeindtastning!I22)),NA(),Ugeindtastning!I22) -> #N/A | AL19: =IF(OR(B19>$B$2,P19=""),NA(),P19) -> #N/A | AM19: =IF(OR(B19>$B$2,Q19=""),NA(),Q19) -> #N/A | AN19: =IF(OR(B19>$B$2,R19=""),NA(),R19) -> #N/A | AO19: =IF(OR(B19>$B$2,S19=""),NA(),S19) -> #N/A | AP19: =IF(NOT(ISNUMBER(I19)),NA(),I19) -> #N/A
A20: =TEXT(Ugeindtastning!A23,"dd/mm") -> 02/11 | B20: =Ugeindtastning!B23 -> 46334 | C20: =B20-Ugeindtastning!A23+1 -> 7 | D20: =MAX(0,MIN(B20,$C$5)-MAX(Ugeindtastning!A23,$B$5)+1) -> 7 | E20: =MAX(0,MIN(B20,$C$6)-MAX(Ugeindtastning!A23,$B$6)+1) -> 0 | F20: =MAX(0,MIN(B20,$C$7)-MAX(Ugeindtastning!A23,$B$7)+1) -> 0 | G20: =(D20*$D$5+E20*$D$6+F20*$D$7)/7 -> 3 | H20: =(D20*$E$5+E20*$E$6+F20*$E$7)/7 -> 5 | I20: =IF(NOT(ISNUMBER(Ugeindtastning!D23)),"",Ugeindtastning!D23) | J20: =SUM(G$12:G20) -> 27 | K20: =SUM(H$12:H20) -> 45 | L20: =IF(OR(B20>$B$2,COUNT(I$12:I20)<ROWS(I$12:I20)),NA(),SUM(I$12:I20)) -> #N/A | M20: =IF(NOT(ISNUMBER(Ugeindtastning!E23)),NA(),Ugeindtastning!E23) -> #N/A | N20: =IF(NOT(ISNUMBER(Ugeindtastning!F23)),NA(),Ugeindtastning!F23) -> #N/A | O20: =IF(Ugeindtastning!H23<>"",Ugeindtastning!H23,O19) | P20: =IF(Ugeindtastning!G23<>"",Ugeindtastning!G23,P19) | Q20: =IF(OR(O20="",P20="",P20<=0),"",O20/P20) | R20: =IF(OR(NOT(ISNUMBER(Ugeindtastning!I23)),P20="",P20<=0),"",Ugeindtastning!I23/P20) | S20: =IF(OR(Ugeindtastning!J23="",Ugeindtastning!$B$6="",Ugeindtastning!$B$6<=0),"",Ugeindtastning!J23/Ugeindtastning!$B$6) | T20: =IF(S20="","",IF(S20>1,"Tjek maks. puls",IF(S20<0.5,"Under Z1",IF(S20<0.6,"Z1",IF(S20<0.7,"Z2",IF(S20<0.8,"Z3",IF(S20<0.9,"Z4","Z5"))))))) | U20: =IF(AND(B20<=$B$2,NOT(ISNUMBER(I20))),1,0) -> 0 | V20: =IF(NOT(ISNUMBER(I20)),"Ikke registreret",IF(I20<G20,"Under interval",IF(I20>H20,"Over interval","Inden for interval"))) -> Ikke registreret | W20: =IF(NOT(ISNUMBER(I20)),0,B20) -> 0 | X20: =A20 -> 02/11 | Y20: =SUM(D$12:D20)*$D$5/7 -> 27 | Z20: =SUM(D$12:D20)*$E$5/7 -> 45 | AA20: =IF(OR(B20>$B$2,SUMPRODUCT(D$12:D20,U$12:U20)>0),NA(),SUMPRODUCT(D$12:D20,AJ$12:AJ20)) -> #N/A | AB20: =A36 -> 22/02 | AC20: =SUM(E$12:E36)*$D$6/7 -> 42.142857 | AD20: =SUM(E$12:E36)*$E$6/7 -> 59 | AE20: =IF(OR(B36>$B$2,SUMPRODUCT(E$12:E36,U$12:U36)>0),NA(),SUMPRODUCT(E$12:E36,AJ$12:AJ36)) -> #N/A | AF20: =A49 -> 24/05 | AG20: =SUM(F$12:F49)*$D$7/7 -> 60 | AH20: =SUM(F$12:F49)*$E$7/7 -> 77.142857 | AI20: =IF(OR(B49>$B$2,SUMPRODUCT(F$12:F49,U$12:U49)>0),NA(),SUMPRODUCT(F$12:F49,AJ$12:AJ49)) -> #N/A | AJ20: =IF(NOT(ISNUMBER(I20)),0,I20/C20) -> 0 | AK20: =IF(NOT(ISNUMBER(Ugeindtastning!I23)),NA(),Ugeindtastning!I23) -> #N/A | AL20: =IF(OR(B20>$B$2,P20=""),NA(),P20) -> #N/A | AM20: =IF(OR(B20>$B$2,Q20=""),NA(),Q20) -> #N/A | AN20: =IF(OR(B20>$B$2,R20=""),NA(),R20) -> #N/A | AO20: =IF(OR(B20>$B$2,S20=""),NA(),S20) -> #N/A | AP20: =IF(NOT(ISNUMBER(I20)),NA(),I20) -> #N/A
A21: =TEXT(Ugeindtastning!A24,"dd/mm") -> 09/11 | B21: =Ugeindtastning!B24 -> 46341 | C21: =B21-Ugeindtastning!A24+1 -> 7 | D21: =MAX(0,MIN(B21,$C$5)-MAX(Ugeindtastning!A24,$B$5)+1) -> 7 | E21: =MAX(0,MIN(B21,$C$6)-MAX(Ugeindtastning!A24,$B$6)+1) -> 0 | F21: =MAX(0,MIN(B21,$C$7)-MAX(Ugeindtastning!A24,$B$7)+1) -> 0 | G21: =(D21*$D$5+E21*$D$6+F21*$D$7)/7 -> 3 | H21: =(D21*$E$5+E21*$E$6+F21*$E$7)/7 -> 5 | I21: =IF(NOT(ISNUMBER(Ugeindtastning!D24)),"",Ugeindtastning!D24) | J21: =SUM(G$12:G21) -> 30 | K21: =SUM(H$12:H21) -> 50 | L21: =IF(OR(B21>$B$2,COUNT(I$12:I21)<ROWS(I$12:I21)),NA(),SUM(I$12:I21)) -> #N/A | M21: =IF(NOT(ISNUMBER(Ugeindtastning!E24)),NA(),Ugeindtastning!E24) -> #N/A | N21: =IF(NOT(ISNUMBER(Ugeindtastning!F24)),NA(),Ugeindtastning!F24) -> #N/A | O21: =IF(Ugeindtastning!H24<>"",Ugeindtastning!H24,O20) | P21: =IF(Ugeindtastning!G24<>"",Ugeindtastning!G24,P20) | Q21: =IF(OR(O21="",P21="",P21<=0),"",O21/P21) | R21: =IF(OR(NOT(ISNUMBER(Ugeindtastning!I24)),P21="",P21<=0),"",Ugeindtastning!I24/P21) | S21: =IF(OR(Ugeindtastning!J24="",Ugeindtastning!$B$6="",Ugeindtastning!$B$6<=0),"",Ugeindtastning!J24/Ugeindtastning!$B$6) | T21: =IF(S21="","",IF(S21>1,"Tjek maks. puls",IF(S21<0.5,"Under Z1",IF(S21<0.6,"Z1",IF(S21<0.7,"Z2",IF(S21<0.8,"Z3",IF(S21<0.9,"Z4","Z5"))))))) | U21: =IF(AND(B21<=$B$2,NOT(ISNUMBER(I21))),1,0) -> 0 | V21: =IF(NOT(ISNUMBER(I21)),"Ikke registreret",IF(I21<G21,"Under interval",IF(I21>H21,"Over interval","Inden for interval"))) -> Ikke registreret | W21: =IF(NOT(ISNUMBER(I21)),0,B21) -> 0 | X21: =A21 -> 09/11 | Y21: =SUM(D$12:D21)*$D$5/7 -> 30 | Z21: =SUM(D$12:D21)*$E$5/7 -> 50 | AA21: =IF(OR(B21>$B$2,SUMPRODUCT(D$12:D21,U$12:U21)>0),NA(),SUMPRODUCT(D$12:D21,AJ$12:AJ21)) -> #N/A | AB21: =A37 -> 01/03 | AC21: =SUM(E$12:E37)*$D$6/7 -> 47.142857 | AD21: =SUM(E$12:E37)*$E$6/7 -> 66 | AE21: =IF(OR(B37>$B$2,SUMPRODUCT(E$12:E37,U$12:U37)>0),NA(),SUMPRODUCT(E$12:E37,AJ$12:AJ37)) -> #N/A | AF21: =A50 -> 31/05 | AG21: =SUM(F$12:F50)*$D$7/7 -> 67 | AH21: =SUM(F$12:F50)*$E$7/7 -> 86.142857 | AI21: =IF(OR(B50>$B$2,SUMPRODUCT(F$12:F50,U$12:U50)>0),NA(),SUMPRODUCT(F$12:F50,AJ$12:AJ50)) -> #N/A | AJ21: =IF(NOT(ISNUMBER(I21)),0,I21/C21) -> 0 | AK21: =IF(NOT(ISNUMBER(Ugeindtastning!I24)),NA(),Ugeindtastning!I24) -> #N/A | AL21: =IF(OR(B21>$B$2,P21=""),NA(),P21) -> #N/A | AM21: =IF(OR(B21>$B$2,Q21=""),NA(),Q21) -> #N/A | AN21: =IF(OR(B21>$B$2,R21=""),NA(),R21) -> #N/A | AO21: =IF(OR(B21>$B$2,S21=""),NA(),S21) -> #N/A | AP21: =IF(NOT(ISNUMBER(I21)),NA(),I21) -> #N/A
A22: =TEXT(Ugeindtastning!A25,"dd/mm") -> 16/11 | B22: =Ugeindtastning!B25 -> 46348 | C22: =B22-Ugeindtastning!A25+1 -> 7 | D22: =MAX(0,MIN(B22,$C$5)-MAX(Ugeindtastning!A25,$B$5)+1) -> 7 | E22: =MAX(0,MIN(B22,$C$6)-MAX(Ugeindtastning!A25,$B$6)+1) -> 0 | F22: =MAX(0,MIN(B22,$C$7)-MAX(Ugeindtastning!A25,$B$7)+1) -> 0 | G22: =(D22*$D$5+E22*$D$6+F22*$D$7)/7 -> 3 | H22: =(D22*$E$5+E22*$E$6+F22*$E$7)/7 -> 5 | I22: =IF(NOT(ISNUMBER(Ugeindtastning!D25)),"",Ugeindtastning!D25) | J22: =SUM(G$12:G22) -> 33 | K22: =SUM(H$12:H22) -> 55 | L22: =IF(OR(B22>$B$2,COUNT(I$12:I22)<ROWS(I$12:I22)),NA(),SUM(I$12:I22)) -> #N/A | M22: =IF(NOT(ISNUMBER(Ugeindtastning!E25)),NA(),Ugeindtastning!E25) -> #N/A | N22: =IF(NOT(ISNUMBER(Ugeindtastning!F25)),NA(),Ugeindtastning!F25) -> #N/A | O22: =IF(Ugeindtastning!H25<>"",Ugeindtastning!H25,O21) | P22: =IF(Ugeindtastning!G25<>"",Ugeindtastning!G25,P21) | Q22: =IF(OR(O22="",P22="",P22<=0),"",O22/P22) | R22: =IF(OR(NOT(ISNUMBER(Ugeindtastning!I25)),P22="",P22<=0),"",Ugeindtastning!I25/P22) | S22: =IF(OR(Ugeindtastning!J25="",Ugeindtastning!$B$6="",Ugeindtastning!$B$6<=0),"",Ugeindtastning!J25/Ugeindtastning!$B$6) | T22: =IF(S22="","",IF(S22>1,"Tjek maks. puls",IF(S22<0.5,"Under Z1",IF(S22<0.6,"Z1",IF(S22<0.7,"Z2",IF(S22<0.8,"Z3",IF(S22<0.9,"Z4","Z5"))))))) | U22: =IF(AND(B22<=$B$2,NOT(ISNUMBER(I22))),1,0) -> 0 | V22: =IF(NOT(ISNUMBER(I22)),"Ikke registreret",IF(I22<G22,"Under interval",IF(I22>H22,"Over interval","Inden for interval"))) -> Ikke registreret | W22: =IF(NOT(ISNUMBER(I22)),0,B22) -> 0 | X22: =A22 -> 16/11 | Y22: =SUM(D$12:D22)*$D$5/7 -> 33 | Z22: =SUM(D$12:D22)*$E$5/7 -> 55 | AA22: =IF(OR(B22>$B$2,SUMPRODUCT(D$12:D22,U$12:U22)>0),NA(),SUMPRODUCT(D$12:D22,AJ$12:AJ22)) -> #N/A | AB22: =A38 -> 08/03 | AC22: =SUM(E$12:E38)*$D$6/7 -> 52.142857 | AD22: =SUM(E$12:E38)*$E$6/7 -> 73 | AE22: =IF(OR(B38>$B$2,SUMPRODUCT(E$12:E38,U$12:U38)>0),NA(),SUMPRODUCT(E$12:E38,AJ$12:AJ38)) -> #N/A | AF22: =A51 -> 07/06 | AG22: =SUM(F$12:F51)*$D$7/7 -> 69 | AH22: =SUM(F$12:F51)*$E$7/7 -> 88.714286 | AI22: =IF(OR(B51>$B$2,SUMPRODUCT(F$12:F51,U$12:U51)>0),NA(),SUMPRODUCT(F$12:F51,AJ$12:AJ51)) -> #N/A | AJ22: =IF(NOT(ISNUMBER(I22)),0,I22/C22) -> 0 | AK22: =IF(NOT(ISNUMBER(Ugeindtastning!I25)),NA(),Ugeindtastning!I25) -> #N/A | AL22: =IF(OR(B22>$B$2,P22=""),NA(),P22) -> #N/A | AM22: =IF(OR(B22>$B$2,Q22=""),NA(),Q22) -> #N/A | AN22: =IF(OR(B22>$B$2,R22=""),NA(),R22) -> #N/A | AO22: =IF(OR(B22>$B$2,S22=""),NA(),S22) -> #N/A | AP22: =IF(NOT(ISNUMBER(I22)),NA(),I22) -> #N/A
A23: =TEXT(Ugeindtastning!A26,"dd/mm") -> 23/11 | B23: =Ugeindtastning!B26 -> 46355 | C23: =B23-Ugeindtastning!A26+1 -> 7 | D23: =MAX(0,MIN(B23,$C$5)-MAX(Ugeindtastning!A26,$B$5)+1) -> 7 | E23: =MAX(0,MIN(B23,$C$6)-MAX(Ugeindtastning!A26,$B$6)+1) -> 0 | F23: =MAX(0,MIN(B23,$C$7)-MAX(Ugeindtastning!A26,$B$7)+1) -> 0 | G23: =(D23*$D$5+E23*$D$6+F23*$D$7)/7 -> 3 | H23: =(D23*$E$5+E23*$E$6+F23*$E$7)/7 -> 5 | I23: =IF(NOT(ISNUMBER(Ugeindtastning!D26)),"",Ugeindtastning!D26) | J23: =SUM(G$12:G23) -> 36 | K23: =SUM(H$12:H23) -> 60 | L23: =IF(OR(B23>$B$2,COUNT(I$12:I23)<ROWS(I$12:I23)),NA(),SUM(I$12:I23)) -> #N/A | M23: =IF(NOT(ISNUMBER(Ugeindtastning!E26)),NA(),Ugeindtastning!E26) -> #N/A | N23: =IF(NOT(ISNUMBER(Ugeindtastning!F26)),NA(),Ugeindtastning!F26) -> #N/A | O23: =IF(Ugeindtastning!H26<>"",Ugeindtastning!H26,O22) | P23: =IF(Ugeindtastning!G26<>"",Ugeindtastning!G26,P22) | Q23: =IF(OR(O23="",P23="",P23<=0),"",O23/P23) | R23: =IF(OR(NOT(ISNUMBER(Ugeindtastning!I26)),P23="",P23<=0),"",Ugeindtastning!I26/P23) | S23: =IF(OR(Ugeindtastning!J26="",Ugeindtastning!$B$6="",Ugeindtastning!$B$6<=0),"",Ugeindtastning!J26/Ugeindtastning!$B$6) | T23: =IF(S23="","",IF(S23>1,"Tjek maks. puls",IF(S23<0.5,"Under Z1",IF(S23<0.6,"Z1",IF(S23<0.7,"Z2",IF(S23<0.8,"Z3",IF(S23<0.9,"Z4","Z5"))))))) | U23: =IF(AND(B23<=$B$2,NOT(ISNUMBER(I23))),1,0) -> 0 | V23: =IF(NOT(ISNUMBER(I23)),"Ikke registreret",IF(I23<G23,"Under interval",IF(I23>H23,"Over interval","Inden for interval"))) -> Ikke registreret | W23: =IF(NOT(ISNUMBER(I23)),0,B23) -> 0 | X23: =A23 -> 23/11 | Y23: =SUM(D$12:D23)*$D$5/7 -> 36 | Z23: =SUM(D$12:D23)*$E$5/7 -> 60 | AA23: =IF(OR(B23>$B$2,SUMPRODUCT(D$12:D23,U$12:U23)>0),NA(),SUMPRODUCT(D$12:D23,AJ$12:AJ23)) -> #N/A | AB23: =A39 -> 15/03 | AC23: =SUM(E$12:E39)*$D$6/7 -> 57.142857 | AD23: =SUM(E$12:E39)*$E$6/7 -> 80 | AE23: =IF(OR(B39>$B$2,SUMPRODUCT(E$12:E39,U$12:U39)>0),NA(),SUMPRODUCT(E$12:E39,AJ$12:AJ39)) -> #N/A | AJ23: =IF(NOT(ISNUMBER(I23)),0,I23/C23) -> 0 | AK23: =IF(NOT(ISNUMBER(Ugeindtastning!I26)),NA(),Ugeindtastning!I26) -> #N/A | AL23: =IF(OR(B23>$B$2,P23=""),NA(),P23) -> #N/A | AM23: =IF(OR(B23>$B$2,Q23=""),NA(),Q23) -> #N/A | AN23: =IF(OR(B23>$B$2,R23=""),NA(),R23) -> #N/A | AO23: =IF(OR(B23>$B$2,S23=""),NA(),S23) -> #N/A | AP23: =IF(NOT(ISNUMBER(I23)),NA(),I23) -> #N/A
A24: =TEXT(Ugeindtastning!A27,"dd/mm") -> 30/11 | B24: =Ugeindtastning!B27 -> 46362 | C24: =B24-Ugeindtastning!A27+1 -> 7 | D24: =MAX(0,MIN(B24,$C$5)-MAX(Ugeindtastning!A27,$B$5)+1) -> 7 | E24: =MAX(0,MIN(B24,$C$6)-MAX(Ugeindtastning!A27,$B$6)+1) -> 0 | F24: =MAX(0,MIN(B24,$C$7)-MAX(Ugeindtastning!A27,$B$7)+1) -> 0 | G24: =(D24*$D$5+E24*$D$6+F24*$D$7)/7 -> 3 | H24: =(D24*$E$5+E24*$E$6+F24*$E$7)/7 -> 5 | I24: =IF(NOT(ISNUMBER(Ugeindtastning!D27)),"",Ugeindtastning!D27) | J24: =SUM(G$12:G24) -> 39 | K24: =SUM(H$12:H24) -> 65 | L24: =IF(OR(B24>$B$2,COUNT(I$12:I24)<ROWS(I$12:I24)),NA(),SUM(I$12:I24)) -> #N/A | M24: =IF(NOT(ISNUMBER(Ugeindtastning!E27)),NA(),Ugeindtastning!E27) -> #N/A | N24: =IF(NOT(ISNUMBER(Ugeindtastning!F27)),NA(),Ugeindtastning!F27) -> #N/A | O24: =IF(Ugeindtastning!H27<>"",Ugeindtastning!H27,O23) | P24: =IF(Ugeindtastning!G27<>"",Ugeindtastning!G27,P23) | Q24: =IF(OR(O24="",P24="",P24<=0),"",O24/P24) | R24: =IF(OR(NOT(ISNUMBER(Ugeindtastning!I27)),P24="",P24<=0),"",Ugeindtastning!I27/P24) | S24: =IF(OR(Ugeindtastning!J27="",Ugeindtastning!$B$6="",Ugeindtastning!$B$6<=0),"",Ugeindtastning!J27/Ugeindtastning!$B$6) | T24: =IF(S24="","",IF(S24>1,"Tjek maks. puls",IF(S24<0.5,"Under Z1",IF(S24<0.6,"Z1",IF(S24<0.7,"Z2",IF(S24<0.8,"Z3",IF(S24<0.9,"Z4","Z5"))))))) | U24: =IF(AND(B24<=$B$2,NOT(ISNUMBER(I24))),1,0) -> 0 | V24: =IF(NOT(ISNUMBER(I24)),"Ikke registreret",IF(I24<G24,"Under interval",IF(I24>H24,"Over interval","Inden for interval"))) -> Ikke registreret | W24: =IF(NOT(ISNUMBER(I24)),0,B24) -> 0 | X24: =A24 -> 30/11 | Y24: =SUM(D$12:D24)*$D$5/7 -> 39 | Z24: =SUM(D$12:D24)*$E$5/7 -> 65 | AA24: =IF(OR(B24>$B$2,SUMPRODUCT(D$12:D24,U$12:U24)>0),NA(),SUMPRODUCT(D$12:D24,AJ$12:AJ24)) -> #N/A | AB24: =A40 -> 22/03 | AC24: =SUM(E$12:E40)*$D$6/7 -> 62.142857 | AD24: =SUM(E$12:E40)*$E$6/7 -> 87 | AE24: =IF(OR(B40>$B$2,SUMPRODUCT(E$12:E40,U$12:U40)>0),NA(),SUMPRODUCT(E$12:E40,AJ$12:AJ40)) -> #N/A | AJ24: =IF(NOT(ISNUMBER(I24)),0,I24/C24) -> 0 | AK24: =IF(NOT(ISNUMBER(Ugeindtastning!I27)),NA(),Ugeindtastning!I27) -> #N/A | AL24: =IF(OR(B24>$B$2,P24=""),NA(),P24) -> #N/A | AM24: =IF(OR(B24>$B$2,Q24=""),NA(),Q24) -> #N/A | AN24: =IF(OR(B24>$B$2,R24=""),NA(),R24) -> #N/A | AO24: =IF(OR(B24>$B$2,S24=""),NA(),S24) -> #N/A | AP24: =IF(NOT(ISNUMBER(I24)),NA(),I24) -> #N/A
A25: =TEXT(Ugeindtastning!A28,"dd/mm") -> 07/12 | B25: =Ugeindtastning!B28 -> 46369 | C25: =B25-Ugeindtastning!A28+1 -> 7 | D25: =MAX(0,MIN(B25,$C$5)-MAX(Ugeindtastning!A28,$B$5)+1) -> 7 | E25: =MAX(0,MIN(B25,$C$6)-MAX(Ugeindtastning!A28,$B$6)+1) -> 0 | F25: =MAX(0,MIN(B25,$C$7)-MAX(Ugeindtastning!A28,$B$7)+1) -> 0 | G25: =(D25*$D$5+E25*$D$6+F25*$D$7)/7 -> 3 | H25: =(D25*$E$5+E25*$E$6+F25*$E$7)/7 -> 5 | I25: =IF(NOT(ISNUMBER(Ugeindtastning!D28)),"",Ugeindtastning!D28) | J25: =SUM(G$12:G25) -> 42 | K25: =SUM(H$12:H25) -> 70 | L25: =IF(OR(B25>$B$2,COUNT(I$12:I25)<ROWS(I$12:I25)),NA(),SUM(I$12:I25)) -> #N/A | M25: =IF(NOT(ISNUMBER(Ugeindtastning!E28)),NA(),Ugeindtastning!E28) -> #N/A | N25: =IF(NOT(ISNUMBER(Ugeindtastning!F28)),NA(),Ugeindtastning!F28) -> #N/A | O25: =IF(Ugeindtastning!H28<>"",Ugeindtastning!H28,O24) | P25: =IF(Ugeindtastning!G28<>"",Ugeindtastning!G28,P24) | Q25: =IF(OR(O25="",P25="",P25<=0),"",O25/P25) | R25: =IF(OR(NOT(ISNUMBER(Ugeindtastning!I28)),P25="",P25<=0),"",Ugeindtastning!I28/P25) | S25: =IF(OR(Ugeindtastning!J28="",Ugeindtastning!$B$6="",Ugeindtastning!$B$6<=0),"",Ugeindtastning!J28/Ugeindtastning!$B$6) | T25: =IF(S25="","",IF(S25>1,"Tjek maks. puls",IF(S25<0.5,"Under Z1",IF(S25<0.6,"Z1",IF(S25<0.7,"Z2",IF(S25<0.8,"Z3",IF(S25<0.9,"Z4","Z5"))))))) | U25: =IF(AND(B25<=$B$2,NOT(ISNUMBER(I25))),1,0) -> 0 | V25: =IF(NOT(ISNUMBER(I25)),"Ikke registreret",IF(I25<G25,"Under interval",IF(I25>H25,"Over interval","Inden for interval"))) -> Ikke registreret | W25: =IF(NOT(ISNUMBER(I25)),0,B25) -> 0 | X25: =A25 -> 07/12 | Y25: =SUM(D$12:D25)*$D$5/7 -> 42 | Z25: =SUM(D$12:D25)*$E$5/7 -> 70 | AA25: =IF(OR(B25>$B$2,SUMPRODUCT(D$12:D25,U$12:U25)>0),NA(),SUMPRODUCT(D$12:D25,AJ$12:AJ25)) -> #N/A | AB25: =A41 -> 29/03 | AC25: =SUM(E$12:E41)*$D$6/7 -> 64.285714 | AD25: =SUM(E$12:E41)*$E$6/7 -> 90 | AE25: =IF(OR(B41>$B$2,SUMPRODUCT(E$12:E41,U$12:U41)>0),NA(),SUMPRODUCT(E$12:E41,AJ$12:AJ41)) -> #N/A | AJ25: =IF(NOT(ISNUMBER(I25)),0,I25/C25) -> 0 | AK25: =IF(NOT(ISNUMBER(Ugeindtastning!I28)),NA(),Ugeindtastning!I28) -> #N/A | AL25: =IF(OR(B25>$B$2,P25=""),NA(),P25) -> #N/A | AM25: =IF(OR(B25>$B$2,Q25=""),NA(),Q25) -> #N/A | AN25: =IF(OR(B25>$B$2,R25=""),NA(),R25) -> #N/A | AO25: =IF(OR(B25>$B$2,S25=""),NA(),S25) -> #N/A | AP25: =IF(NOT(ISNUMBER(I25)),NA(),I25) -> #N/A
A26: =TEXT(Ugeindtastning!A29,"dd/mm") -> 14/12 | B26: =Ugeindtastning!B29 -> 46376 | C26: =B26-Ugeindtastning!A29+1 -> 7 | D26: =MAX(0,MIN(B26,$C$5)-MAX(Ugeindtastning!A29,$B$5)+1) -> 7 | E26: =MAX(0,MIN(B26,$C$6)-MAX(Ugeindtastning!A29,$B$6)+1) -> 0 | F26: =MAX(0,MIN(B26,$C$7)-MAX(Ugeindtastning!A29,$B$7)+1) -> 0 | G26: =(D26*$D$5+E26*$D$6+F26*$D$7)/7 -> 3 | H26: =(D26*$E$5+E26*$E$6+F26*$E$7)/7 -> 5 | I26: =IF(NOT(ISNUMBER(Ugeindtastning!D29)),"",Ugeindtastning!D29) | J26: =SUM(G$12:G26) -> 45 | K26: =SUM(H$12:H26) -> 75 | L26: =IF(OR(B26>$B$2,COUNT(I$12:I26)<ROWS(I$12:I26)),NA(),SUM(I$12:I26)) -> #N/A | M26: =IF(NOT(ISNUMBER(Ugeindtastning!E29)),NA(),Ugeindtastning!E29) -> #N/A | N26: =IF(NOT(ISNUMBER(Ugeindtastning!F29)),NA(),Ugeindtastning!F29) -> #N/A | O26: =IF(Ugeindtastning!H29<>"",Ugeindtastning!H29,O25) | P26: =IF(Ugeindtastning!G29<>"",Ugeindtastning!G29,P25) | Q26: =IF(OR(O26="",P26="",P26<=0),"",O26/P26) | R26: =IF(OR(NOT(ISNUMBER(Ugeindtastning!I29)),P26="",P26<=0),"",Ugeindtastning!I29/P26) | S26: =IF(OR(Ugeindtastning!J29="",Ugeindtastning!$B$6="",Ugeindtastning!$B$6<=0),"",Ugeindtastning!J29/Ugeindtastning!$B$6) | T26: =IF(S26="","",IF(S26>1,"Tjek maks. puls",IF(S26<0.5,"Under Z1",IF(S26<0.6,"Z1",IF(S26<0.7,"Z2",IF(S26<0.8,"Z3",IF(S26<0.9,"Z4","Z5"))))))) | U26: =IF(AND(B26<=$B$2,NOT(ISNUMBER(I26))),1,0) -> 0 | V26: =IF(NOT(ISNUMBER(I26)),"Ikke registreret",IF(I26<G26,"Under interval",IF(I26>H26,"Over interval","Inden for interval"))) -> Ikke registreret | W26: =IF(NOT(ISNUMBER(I26)),0,B26) -> 0 | X26: =A26 -> 14/12 | Y26: =SUM(D$12:D26)*$D$5/7 -> 45 | Z26: =SUM(D$12:D26)*$E$5/7 -> 75 | AA26: =IF(OR(B26>$B$2,SUMPRODUCT(D$12:D26,U$12:U26)>0),NA(),SUMPRODUCT(D$12:D26,AJ$12:AJ26)) -> #N/A | AJ26: =IF(NOT(ISNUMBER(I26)),0,I26/C26) -> 0 | AK26: =IF(NOT(ISNUMBER(Ugeindtastning!I29)),NA(),Ugeindtastning!I29) -> #N/A | AL26: =IF(OR(B26>$B$2,P26=""),NA(),P26) -> #N/A | AM26: =IF(OR(B26>$B$2,Q26=""),NA(),Q26) -> #N/A | AN26: =IF(OR(B26>$B$2,R26=""),NA(),R26) -> #N/A | AO26: =IF(OR(B26>$B$2,S26=""),NA(),S26) -> #N/A | AP26: =IF(NOT(ISNUMBER(I26)),NA(),I26) -> #N/A
A27: =TEXT(Ugeindtastning!A30,"dd/mm") -> 21/12 | B27: =Ugeindtastning!B30 -> 46383 | C27: =B27-Ugeindtastning!A30+1 -> 7 | D27: =MAX(0,MIN(B27,$C$5)-MAX(Ugeindtastning!A30,$B$5)+1) -> 7 | E27: =MAX(0,MIN(B27,$C$6)-MAX(Ugeindtastning!A30,$B$6)+1) -> 0 | F27: =MAX(0,MIN(B27,$C$7)-MAX(Ugeindtastning!A30,$B$7)+1) -> 0 | G27: =(D27*$D$5+E27*$D$6+F27*$D$7)/7 -> 3 | H27: =(D27*$E$5+E27*$E$6+F27*$E$7)/7 -> 5 | I27: =IF(NOT(ISNUMBER(Ugeindtastning!D30)),"",Ugeindtastning!D30) | J27: =SUM(G$12:G27) -> 48 | K27: =SUM(H$12:H27) -> 80 | L27: =IF(OR(B27>$B$2,COUNT(I$12:I27)<ROWS(I$12:I27)),NA(),SUM(I$12:I27)) -> #N/A | M27: =IF(NOT(ISNUMBER(Ugeindtastning!E30)),NA(),Ugeindtastning!E30) -> #N/A | N27: =IF(NOT(ISNUMBER(Ugeindtastning!F30)),NA(),Ugeindtastning!F30) -> #N/A | O27: =IF(Ugeindtastning!H30<>"",Ugeindtastning!H30,O26) | P27: =IF(Ugeindtastning!G30<>"",Ugeindtastning!G30,P26) | Q27: =IF(OR(O27="",P27="",P27<=0),"",O27/P27) | R27: =IF(OR(NOT(ISNUMBER(Ugeindtastning!I30)),P27="",P27<=0),"",Ugeindtastning!I30/P27) | S27: =IF(OR(Ugeindtastning!J30="",Ugeindtastning!$B$6="",Ugeindtastning!$B$6<=0),"",Ugeindtastning!J30/Ugeindtastning!$B$6) | T27: =IF(S27="","",IF(S27>1,"Tjek maks. puls",IF(S27<0.5,"Under Z1",IF(S27<0.6,"Z1",IF(S27<0.7,"Z2",IF(S27<0.8,"Z3",IF(S27<0.9,"Z4","Z5"))))))) | U27: =IF(AND(B27<=$B$2,NOT(ISNUMBER(I27))),1,0) -> 0 | V27: =IF(NOT(ISNUMBER(I27)),"Ikke registreret",IF(I27<G27,"Under interval",IF(I27>H27,"Over interval","Inden for interval"))) -> Ikke registreret | W27: =IF(NOT(ISNUMBER(I27)),0,B27) -> 0 | X27: =A27 -> 21/12 | Y27: =SUM(D$12:D27)*$D$5/7 -> 48 | Z27: =SUM(D$12:D27)*$E$5/7 -> 80 | AA27: =IF(OR(B27>$B$2,SUMPRODUCT(D$12:D27,U$12:U27)>0),NA(),SUMPRODUCT(D$12:D27,AJ$12:AJ27)) -> #N/A | AJ27: =IF(NOT(ISNUMBER(I27)),0,I27/C27) -> 0 | AK27: =IF(NOT(ISNUMBER(Ugeindtastning!I30)),NA(),Ugeindtastning!I30) -> #N/A | AL27: =IF(OR(B27>$B$2,P27=""),NA(),P27) -> #N/A | AM27: =IF(OR(B27>$B$2,Q27=""),NA(),Q27) -> #N/A | AN27: =IF(OR(B27>$B$2,R27=""),NA(),R27) -> #N/A | AO27: =IF(OR(B27>$B$2,S27=""),NA(),S27) -> #N/A | AP27: =IF(NOT(ISNUMBER(I27)),NA(),I27) -> #N/A
A28: =TEXT(Ugeindtastning!A31,"dd/mm") -> 28/12 | B28: =Ugeindtastning!B31 -> 46390 | C28: =B28-Ugeindtastning!A31+1 -> 7 | D28: =MAX(0,MIN(B28,$C$5)-MAX(Ugeindtastning!A31,$B$5)+1) -> 4 | E28: =MAX(0,MIN(B28,$C$6)-MAX(Ugeindtastning!A31,$B$6)+1) -> 3 | F28: =MAX(0,MIN(B28,$C$7)-MAX(Ugeindtastning!A31,$B$7)+1) -> 0 | G28: =(D28*$D$5+E28*$D$6+F28*$D$7)/7 -> 3.8571429 | H28: =(D28*$E$5+E28*$E$6+F28*$E$7)/7 -> 5.8571429 | I28: =IF(NOT(ISNUMBER(Ugeindtastning!D31)),"",Ugeindtastning!D31) | J28: =SUM(G$12:G28) -> 51.857143 | K28: =SUM(H$12:H28) -> 85.857143 | L28: =IF(OR(B28>$B$2,COUNT(I$12:I28)<ROWS(I$12:I28)),NA(),SUM(I$12:I28)) -> #N/A | M28: =IF(NOT(ISNUMBER(Ugeindtastning!E31)),NA(),Ugeindtastning!E31) -> #N/A | N28: =IF(NOT(ISNUMBER(Ugeindtastning!F31)),NA(),Ugeindtastning!F31) -> #N/A | O28: =IF(Ugeindtastning!H31<>"",Ugeindtastning!H31,O27) | P28: =IF(Ugeindtastning!G31<>"",Ugeindtastning!G31,P27) | Q28: =IF(OR(O28="",P28="",P28<=0),"",O28/P28) | R28: =IF(OR(NOT(ISNUMBER(Ugeindtastning!I31)),P28="",P28<=0),"",Ugeindtastning!I31/P28) | S28: =IF(OR(Ugeindtastning!J31="",Ugeindtastning!$B$6="",Ugeindtastning!$B$6<=0),"",Ugeindtastning!J31/Ugeindtastning!$B$6) | T28: =IF(S28="","",IF(S28>1,"Tjek maks. puls",IF(S28<0.5,"Under Z1",IF(S28<0.6,"Z1",IF(S28<0.7,"Z2",IF(S28<0.8,"Z3",IF(S28<0.9,"Z4","Z5"))))))) | U28: =IF(AND(B28<=$B$2,NOT(ISNUMBER(I28))),1,0) -> 0 | V28: =IF(NOT(ISNUMBER(I28)),"Ikke registreret",IF(I28<G28,"Under interval",IF(I28>H28,"Over interval","Inden for interval"))) -> Ikke registreret | W28: =IF(NOT(ISNUMBER(I28)),0,B28) -> 0 | X28: =A28 -> 28/12 | Y28: =SUM(D$12:D28)*$D$5/7 -> 49.714286 | Z28: =SUM(D$12:D28)*$E$5/7 -> 82.857143 | AA28: =IF(OR(B28>$B$2,SUMPRODUCT(D$12:D28,U$12:U28)>0),NA(),SUMPRODUCT(D$12:D28,AJ$12:AJ28)) -> #N/A | AJ28: =IF(NOT(ISNUMBER(I28)),0,I28/C28) -> 0 | AK28: =IF(NOT(ISNUMBER(Ugeindtastning!I31)),NA(),Ugeindtastning!I31) -> #N/A | AL28: =IF(OR(B28>$B$2,P28=""),NA(),P28) -> #N/A | AM28: =IF(OR(B28>$B$2,Q28=""),NA(),Q28) -> #N/A | AN28: =IF(OR(B28>$B$2,R28=""),NA(),R28) -> #N/A | AO28: =IF(OR(B28>$B$2,S28=""),NA(),S28) -> #N/A | AP28: =IF(NOT(ISNUMBER(I28)),NA(),I28) -> #N/A
A29: =TEXT(Ugeindtastning!A32,"dd/mm") -> 04/01 | B29: =Ugeindtastning!B32 -> 46397 | C29: =B29-Ugeindtastning!A32+1 -> 7 | D29: =MAX(0,MIN(B29,$C$5)-MAX(Ugeindtastning!A32,$B$5)+1) -> 0 | E29: =MAX(0,MIN(B29,$C$6)-MAX(Ugeindtastning!A32,$B$6)+1) -> 7 | F29: =MAX(0,MIN(B29,$C$7)-MAX(Ugeindtastning!A32,$B$7)+1) -> 0 | G29: =(D29*$D$5+E29*$D$6+F29*$D$7)/7 -> 5 | H29: =(D29*$E$5+E29*$E$6+F29*$E$7)/7 -> 7 | I29: =IF(NOT(ISNUMBER(Ugeindtastning!D32)),"",Ugeindtastning!D32) | J29: =SUM(G$12:G29) -> 56.857143 | K29: =SUM(H$12:H29) -> 92.857143 | L29: =IF(OR(B29>$B$2,COUNT(I$12:I29)<ROWS(I$12:I29)),NA(),SUM(I$12:I29)) -> #N/A | M29: =IF(NOT(ISNUMBER(Ugeindtastning!E32)),NA(),Ugeindtastning!E32) -> #N/A | N29: =IF(NOT(ISNUMBER(Ugeindtastning!F32)),NA(),Ugeindtastning!F32) -> #N/A | O29: =IF(Ugeindtastning!H32<>"",Ugeindtastning!H32,O28) | P29: =IF(Ugeindtastning!G32<>"",Ugeindtastning!G32,P28) | Q29: =IF(OR(O29="",P29="",P29<=0),"",O29/P29) | R29: =IF(OR(NOT(ISNUMBER(Ugeindtastning!I32)),P29="",P29<=0),"",Ugeindtastning!I32/P29) | S29: =IF(OR(Ugeindtastning!J32="",Ugeindtastning!$B$6="",Ugeindtastning!$B$6<=0),"",Ugeindtastning!J32/Ugeindtastning!$B$6) | T29: =IF(S29="","",IF(S29>1,"Tjek maks. puls",IF(S29<0.5,"Under Z1",IF(S29<0.6,"Z1",IF(S29<0.7,"Z2",IF(S29<0.8,"Z3",IF(S29<0.9,"Z4","Z5"))))))) | U29: =IF(AND(B29<=$B$2,NOT(ISNUMBER(I29))),1,0) -> 0 | V29: =IF(NOT(ISNUMBER(I29)),"Ikke registreret",IF(I29<G29,"Under interval",IF(I29>H29,"Over interval","Inden for interval"))) -> Ikke registreret | W29: =IF(NOT(ISNUMBER(I29)),0,B29) -> 0 | AJ29: =IF(NOT(ISNUMBER(I29)),0,I29/C29) -> 0 | AK29: =IF(NOT(ISNUMBER(Ugeindtastning!I32)),NA(),Ugeindtastning!I32) -> #N/A | AL29: =IF(OR(B29>$B$2,P29=""),NA(),P29) -> #N/A | AM29: =IF(OR(B29>$B$2,Q29=""),NA(),Q29) -> #N/A | AN29: =IF(OR(B29>$B$2,R29=""),NA(),R29) -> #N/A | AO29: =IF(OR(B29>$B$2,S29=""),NA(),S29) -> #N/A | AP29: =IF(NOT(ISNUMBER(I29)),NA(),I29) -> #N/A
A30: =TEXT(Ugeindtastning!A33,"dd/mm") -> 11/01 | B30: =Ugeindtastning!B33 -> 46404 | C30: =B30-Ugeindtastning!A33+1 -> 7 | D30: =MAX(0,MIN(B30,$C$5)-MAX(Ugeindtastning!A33,$B$5)+1) -> 0 | E30: =MAX(0,MIN(B30,$C$6)-MAX(Ugeindtastning!A33,$B$6)+1) -> 7 | F30: =MAX(0,MIN(B30,$C$7)-MAX(Ugeindtastning!A33,$B$7)+1) -> 0 | G30: =(D30*$D$5+E30*$D$6+F30*$D$7)/7 -> 5 | H30: =(D30*$E$5+E30*$E$6+F30*$E$7)/7 -> 7 | I30: =IF(NOT(ISNUMBER(Ugeindtastning!D33)),"",Ugeindtastning!D33) | J30: =SUM(G$12:G30) -> 61.857143 | K30: =SUM(H$12:H30) -> 99.857143 | L30: =IF(OR(B30>$B$2,COUNT(I$12:I30)<ROWS(I$12:I30)),NA(),SUM(I$12:I30)) -> #N/A | M30: =IF(NOT(ISNUMBER(Ugeindtastning!E33)),NA(),Ugeindtastning!E33) -> #N/A | N30: =IF(NOT(ISNUMBER(Ugeindtastning!F33)),NA(),Ugeindtastning!F33) -> #N/A | O30: =IF(Ugeindtastning!H33<>"",Ugeindtastning!H33,O29) | P30: =IF(Ugeindtastning!G33<>"",Ugeindtastning!G33,P29) | Q30: =IF(OR(O30="",P30="",P30<=0),"",O30/P30) | R30: =IF(OR(NOT(ISNUMBER(Ugeindtastning!I33)),P30="",P30<=0),"",Ugeindtastning!I33/P30) | S30: =IF(OR(Ugeindtastning!J33="",Ugeindtastning!$B$6="",Ugeindtastning!$B$6<=0),"",Ugeindtastning!J33/Ugeindtastning!$B$6) | T30: =IF(S30="","",IF(S30>1,"Tjek maks. puls",IF(S30<0.5,"Under Z1",IF(S30<0.6,"Z1",IF(S30<0.7,"Z2",IF(S30<0.8,"Z3",IF(S30<0.9,"Z4","Z5"))))))) | U30: =IF(AND(B30<=$B$2,NOT(ISNUMBER(I30))),1,0) -> 0 | V30: =IF(NOT(ISNUMBER(I30)),"Ikke registreret",IF(I30<G30,"Under interval",IF(I30>H30,"Over interval","Inden for interval"))) -> Ikke registreret | W30: =IF(NOT(ISNUMBER(I30)),0,B30) -> 0 | AJ30: =IF(NOT(ISNUMBER(I30)),0,I30/C30) -> 0 | AK30: =IF(NOT(ISNUMBER(Ugeindtastning!I33)),NA(),Ugeindtastning!I33) -> #N/A | AL30: =IF(OR(B30>$B$2,P30=""),NA(),P30) -> #N/A | AM30: =IF(OR(B30>$B$2,Q30=""),NA(),Q30) -> #N/A | AN30: =IF(OR(B30>$B$2,R30=""),NA(),R30) -> #N/A | AO30: =IF(OR(B30>$B$2,S30=""),NA(),S30) -> #N/A | AP30: =IF(NOT(ISNUMBER(I30)),NA(),I30) -> #N/A
A31: =TEXT(Ugeindtastning!A34,"dd/mm") -> 18/01 | B31: =Ugeindtastning!B34 -> 46411 | C31: =B31-Ugeindtastning!A34+1 -> 7 | D31: =MAX(0,MIN(B31,$C$5)-MAX(Ugeindtastning!A34,$B$5)+1) -> 0 | E31: =MAX(0,MIN(B31,$C$6)-MAX(Ugeindtastning!A34,$B$6)+1) -> 7 | F31: =MAX(0,MIN(B31,$C$7)-MAX(Ugeindtastning!A34,$B$7)+1) -> 0 | G31: =(D31*$D$5+E31*$D$6+F31*$D$7)/7 -> 5 | H31: =(D31*$E$5+E31*$E$6+F31*$E$7)/7 -> 7 | I31: =IF(NOT(ISNUMBER(Ugeindtastning!D34)),"",Ugeindtastning!D34) | J31: =SUM(G$12:G31) -> 66.857143 | K31: =SUM(H$12:H31) -> 106.85714 | L31: =IF(OR(B31>$B$2,COUNT(I$12:I31)<ROWS(I$12:I31)),NA(),SUM(I$12:I31)) -> #N/A | M31: =IF(NOT(ISNUMBER(Ugeindtastning!E34)),NA(),Ugeindtastning!E34) -> #N/A | N31: =IF(NOT(ISNUMBER(Ugeindtastning!F34)),NA(),Ugeindtastning!F34) -> #N/A | O31: =IF(Ugeindtastning!H34<>"",Ugeindtastning!H34,O30) | P31: =IF(Ugeindtastning!G34<>"",Ugeindtastning!G34,P30) | Q31: =IF(OR(O31="",P31="",P31<=0),"",O31/P31) | R31: =IF(OR(NOT(ISNUMBER(Ugeindtastning!I34)),P31="",P31<=0),"",Ugeindtastning!I34/P31) | S31: =IF(OR(Ugeindtastning!J34="",Ugeindtastning!$B$6="",Ugeindtastning!$B$6<=0),"",Ugeindtastning!J34/Ugeindtastning!$B$6) | T31: =IF(S31="","",IF(S31>1,"Tjek maks. puls",IF(S31<0.5,"Under Z1",IF(S31<0.6,"Z1",IF(S31<0.7,"Z2",IF(S31<0.8,"Z3",IF(S31<0.9,"Z4","Z5"))))))) | U31: =IF(AND(B31<=$B$2,NOT(ISNUMBER(I31))),1,0) -> 0 | V31: =IF(NOT(ISNUMBER(I31)),"Ikke registreret",IF(I31<G31,"Under interval",IF(I31>H31,"Over interval","Inden for interval"))) -> Ikke registreret | W31: =IF(NOT(ISNUMBER(I31)),0,B31) -> 0 | AJ31: =IF(NOT(ISNUMBER(I31)),0,I31/C31) -> 0 | AK31: =IF(NOT(ISNUMBER(Ugeindtastning!I34)),NA(),Ugeindtastning!I34) -> #N/A | AL31: =IF(OR(B31>$B$2,P31=""),NA(),P31) -> #N/A | AM31: =IF(OR(B31>$B$2,Q31=""),NA(),Q31) -> #N/A | AN31: =IF(OR(B31>$B$2,R31=""),NA(),R31) -> #N/A | AO31: =IF(OR(B31>$B$2,S31=""),NA(),S31) -> #N/A | AP31: =IF(NOT(ISNUMBER(I31)),NA(),I31) -> #N/A
A32: =TEXT(Ugeindtastning!A35,"dd/mm") -> 25/01 | B32: =Ugeindtastning!B35 -> 46418 | C32: =B32-Ugeindtastning!A35+1 -> 7 | D32: =MAX(0,MIN(B32,$C$5)-MAX(Ugeindtastning!A35,$B$5)+1) -> 0 | E32: =MAX(0,MIN(B32,$C$6)-MAX(Ugeindtastning!A35,$B$6)+1) -> 7 | F32: =MAX(0,MIN(B32,$C$7)-MAX(Ugeindtastning!A35,$B$7)+1) -> 0 | G32: =(D32*$D$5+E32*$D$6+F32*$D$7)/7 -> 5 | H32: =(D32*$E$5+E32*$E$6+F32*$E$7)/7 -> 7 | I32: =IF(NOT(ISNUMBER(Ugeindtastning!D35)),"",Ugeindtastning!D35) | J32: =SUM(G$12:G32) -> 71.857143 | K32: =SUM(H$12:H32) -> 113.85714 | L32: =IF(OR(B32>$B$2,COUNT(I$12:I32)<ROWS(I$12:I32)),NA(),SUM(I$12:I32)) -> #N/A | M32: =IF(NOT(ISNUMBER(Ugeindtastning!E35)),NA(),Ugeindtastning!E35) -> #N/A | N32: =IF(NOT(ISNUMBER(Ugeindtastning!F35)),NA(),Ugeindtastning!F35) -> #N/A | O32: =IF(Ugeindtastning!H35<>"",Ugeindtastning!H35,O31) | P32: =IF(Ugeindtastning!G35<>"",Ugeindtastning!G35,P31) | Q32: =IF(OR(O32="",P32="",P32<=0),"",O32/P32) | R32: =IF(OR(NOT(ISNUMBER(Ugeindtastning!I35)),P32="",P32<=0),"",Ugeindtastning!I35/P32) | S32: =IF(OR(Ugeindtastning!J35="",Ugeindtastning!$B$6="",Ugeindtastning!$B$6<=0),"",Ugeindtastning!J35/Ugeindtastning!$B$6) | T32: =IF(S32="","",IF(S32>1,"Tjek maks. puls",IF(S32<0.5,"Under Z1",IF(S32<0.6,"Z1",IF(S32<0.7,"Z2",IF(S32<0.8,"Z3",IF(S32<0.9,"Z4","Z5"))))))) | U32: =IF(AND(B32<=$B$2,NOT(ISNUMBER(I32))),1,0) -> 0 | V32: =IF(NOT(ISNUMBER(I32)),"Ikke registreret",IF(I32<G32,"Under interval",IF(I32>H32,"Over interval","Inden for interval"))) -> Ikke registreret | W32: =IF(NOT(ISNUMBER(I32)),0,B32) -> 0 | AJ32: =IF(NOT(ISNUMBER(I32)),0,I32/C32) -> 0 | AK32: =IF(NOT(ISNUMBER(Ugeindtastning!I35)),NA(),Ugeindtastning!I35) -> #N/A | AL32: =IF(OR(B32>$B$2,P32=""),NA(),P32) -> #N/A | AM32: =IF(OR(B32>$B$2,Q32=""),NA(),Q32) -> #N/A | AN32: =IF(OR(B32>$B$2,R32=""),NA(),R32) -> #N/A | AO32: =IF(OR(B32>$B$2,S32=""),NA(),S32) -> #N/A | AP32: =IF(NOT(ISNUMBER(I32)),NA(),I32) -> #N/A
A33: =TEXT(Ugeindtastning!A36,"dd/mm") -> 01/02 | B33: =Ugeindtastning!B36 -> 46425 | C33: =B33-Ugeindtastning!A36+1 -> 7 | D33: =MAX(0,MIN(B33,$C$5)-MAX(Ugeindtastning!A36,$B$5)+1) -> 0 | E33: =MAX(0,MIN(B33,$C$6)-MAX(Ugeindtastning!A36,$B$6)+1) -> 7 | F33: =MAX(0,MIN(B33,$C$7)-MAX(Ugeindtastning!A36,$B$7)+1) -> 0 | G33: =(D33*$D$5+E33*$D$6+F33*$D$7)/7 -> 5 | H33: =(D33*$E$5+E33*$E$6+F33*$E$7)/7 -> 7 | I33: =IF(NOT(ISNUMBER(Ugeindtastning!D36)),"",Ugeindtastning!D36) | J33: =SUM(G$12:G33) -> 76.857143 | K33: =SUM(H$12:H33) -> 120.85714 | L33: =IF(OR(B33>$B$2,COUNT(I$12:I33)<ROWS(I$12:I33)),NA(),SUM(I$12:I33)) -> #N/A | M33: =IF(NOT(ISNUMBER(Ugeindtastning!E36)),NA(),Ugeindtastning!E36) -> #N/A | N33: =IF(NOT(ISNUMBER(Ugeindtastning!F36)),NA(),Ugeindtastning!F36) -> #N/A | O33: =IF(Ugeindtastning!H36<>"",Ugeindtastning!H36,O32) | P33: =IF(Ugeindtastning!G36<>"",Ugeindtastning!G36,P32) | Q33: =IF(OR(O33="",P33="",P33<=0),"",O33/P33) | R33: =IF(OR(NOT(ISNUMBER(Ugeindtastning!I36)),P33="",P33<=0),"",Ugeindtastning!I36/P33) | S33: =IF(OR(Ugeindtastning!J36="",Ugeindtastning!$B$6="",Ugeindtastning!$B$6<=0),"",Ugeindtastning!J36/Ugeindtastning!$B$6) | T33: =IF(S33="","",IF(S33>1,"Tjek maks. puls",IF(S33<0.5,"Under Z1",IF(S33<0.6,"Z1",IF(S33<0.7,"Z2",IF(S33<0.8,"Z3",IF(S33<0.9,"Z4","Z5"))))))) | U33: =IF(AND(B33<=$B$2,NOT(ISNUMBER(I33))),1,0) -> 0 | V33: =IF(NOT(ISNUMBER(I33)),"Ikke registreret",IF(I33<G33,"Under interval",IF(I33>H33,"Over interval","Inden for interval"))) -> Ikke registreret | W33: =IF(NOT(ISNUMBER(I33)),0,B33) -> 0 | AJ33: =IF(NOT(ISNUMBER(I33)),0,I33/C33) -> 0 | AK33: =IF(NOT(ISNUMBER(Ugeindtastning!I36)),NA(),Ugeindtastning!I36) -> #N/A | AL33: =IF(OR(B33>$B$2,P33=""),NA(),P33) -> #N/A | AM33: =IF(OR(B33>$B$2,Q33=""),NA(),Q33) -> #N/A | AN33: =IF(OR(B33>$B$2,R33=""),NA(),R33) -> #N/A | AO33: =IF(OR(B33>$B$2,S33=""),NA(),S33) -> #N/A | AP33: =IF(NOT(ISNUMBER(I33)),NA(),I33) -> #N/A
A34: =TEXT(Ugeindtastning!A37,"dd/mm") -> 08/02 | B34: =Ugeindtastning!B37 -> 46432 | C34: =B34-Ugeindtastning!A37+1 -> 7 | D34: =MAX(0,MIN(B34,$C$5)-MAX(Ugeindtastning!A37,$B$5)+1) -> 0 | E34: =MAX(0,MIN(B34,$C$6)-MAX(Ugeindtastning!A37,$B$6)+1) -> 7 | F34: =MAX(0,MIN(B34,$C$7)-MAX(Ugeindtastning!A37,$B$7)+1) -> 0 | G34: =(D34*$D$5+E34*$D$6+F34*$D$7)/7 -> 5 | H34: =(D34*$E$5+E34*$E$6+F34*$E$7)/7 -> 7 | I34: =IF(NOT(ISNUMBER(Ugeindtastning!D37)),"",Ugeindtastning!D37) | J34: =SUM(G$12:G34) -> 81.857143 | K34: =SUM(H$12:H34) -> 127.85714 | L34: =IF(OR(B34>$B$2,COUNT(I$12:I34)<ROWS(I$12:I34)),NA(),SUM(I$12:I34)) -> #N/A | M34: =IF(NOT(ISNUMBER(Ugeindtastning!E37)),NA(),Ugeindtastning!E37) -> #N/A | N34: =IF(NOT(ISNUMBER(Ugeindtastning!F37)),NA(),Ugeindtastning!F37) -> #N/A | O34: =IF(Ugeindtastning!H37<>"",Ugeindtastning!H37,O33) | P34: =IF(Ugeindtastning!G37<>"",Ugeindtastning!G37,P33) | Q34: =IF(OR(O34="",P34="",P34<=0),"",O34/P34) | R34: =IF(OR(NOT(ISNUMBER(Ugeindtastning!I37)),P34="",P34<=0),"",Ugeindtastning!I37/P34) | S34: =IF(OR(Ugeindtastning!J37="",Ugeindtastning!$B$6="",Ugeindtastning!$B$6<=0),"",Ugeindtastning!J37/Ugeindtastning!$B$6) | T34: =IF(S34="","",IF(S34>1,"Tjek maks. puls",IF(S34<0.5,"Under Z1",IF(S34<0.6,"Z1",IF(S34<0.7,"Z2",IF(S34<0.8,"Z3",IF(S34<0.9,"Z4","Z5"))))))) | U34: =IF(AND(B34<=$B$2,NOT(ISNUMBER(I34))),1,0) -> 0 | V34: =IF(NOT(ISNUMBER(I34)),"Ikke registreret",IF(I34<G34,"Under interval",IF(I34>H34,"Over interval","Inden for interval"))) -> Ikke registreret | W34: =IF(NOT(ISNUMBER(I34)),0,B34) -> 0 | AJ34: =IF(NOT(ISNUMBER(I34)),0,I34/C34) -> 0 | AK34: =IF(NOT(ISNUMBER(Ugeindtastning!I37)),NA(),Ugeindtastning!I37) -> #N/A | AL34: =IF(OR(B34>$B$2,P34=""),NA(),P34) -> #N/A | AM34: =IF(OR(B34>$B$2,Q34=""),NA(),Q34) -> #N/A | AN34: =IF(OR(B34>$B$2,R34=""),NA(),R34) -> #N/A | AO34: =IF(OR(B34>$B$2,S34=""),NA(),S34) -> #N/A | AP34: =IF(NOT(ISNUMBER(I34)),NA(),I34) -> #N/A
A35: =TEXT(Ugeindtastning!A38,"dd/mm") -> 15/02 | B35: =Ugeindtastning!B38 -> 46439 | C35: =B35-Ugeindtastning!A38+1 -> 7 | D35: =MAX(0,MIN(B35,$C$5)-MAX(Ugeindtastning!A38,$B$5)+1) -> 0 | E35: =MAX(0,MIN(B35,$C$6)-MAX(Ugeindtastning!A38,$B$6)+1) -> 7 | F35: =MAX(0,MIN(B35,$C$7)-MAX(Ugeindtastning!A38,$B$7)+1) -> 0 | G35: =(D35*$D$5+E35*$D$6+F35*$D$7)/7 -> 5 | H35: =(D35*$E$5+E35*$E$6+F35*$E$7)/7 -> 7 | I35: =IF(NOT(ISNUMBER(Ugeindtastning!D38)),"",Ugeindtastning!D38) | J35: =SUM(G$12:G35) -> 86.857143 | K35: =SUM(H$12:H35) -> 134.85714 | L35: =IF(OR(B35>$B$2,COUNT(I$12:I35)<ROWS(I$12:I35)),NA(),SUM(I$12:I35)) -> #N/A | M35: =IF(NOT(ISNUMBER(Ugeindtastning!E38)),NA(),Ugeindtastning!E38) -> #N/A | N35: =IF(NOT(ISNUMBER(Ugeindtastning!F38)),NA(),Ugeindtastning!F38) -> #N/A | O35: =IF(Ugeindtastning!H38<>"",Ugeindtastning!H38,O34) | P35: =IF(Ugeindtastning!G38<>"",Ugeindtastning!G38,P34) | Q35: =IF(OR(O35="",P35="",P35<=0),"",O35/P35) | R35: =IF(OR(NOT(ISNUMBER(Ugeindtastning!I38)),P35="",P35<=0),"",Ugeindtastning!I38/P35) | S35: =IF(OR(Ugeindtastning!J38="",Ugeindtastning!$B$6="",Ugeindtastning!$B$6<=0),"",Ugeindtastning!J38/Ugeindtastning!$B$6) | T35: =IF(S35="","",IF(S35>1,"Tjek maks. puls",IF(S35<0.5,"Under Z1",IF(S35<0.6,"Z1",IF(S35<0.7,"Z2",IF(S35<0.8,"Z3",IF(S35<0.9,"Z4","Z5"))))))) | U35: =IF(AND(B35<=$B$2,NOT(ISNUMBER(I35))),1,0) -> 0 | V35: =IF(NOT(ISNUMBER(I35)),"Ikke registreret",IF(I35<G35,"Under interval",IF(I35>H35,"Over interval","Inden for interval"))) -> Ikke registreret | W35: =IF(NOT(ISNUMBER(I35)),0,B35) -> 0 | AJ35: =IF(NOT(ISNUMBER(I35)),0,I35/C35) -> 0 | AK35: =IF(NOT(ISNUMBER(Ugeindtastning!I38)),NA(),Ugeindtastning!I38) -> #N/A | AL35: =IF(OR(B35>$B$2,P35=""),NA(),P35) -> #N/A | AM35: =IF(OR(B35>$B$2,Q35=""),NA(),Q35) -> #N/A | AN35: =IF(OR(B35>$B$2,R35=""),NA(),R35) -> #N/A | AO35: =IF(OR(B35>$B$2,S35=""),NA(),S35) -> #N/A | AP35: =IF(NOT(ISNUMBER(I35)),NA(),I35) -> #N/A
A36: =TEXT(Ugeindtastning!A39,"dd/mm") -> 22/02 | B36: =Ugeindtastning!B39 -> 46446 | C36: =B36-Ugeindtastning!A39+1 -> 7 | D36: =MAX(0,MIN(B36,$C$5)-MAX(Ugeindtastning!A39,$B$5)+1) -> 0 | E36: =MAX(0,MIN(B36,$C$6)-MAX(Ugeindtastning!A39,$B$6)+1) -> 7 | F36: =MAX(0,MIN(B36,$C$7)-MAX(Ugeindtastning!A39,$B$7)+1) -> 0 | G36: =(D36*$D$5+E36*$D$6+F36*$D$7)/7 -> 5 | H36: =(D36*$E$5+E36*$E$6+F36*$E$7)/7 -> 7 | I36: =IF(NOT(ISNUMBER(Ugeindtastning!D39)),"",Ugeindtastning!D39) | J36: =SUM(G$12:G36) -> 91.857143 | K36: =SUM(H$12:H36) -> 141.85714 | L36: =IF(OR(B36>$B$2,COUNT(I$12:I36)<ROWS(I$12:I36)),NA(),SUM(I$12:I36)) -> #N/A | M36: =IF(NOT(ISNUMBER(Ugeindtastning!E39)),NA(),Ugeindtastning!E39) -> #N/A | N36: =IF(NOT(ISNUMBER(Ugeindtastning!F39)),NA(),Ugeindtastning!F39) -> #N/A | O36: =IF(Ugeindtastning!H39<>"",Ugeindtastning!H39,O35) | P36: =IF(Ugeindtastning!G39<>"",Ugeindtastning!G39,P35) | Q36: =IF(OR(O36="",P36="",P36<=0),"",O36/P36) | R36: =IF(OR(NOT(ISNUMBER(Ugeindtastning!I39)),P36="",P36<=0),"",Ugeindtastning!I39/P36) | S36: =IF(OR(Ugeindtastning!J39="",Ugeindtastning!$B$6="",Ugeindtastning!$B$6<=0),"",Ugeindtastning!J39/Ugeindtastning!$B$6) | T36: =IF(S36="","",IF(S36>1,"Tjek maks. puls",IF(S36<0.5,"Under Z1",IF(S36<0.6,"Z1",IF(S36<0.7,"Z2",IF(S36<0.8,"Z3",IF(S36<0.9,"Z4","Z5"))))))) | U36: =IF(AND(B36<=$B$2,NOT(ISNUMBER(I36))),1,0) -> 0 | V36: =IF(NOT(ISNUMBER(I36)),"Ikke registreret",IF(I36<G36,"Under interval",IF(I36>H36,"Over interval","Inden for interval"))) -> Ikke registreret | W36: =IF(NOT(ISNUMBER(I36)),0,B36) -> 0 | AJ36: =IF(NOT(ISNUMBER(I36)),0,I36/C36) -> 0 | AK36: =IF(NOT(ISNUMBER(Ugeindtastning!I39)),NA(),Ugeindtastning!I39) -> #N/A | AL36: =IF(OR(B36>$B$2,P36=""),NA(),P36) -> #N/A | AM36: =IF(OR(B36>$B$2,Q36=""),NA(),Q36) -> #N/A | AN36: =IF(OR(B36>$B$2,R36=""),NA(),R36) -> #N/A | AO36: =IF(OR(B36>$B$2,S36=""),NA(),S36) -> #N/A | AP36: =IF(NOT(ISNUMBER(I36)),NA(),I36) -> #N/A
A37: =TEXT(Ugeindtastning!A40,"dd/mm") -> 01/03 | B37: =Ugeindtastning!B40 -> 46453 | C37: =B37-Ugeindtastning!A40+1 -> 7 | D37: =MAX(0,MIN(B37,$C$5)-MAX(Ugeindtastning!A40,$B$5)+1) -> 0 | E37: =MAX(0,MIN(B37,$C$6)-MAX(Ugeindtastning!A40,$B$6)+1) -> 7 | F37: =MAX(0,MIN(B37,$C$7)-MAX(Ugeindtastning!A40,$B$7)+1) -> 0 | G37: =(D37*$D$5+E37*$D$6+F37*$D$7)/7 -> 5 | H37: =(D37*$E$5+E37*$E$6+F37*$E$7)/7 -> 7 | I37: =IF(NOT(ISNUMBER(Ugeindtastning!D40)),"",Ugeindtastning!D40) | J37: =SUM(G$12:G37) -> 96.857143 | K37: =SUM(H$12:H37) -> 148.85714 | L37: =IF(OR(B37>$B$2,COUNT(I$12:I37)<ROWS(I$12:I37)),NA(),SUM(I$12:I37)) -> #N/A | M37: =IF(NOT(ISNUMBER(Ugeindtastning!E40)),NA(),Ugeindtastning!E40) -> #N/A | N37: =IF(NOT(ISNUMBER(Ugeindtastning!F40)),NA(),Ugeindtastning!F40) -> #N/A | O37: =IF(Ugeindtastning!H40<>"",Ugeindtastning!H40,O36) | P37: =IF(Ugeindtastning!G40<>"",Ugeindtastning!G40,P36) | Q37: =IF(OR(O37="",P37="",P37<=0),"",O37/P37) | R37: =IF(OR(NOT(ISNUMBER(Ugeindtastning!I40)),P37="",P37<=0),"",Ugeindtastning!I40/P37) | S37: =IF(OR(Ugeindtastning!J40="",Ugeindtastning!$B$6="",Ugeindtastning!$B$6<=0),"",Ugeindtastning!J40/Ugeindtastning!$B$6) | T37: =IF(S37="","",IF(S37>1,"Tjek maks. puls",IF(S37<0.5,"Under Z1",IF(S37<0.6,"Z1",IF(S37<0.7,"Z2",IF(S37<0.8,"Z3",IF(S37<0.9,"Z4","Z5"))))))) | U37: =IF(AND(B37<=$B$2,NOT(ISNUMBER(I37))),1,0) -> 0 | V37: =IF(NOT(ISNUMBER(I37)),"Ikke registreret",IF(I37<G37,"Under interval",IF(I37>H37,"Over interval","Inden for interval"))) -> Ikke registreret | W37: =IF(NOT(ISNUMBER(I37)),0,B37) -> 0 | AJ37: =IF(NOT(ISNUMBER(I37)),0,I37/C37) -> 0 | AK37: =IF(NOT(ISNUMBER(Ugeindtastning!I40)),NA(),Ugeindtastning!I40) -> #N/A | AL37: =IF(OR(B37>$B$2,P37=""),NA(),P37) -> #N/A | AM37: =IF(OR(B37>$B$2,Q37=""),NA(),Q37) -> #N/A | AN37: =IF(OR(B37>$B$2,R37=""),NA(),R37) -> #N/A | AO37: =IF(OR(B37>$B$2,S37=""),NA(),S37) -> #N/A | AP37: =IF(NOT(ISNUMBER(I37)),NA(),I37) -> #N/A
A38: =TEXT(Ugeindtastning!A41,"dd/mm") -> 08/03 | B38: =Ugeindtastning!B41 -> 46460 | C38: =B38-Ugeindtastning!A41+1 -> 7 | D38: =MAX(0,MIN(B38,$C$5)-MAX(Ugeindtastning!A41,$B$5)+1) -> 0 | E38: =MAX(0,MIN(B38,$C$6)-MAX(Ugeindtastning!A41,$B$6)+1) -> 7 | F38: =MAX(0,MIN(B38,$C$7)-MAX(Ugeindtastning!A41,$B$7)+1) -> 0 | G38: =(D38*$D$5+E38*$D$6+F38*$D$7)/7 -> 5 | H38: =(D38*$E$5+E38*$E$6+F38*$E$7)/7 -> 7 | I38: =IF(NOT(ISNUMBER(Ugeindtastning!D41)),"",Ugeindtastning!D41) | J38: =SUM(G$12:G38) -> 101.85714 | K38: =SUM(H$12:H38) -> 155.85714 | L38: =IF(OR(B38>$B$2,COUNT(I$12:I38)<ROWS(I$12:I38)),NA(),SUM(I$12:I38)) -> #N/A | M38: =IF(NOT(ISNUMBER(Ugeindtastning!E41)),NA(),Ugeindtastning!E41) -> #N/A | N38: =IF(NOT(ISNUMBER(Ugeindtastning!F41)),NA(),Ugeindtastning!F41) -> #N/A | O38: =IF(Ugeindtastning!H41<>"",Ugeindtastning!H41,O37) | P38: =IF(Ugeindtastning!G41<>"",Ugeindtastning!G41,P37) | Q38: =IF(OR(O38="",P38="",P38<=0),"",O38/P38) | R38: =IF(OR(NOT(ISNUMBER(Ugeindtastning!I41)),P38="",P38<=0),"",Ugeindtastning!I41/P38) | S38: =IF(OR(Ugeindtastning!J41="",Ugeindtastning!$B$6="",Ugeindtastning!$B$6<=0),"",Ugeindtastning!J41/Ugeindtastning!$B$6) | T38: =IF(S38="","",IF(S38>1,"Tjek maks. puls",IF(S38<0.5,"Under Z1",IF(S38<0.6,"Z1",IF(S38<0.7,"Z2",IF(S38<0.8,"Z3",IF(S38<0.9,"Z4","Z5"))))))) | U38: =IF(AND(B38<=$B$2,NOT(ISNUMBER(I38))),1,0) -> 0 | V38: =IF(NOT(ISNUMBER(I38)),"Ikke registreret",IF(I38<G38,"Under interval",IF(I38>H38,"Over interval","Inden for interval"))) -> Ikke registreret | W38: =IF(NOT(ISNUMBER(I38)),0,B38) -> 0 | AJ38: =IF(NOT(ISNUMBER(I38)),0,I38/C38) -> 0 | AK38: =IF(NOT(ISNUMBER(Ugeindtastning!I41)),NA(),Ugeindtastning!I41) -> #N/A | AL38: =IF(OR(B38>$B$2,P38=""),NA(),P38) -> #N/A | AM38: =IF(OR(B38>$B$2,Q38=""),NA(),Q38) -> #N/A | AN38: =IF(OR(B38>$B$2,R38=""),NA(),R38) -> #N/A | AO38: =IF(OR(B38>$B$2,S38=""),NA(),S38) -> #N/A | AP38: =IF(NOT(ISNUMBER(I38)),NA(),I38) -> #N/A
A39: =TEXT(Ugeindtastning!A42,"dd/mm") -> 15/03 | B39: =Ugeindtastning!B42 -> 46467 | C39: =B39-Ugeindtastning!A42+1 -> 7 | D39: =MAX(0,MIN(B39,$C$5)-MAX(Ugeindtastning!A42,$B$5)+1) -> 0 | E39: =MAX(0,MIN(B39,$C$6)-MAX(Ugeindtastning!A42,$B$6)+1) -> 7 | F39: =MAX(0,MIN(B39,$C$7)-MAX(Ugeindtastning!A42,$B$7)+1) -> 0 | G39: =(D39*$D$5+E39*$D$6+F39*$D$7)/7 -> 5 | H39: =(D39*$E$5+E39*$E$6+F39*$E$7)/7 -> 7 | I39: =IF(NOT(ISNUMBER(Ugeindtastning!D42)),"",Ugeindtastning!D42) | J39: =SUM(G$12:G39) -> 106.85714 | K39: =SUM(H$12:H39) -> 162.85714 | L39: =IF(OR(B39>$B$2,COUNT(I$12:I39)<ROWS(I$12:I39)),NA(),SUM(I$12:I39)) -> #N/A | M39: =IF(NOT(ISNUMBER(Ugeindtastning!E42)),NA(),Ugeindtastning!E42) -> #N/A | N39: =IF(NOT(ISNUMBER(Ugeindtastning!F42)),NA(),Ugeindtastning!F42) -> #N/A | O39: =IF(Ugeindtastning!H42<>"",Ugeindtastning!H42,O38) | P39: =IF(Ugeindtastning!G42<>"",Ugeindtastning!G42,P38) | Q39: =IF(OR(O39="",P39="",P39<=0),"",O39/P39) | R39: =IF(OR(NOT(ISNUMBER(Ugeindtastning!I42)),P39="",P39<=0),"",Ugeindtastning!I42/P39) | S39: =IF(OR(Ugeindtastning!J42="",Ugeindtastning!$B$6="",Ugeindtastning!$B$6<=0),"",Ugeindtastning!J42/Ugeindtastning!$B$6) | T39: =IF(S39="","",IF(S39>1,"Tjek maks. puls",IF(S39<0.5,"Under Z1",IF(S39<0.6,"Z1",IF(S39<0.7,"Z2",IF(S39<0.8,"Z3",IF(S39<0.9,"Z4","Z5"))))))) | U39: =IF(AND(B39<=$B$2,NOT(ISNUMBER(I39))),1,0) -> 0 | V39: =IF(NOT(ISNUMBER(I39)),"Ikke registreret",IF(I39<G39,"Under interval",IF(I39>H39,"Over interval","Inden for interval"))) -> Ikke registreret | W39: =IF(NOT(ISNUMBER(I39)),0,B39) -> 0 | AJ39: =IF(NOT(ISNUMBER(I39)),0,I39/C39) -> 0 | AK39: =IF(NOT(ISNUMBER(Ugeindtastning!I42)),NA(),Ugeindtastning!I42) -> #N/A | AL39: =IF(OR(B39>$B$2,P39=""),NA(),P39) -> #N/A | AM39: =IF(OR(B39>$B$2,Q39=""),NA(),Q39) -> #N/A | AN39: =IF(OR(B39>$B$2,R39=""),NA(),R39) -> #N/A | AO39: =IF(OR(B39>$B$2,S39=""),NA(),S39) -> #N/A | AP39: =IF(NOT(ISNUMBER(I39)),NA(),I39) -> #N/A
A40: =TEXT(Ugeindtastning!A43,"dd/mm") -> 22/03 | B40: =Ugeindtastning!B43 -> 46474 | C40: =B40-Ugeindtastning!A43+1 -> 7 | D40: =MAX(0,MIN(B40,$C$5)-MAX(Ugeindtastning!A43,$B$5)+1) -> 0 | E40: =MAX(0,MIN(B40,$C$6)-MAX(Ugeindtastning!A43,$B$6)+1) -> 7 | F40: =MAX(0,MIN(B40,$C$7)-MAX(Ugeindtastning!A43,$B$7)+1) -> 0 | G40: =(D40*$D$5+E40*$D$6+F40*$D$7)/7 -> 5 | H40: =(D40*$E$5+E40*$E$6+F40*$E$7)/7 -> 7 | I40: =IF(NOT(ISNUMBER(Ugeindtastning!D43)),"",Ugeindtastning!D43) | J40: =SUM(G$12:G40) -> 111.85714 | K40: =SUM(H$12:H40) -> 169.85714 | L40: =IF(OR(B40>$B$2,COUNT(I$12:I40)<ROWS(I$12:I40)),NA(),SUM(I$12:I40)) -> #N/A | M40: =IF(NOT(ISNUMBER(Ugeindtastning!E43)),NA(),Ugeindtastning!E43) -> #N/A | N40: =IF(NOT(ISNUMBER(Ugeindtastning!F43)),NA(),Ugeindtastning!F43) -> #N/A | O40: =IF(Ugeindtastning!H43<>"",Ugeindtastning!H43,O39) | P40: =IF(Ugeindtastning!G43<>"",Ugeindtastning!G43,P39) | Q40: =IF(OR(O40="",P40="",P40<=0),"",O40/P40) | R40: =IF(OR(NOT(ISNUMBER(Ugeindtastning!I43)),P40="",P40<=0),"",Ugeindtastning!I43/P40) | S40: =IF(OR(Ugeindtastning!J43="",Ugeindtastning!$B$6="",Ugeindtastning!$B$6<=0),"",Ugeindtastning!J43/Ugeindtastning!$B$6) | T40: =IF(S40="","",IF(S40>1,"Tjek maks. puls",IF(S40<0.5,"Under Z1",IF(S40<0.6,"Z1",IF(S40<0.7,"Z2",IF(S40<0.8,"Z3",IF(S40<0.9,"Z4","Z5"))))))) | U40: =IF(AND(B40<=$B$2,NOT(ISNUMBER(I40))),1,0) -> 0 | V40: =IF(NOT(ISNUMBER(I40)),"Ikke registreret",IF(I40<G40,"Under interval",IF(I40>H40,"Over interval","Inden for interval"))) -> Ikke registreret | W40: =IF(NOT(ISNUMBER(I40)),0,B40) -> 0 | AJ40: =IF(NOT(ISNUMBER(I40)),0,I40/C40) -> 0 | AK40: =IF(NOT(ISNUMBER(Ugeindtastning!I43)),NA(),Ugeindtastning!I43) -> #N/A | AL40: =IF(OR(B40>$B$2,P40=""),NA(),P40) -> #N/A | AM40: =IF(OR(B40>$B$2,Q40=""),NA(),Q40) -> #N/A | AN40: =IF(OR(B40>$B$2,R40=""),NA(),R40) -> #N/A | AO40: =IF(OR(B40>$B$2,S40=""),NA(),S40) -> #N/A | AP40: =IF(NOT(ISNUMBER(I40)),NA(),I40) -> #N/A
... A51: =TEXT(Ugeindtastning!A54,"dd/mm") -> 07/06 | B51: =Ugeindtastning!B54 -> 46546 | C51: =B51-Ugeindtastning!A54+1 -> 2 | D51: =MAX(0,MIN(B51,$C$5)-MAX(Ugeindtastning!A54,$B$5)+1) -> 0 | E51: =MAX(0,MIN(B51,$C$6)-MAX(Ugeindtastning!A54,$B$6)+1) -> 0 | F51: =MAX(0,MIN(B51,$C$7)-MAX(Ugeindtastning!A54,$B$7)+1) -> 2 | G51: =(D51*$D$5+E51*$D$6+F51*$D$7)/7 -> 2 | H51: =(D51*$E$5+E51*$E$6+F51*$E$7)/7 -> 2.5714286 | I51: =IF(NOT(ISNUMBER(Ugeindtastning!D54)),"",Ugeindtastning!D54) | J51: =SUM(G$12:G51) -> 183 | K51: =SUM(H$12:H51) -> 261.57143 | L51: =IF(OR(B51>$B$2,COUNT(I$12:I51)<ROWS(I$12:I51)),NA(),SUM(I$12:I51)) -> #N/A | M51: =IF(NOT(ISNUMBER(Ugeindtastning!E54)),NA(),Ugeindtastning!E54) -> #N/A | N51: =IF(NOT(ISNUMBER(Ugeindtastning!F54)),NA(),Ugeindtastning!F54) -> #N/A | O51: =IF(Ugeindtastning!H54<>"",Ugeindtastning!H54,O50) | P51: =IF(Ugeindtastning!G54<>"",Ugeindtastning!G54,P50) | Q51: =IF(OR(O51="",P51="",P51<=0),"",O51/P51) | R51: =IF(OR(NOT(ISNUMBER(Ugeindtastning!I54)),P51="",P51<=0),"",Ugeindtastning!I54/P51) | S51: =IF(OR(Ugeindtastning!J54="",Ugeindtastning!$B$6="",Ugeindtastning!$B$6<=0),"",Ugeindtastning!J54/Ugeindtastning!$B$6) | T51: =IF(S51="","",IF(S51>1,"Tjek maks. puls",IF(S51<0.5,"Under Z1",IF(S51<0.6,"Z1",IF(S51<0.7,"Z2",IF(S51<0.8,"Z3",IF(S51<0.9,"Z4","Z5"))))))) | U51: =IF(AND(B51<=$B$2,NOT(ISNUMBER(I51))),1,0) -> 0 | V51: =IF(NOT(ISNUMBER(I51)),"Ikke registreret",IF(I51<G51,"Under interval",IF(I51>H51,"Over interval","Inden for interval"))) -> Ikke registreret | W51: =IF(NOT(ISNUMBER(I51)),0,B51) -> 0 | AJ51: =IF(NOT(ISNUMBER(I51)),0,I51/C51) -> 0 | AK51: =IF(NOT(ISNUMBER(Ugeindtastning!I54)),NA(),Ugeindtastning!I54) -> #N/A | AL51: =IF(OR(B51>$B$2,P51=""),NA(),P51) -> #N/A | AM51: =IF(OR(B51>$B$2,Q51=""),NA(),Q51) -> #N/A | AN51: =IF(OR(B51>$B$2,R51=""),NA(),R51) -> #N/A | AO51: =IF(OR(B51>$B$2,S51=""),NA(),S51) -> #N/A | AP51: =IF(NOT(ISNUMBER(I51)),NA(),I51) -> #N/A
