Workbook

Sheet Ugeindtastning
A2: CYKELNERVEN 2027 - Indtast ugentligt dine træningsdata
A4: Navn | B4: (Indtast navn)
A5: Hold | B5: (Indtast dit lokale hold)
A6: Maks. puls | C6: (ikke obligatorisk input)
A7: FTP (watt) | C7: (ikke obligatorisk input)
A9: Udfyld de gule felter med f.eks. timer: 4,5 = 4 timer 30 min. Skriv 0 ved en uge uden træning.
A10: Vægt og FTP: indtast ved ny måling. Seneste værdi videreføres. Puls og watt er valgfrie.
A11: Gns. watt og puls: Brug tidsvægtet gennemsnit for de målte ture; lad feltet være tomt uden måling.
D13: (UDFYLD NEDENSTÅENDE MED DATA FRA DIN TRÆNINGSPLATFORM (Strava, Garmin, Wahoo etc.) | L13: (Beregninger - Ingen indtastning) | S13: ANBEFALET TIMER | U13: AKKUMULERET
A14: UGESTART | B14: TIL OG MED | C14: PERIODE | D14: TIMER | E14: KILOMETER | F14: HØJDEMETER | G14: VÆGT (KG) | H14: FTP (w) | I14: GNS. WATT | J14: GNS. PULS | K14: EGNE NOTATER | L14: FTP (w) | M14: Gns. w/kg | N14: PULS / MAKS. | O14: GNS. PULSZONE | P14: UGENS TIMER | Q14: GNM. HASTIGHED | S14: NEDRE | T14: ØVRE | U14: NEDRE | V14: ØVRE
A15: 46272 | B15: 46278 | C15: =IF(A15<DATE(2027,1,1),IF(B15>DATE(2026,12,31),"BASE / OPBYGNING","BASE"),IF(A15<DATE(2027,4,1),IF(B15>DATE(2027,3,31),"OPBYGNING / FORB.","OPBYGNING"),"FORBEREDELSE")) -> BASE | L15: =IF(Beregninger!Q12="","",Beregninger!Q12) | M15: =IF(Beregninger!R12="","",Beregninger!R12) | N15: =IF(Beregninger!S12="","",Beregninger!S12) | O15: =IF(Beregninger!T12="","",Beregninger!T12) | P15: =IF(Beregninger!V12="","",Beregninger!V12) -> Ikke registreret | Q15: =IFERROR(IF(D15>0,E15/D15,""),"Fejlindtastning") | S15: 3 | T15: 5 | U15: =S15 -> 3 | V15: =T15 -> 5
A16: 46279 | B16: 46285 | C16: =IF(A16<DATE(2027,1,1),IF(B16>DATE(2026,12,31),"BASE / OPBYGNING","BASE"),IF(A16<DATE(2027,4,1),IF(B16>DATE(2027,3,31),"OPBYGNING / FORB.","OPBYGNING"),"FORBEREDELSE")) -> BASE | L16: =IF(Beregninger!Q13="","",Beregninger!Q13) | M16: =IF(Beregninger!R13="","",Beregninger!R13) | N16: =IF(Beregninger!S13="","",Beregninger!S13) | O16: =IF(Beregninger!T13="","",Beregninger!T13) | P16: =IF(Beregninger!V13="","",Beregninger!V13) -> Ikke registreret | Q16: =IF(D16>0,E16/D16,"") | S16: 3 | T16: 5 | U16: =U15+S16 -> 6 | V16: =V15+T16 -> 10
A17: 46286 | B17: 46292 | C17: =IF(A17<DATE(2027,1,1),IF(B17>DATE(2026,12,31),"BASE / OPBYGNING","BASE"),IF(A17<DATE(2027,4,1),IF(B17>DATE(2027,3,31),"OPBYGNING / FORB.","OPBYGNING"),"FORBEREDELSE")) -> BASE | L17: =IF(Beregninger!Q14="","",Beregninger!Q14) | M17: =IF(Beregninger!R14="","",Beregninger!R14) | N17: =IF(Beregninger!S14="","",Beregninger!S14) | O17: =IF(Beregninger!T14="","",Beregninger!T14) | P17: =IF(Beregninger!V14="","",Beregninger!V14) -> Ikke registreret | Q17: =IF(D17>0,E17/D17,"") | S17: 3 | T17: 5 | U17: =U16+S17 -> 9 | V17: =V16+T17 -> 15
A18: 46293 | B18: 46299 | C18: =IF(A18<DATE(2027,1,1),IF(B18>DATE(2026,12,31),"BASE / OPBYGNING","BASE"),IF(A18<DATE(2027,4,1),IF(B18>DATE(2027,3,31),"OPBYGNING / FORB.","OPBYGNING"),"FORBEREDELSE")) -> BASE | L18: =IF(Beregninger!Q15="","",Beregninger!Q15) | M18: =IF(Beregninger!R15="","",Beregninger!R15) | N18: =IF(Beregninger!S15="","",Beregninger!S15) | O18: =IF(Beregninger!T15="","",Beregninger!T15) | P18: =IF(Beregninger!V15="","",Beregninger!V15) -> Ikke registreret | Q18: =IF(D18>0,E18/D18,"") | S18: 3 | T18: 5 | U18: =U17+S18 -> 12 | V18: =V17+T18 -> 20
A19: 46300 | B19: 46306 | C19: =IF(A19<DATE(2027,1,1),IF(B19>DATE(2026,12,31),"BASE / OPBYGNING","BASE"),IF(A19<DATE(2027,4,1),IF(B19>DATE(2027,3,31),"OPBYGNING / FORB.","OPBYGNING"),"FORBEREDELSE")) -> BASE | L19: =IF(Beregninger!Q16="","",Beregninger!Q16) | M19: =IF(Beregninger!R16="","",Beregninger!R16) | N19: =IF(Beregninger!S16="","",Beregninger!S16) | O19: =IF(Beregninger!T16="","",Beregninger!T16) | P19: =IF(Beregninger!V16="","",Beregninger!V16) -> Ikke registreret | Q19: =IF(D19>0,E19/D19,"") | S19: 3 | T19: 5 | U19: =U18+S19 -> 15 | V19: =V18+T19 -> 25
A20: 46307 | B20: 46313 | C20: =IF(A20<DATE(2027,1,1),IF(B20>DATE(2026,12,31),"BASE / OPBYGNING","BASE"),IF(A20<DATE(2027,4,1),IF(B20>DATE(2027,3,31),"OPBYGNING / FORB.","OPBYGNING"),"FORBEREDELSE")) -> BASE | L20: =IF(Beregninger!Q17="","",Beregninger!Q17) | M20: =IF(Beregninger!R17="","",Beregninger!R17) | N20: =IF(Beregninger!S17="","",Beregninger!S17) | O20: =IF(Beregninger!T17="","",Beregninger!T17) | P20: =IF(Beregninger!V17="","",Beregninger!V17) -> Ikke registreret | Q20: =IF(D20>0,E20/D20,"") | S20: 3 | T20: 5 | U20: =U19+S20 -> 18 | V20: =V19+T20 -> 30
A21: 46314 | B21: 46320 | C21: =IF(A21<DATE(2027,1,1),IF(B21>DATE(2026,12,31),"BASE / OPBYGNING","BASE"),IF(A21<DATE(2027,4,1),IF(B21>DATE(2027,3,31),"OPBYGNING / FORB.","OPBYGNING"),"FORBEREDELSE")) -> BASE | L21: =IF(Beregninger!Q18="","",Beregninger!Q18) | M21: =IF(Beregninger!R18="","",Beregninger!R18) | N21: =IF(Beregninger!S18="","",Beregninger!S18) | O21: =IF(Beregninger!T18="","",Beregninger!T18) | P21: =IF(Beregninger!V18="","",Beregninger!V18) -> Ikke registreret | Q21: =IF(D21>0,E21/D21,"") | S21: 3 | T21: 5 | U21: =U20+S21 -> 21 | V21: =V20+T21 -> 35
A22: 46321 | B22: 46327 | C22: =IF(A22<DATE(2027,1,1),IF(B22>DATE(2026,12,31),"BASE / OPBYGNING","BASE"),IF(A22<DATE(2027,4,1),IF(B22>DATE(2027,3,31),"OPBYGNING / FORB.","OPBYGNING"),"FORBEREDELSE")) -> BASE | L22: =IF(Beregninger!Q19="","",Beregninger!Q19) | M22: =IF(Beregninger!R19="","",Beregninger!R19) | N22: =IF(Beregninger!S19="","",Beregninger!S19) | O22: =IF(Beregninger!T19="","",Beregninger!T19) | P22: =IF(Beregninger!V19="","",Beregninger!V19) -> Ikke registreret | Q22: =IF(D22>0,E22/D22,"") | S22: 3 | T22: 5 | U22: =U21+S22 -> 24 | V22: =V21+T22 -> 40
A23: 46328 | B23: 46334 | C23: =IF(A23<DATE(2027,1,1),IF(B23>DATE(2026,12,31),"BASE / OPBYGNING","BASE"),IF(A23<DATE(2027,4,1),IF(B23>DATE(2027,3,31),"OPBYGNING / FORB.","OPBYGNING"),"FORBEREDELSE")) -> BASE | L23: =IF(Beregninger!Q20="","",Beregninger!Q20) | M23: =IF(Beregninger!R20="","",Beregninger!R20) | N23: =IF(Beregninger!S20="","",Beregninger!S20) | O23: =IF(Beregninger!T20="","",Beregninger!T20) | P23: =IF(Beregninger!V20="","",Beregninger!V20) -> Ikke registreret | Q23: =IF(D23>0,E23/D23,"") | S23: 3 | T23: 5 | U23: =U22+S23 -> 27 | V23: =V22+T23 -> 45
A24: 46335 | B24: 46341 | C24: =IF(A24<DATE(2027,1,1),IF(B24>DATE(2026,12,31),"BASE / OPBYGNING","BASE"),IF(A24<DATE(2027,4,1),IF(B24>DATE(2027,3,31),"OPBYGNING / FORB.","OPBYGNING"),"FORBEREDELSE")) -> BASE | L24: =IF(Beregninger!Q21="","",Beregninger!Q21) | M24: =IF(Beregninger!R21="","",Beregninger!R21) | N24: =IF(Beregninger!S21="","",Beregninger!S21) | O24: =IF(Beregninger!T21="","",Beregninger!T21) | P24: =IF(Beregninger!V21="","",Beregninger!V21) -> Ikke registreret | S24: 3 | T24: 5 | U24: =U23+S24 -> 30 | V24: =V23+T24 -> 50
A25: 46342 | B25: 46348 | C25: =IF(A25<DATE(2027,1,1),IF(B25>DATE(2026,12,31),"BASE / OPBYGNING","BASE"),IF(A25<DATE(2027,4,1),IF(B25>DATE(2027,3,31),"OPBYGNING / FORB.","OPBYGNING"),"FORBEREDELSE")) -> BASE | L25: =IF(Beregninger!Q22="","",Beregninger!Q22) | M25: =IF(Beregninger!R22="","",Beregninger!R22) | N25: =IF(Beregninger!S22="","",Beregninger!S22) | O25: =IF(Beregninger!T22="","",Beregninger!T22) | P25: =IF(Beregninger!V22="","",Beregninger!V22) -> Ikke registreret | S25: 3 | T25: 5 | U25: =U24+S25 -> 33 | V25: =V24+T25 -> 55
A26: 46349 | B26: 46355 | C26: =IF(A26<DATE(2027,1,1),IF(B26>DATE(2026,12,31),"BASE / OPBYGNING","BASE"),IF(A26<DATE(2027,4,1),IF(B26>DATE(2027,3,31),"OPBYGNING / FORB.","OPBYGNING"),"FORBEREDELSE")) -> BASE | L26: =IF(Beregninger!Q23="","",Beregninger!Q23) | M26: =IF(Beregninger!R23="","",Beregninger!R23) | N26: =IF(Beregninger!S23="","",Beregninger!S23) | O26: =IF(Beregninger!T23="","",Beregninger!T23) | P26: =IF(Beregninger!V23="","",Beregninger!V23) -> Ikke registreret | S26: 3 | T26: 5 | U26: =U25+S26 -> 36 | V26: =V25+T26 -> 60
A27: 46356 | B27: 46362 | C27: =IF(A27<DATE(2027,1,1),IF(B27>DATE(2026,12,31),"BASE / OPBYGNING","BASE"),IF(A27<DATE(2027,4,1),IF(B27>DATE(2027,3,31),"OPBYGNING / FORB.","OPBYGNING"),"FORBEREDELSE")) -> BASE | L27: =IF(Beregninger!Q24="","",Beregninger!Q24) | M27: =IF(Beregninger!R24="","",Beregninger!R24) | N27: =IF(Beregninger!S24="","",Beregninger!S24) | O27: =IF(Beregninger!T24="","",Beregninger!T24) | P27: =IF(Beregninger!V24="","",Beregninger!V24) -> Ikke registreret | S27: 3 | T27: 5 | U27: =U26+S27 -> 39 | V27: =V26+T27 -> 65
A28: 46363 | B28: 46369 | C28: =IF(A28<DATE(2027,1,1),IF(B28>DATE(2026,12,31),"BASE / OPBYGNING","BASE"),IF(A28<DATE(2027,4,1),IF(B28>DATE(2027,3,31),"OPBYGNING / FORB.","OPBYGNING"),"FORBEREDELSE")) -> BASE | L28: =IF(Beregninger!Q25="","",Beregninger!Q25) | M28: =IF(Beregninger!R25="","",Beregninger!R25) | N28: =IF(Beregninger!S25="","",Beregninger!S25) | O28: =IF(Beregninger!T25="","",Beregninger!T25) | P28: =IF(Beregninger!V25="","",Beregninger!V25) -> Ikke registreret | S28: 3 | T28: 5 | U28: =U27+S28 -> 42 | V28: =V27+T28 -> 70
A29: 46370 | B29: 46376 | C29: =IF(A29<DATE(2027,1,1),IF(B29>DATE(2026,12,31),"BASE / OPBYGNING","BASE"),IF(A29<DATE(2027,4,1),IF(B29>DATE(2027,3,31),"OPBYGNING / FORB.","OPBYGNING"),"FORBEREDELSE")) -> BASE | L29: =IF(Beregninger!Q26="","",Beregninger!Q26) | M29: =IF(Beregninger!R26="","",Beregninger!R26) | N29: =IF(Beregninger!S26="","",Beregninger!S26) | O29: =IF(Beregninger!T26="","",Beregninger!T26) | P29: =IF(Beregninger!V26="","",Beregninger!V26) -> Ikke registreret | S29: 3 | T29: 5 | U29: =U28+S29 -> 45 | V29: =V28+T29 -> 75
A30: 46377 | B30: 46383 | C30: =IF(A30<DATE(2027,1,1),IF(B30>DATE(2026,12,31),"BASE / OPBYGNING","BASE"),IF(A30<DATE(2027,4,1),IF(B30>DATE(2027,3,31),"OPBYGNING / FORB.","OPBYGNING"),"FORBEREDELSE")) -> BASE | L30: =IF(Beregninger!Q27="","",Beregninger!Q27) | M30: =IF(Beregninger!R27="","",Beregninger!R27) | N30: =IF(Beregninger!S27="","",Beregninger!S27) | O30: =IF(Beregninger!T27="","",Beregninger!T27) | P30: =IF(Beregninger!V27="","",Beregninger!V27) -> Ikke registreret | S30: 3 | T30: 5 | U30: =U29+S30 -> 48 | V30: =V29+T30 -> 80
A31: 46384 | B31: 46390 | C31: =IF(A31<DATE(2027,1,1),IF(B31>DATE(2026,12,31),"BASE / OPBYGNING","BASE"),IF(A31<DATE(2027,4,1),IF(B31>DATE(2027,3,31),"OPBYGNING / FORB.","OPBYGNING"),"FORBEREDELSE")) -> BASE / OPBYGNING | L31: =IF(Beregninger!Q28="","",Beregninger!Q28) | M31: =IF(Beregninger!R28="","",Beregninger!R28) | N31: =IF(Beregninger!S28="","",Beregninger!S28) | O31: =IF(Beregninger!T28="","",Beregninger!T28) | P31: =IF(Beregninger!V28="","",Beregninger!V28) -> Ikke registreret | S31: 5 | T31: 7 | U31: =U30+S31 -> 53 | V31: =V30+T31 -> 87
A32: 46391 | B32: 46397 | C32: =IF(A32<DATE(2027,1,1),IF(B32>DATE(2026,12,31),"BASE / OPBYGNING","BASE"),IF(A32<DATE(2027,4,1),IF(B32>DATE(2027,3,31),"OPBYGNING / FORB.","OPBYGNING"),"FORBEREDELSE")) -> OPBYGNING | L32: =IF(Beregninger!Q29="","",Beregninger!Q29) | M32: =IF(Beregninger!R29="","",Beregninger!R29) | N32: =IF(Beregninger!S29="","",Beregninger!S29) | O32: =IF(Beregninger!T29="","",Beregninger!T29) | P32: =IF(Beregninger!V29="","",Beregninger!V29) -> Ikke registreret | S32: 5 | T32: 7 | U32: =U31+S32 -> 58 | V32: =V31+T32 -> 94
A33: 46398 | B33: 46404 | C33: =IF(A33<DATE(2027,1,1),IF(B33>DATE(2026,12,31),"BASE / OPBYGNING","BASE"),IF(A33<DATE(2027,4,1),IF(B33>DATE(2027,3,31),"OPBYGNING / FORB.","OPBYGNING"),"FORBEREDELSE")) -> OPBYGNING | L33: =IF(Beregninger!Q30="","",Beregninger!Q30) | M33: =IF(Beregninger!R30="","",Beregninger!R30) | N33: =IF(Beregninger!S30="","",Beregninger!S30) | O33: =IF(Beregninger!T30="","",Beregninger!T30) | P33: =IF(Beregninger!V30="","",Beregninger!V30) -> Ikke registreret | S33: 5 | T33: 7 | U33: =U32+S33 -> 63 | V33: =V32+T33 -> 101
A34: 46405 | B34: 46411 | C34: =IF(A34<DATE(2027,1,1),IF(B34>DATE(2026,12,31),"BASE / OPBYGNING","BASE"),IF(A34<DATE(2027,4,1),IF(B34>DATE(2027,3,31),"OPBYGNING / FORB.","OPBYGNING"),"FORBEREDELSE")) -> OPBYGNING | L34: =IF(Beregninger!Q31="","",Beregninger!Q31) | M34: =IF(Beregninger!R31="","",Beregninger!R31) | N34: =IF(Beregninger!S31="","",Beregninger!S31) | O34: =IF(Beregninger!T31="","",Beregninger!T31) | P34: =IF(Beregninger!V31="","",Beregninger!V31) -> Ikke registreret | S34: 5 | T34: 7 | U34: =U33+S34 -> 68 | V34: =V33+T34 -> 108
A35: 46412 | B35: 46418 | C35: =IF(A35<DATE(2027,1,1),IF(B35>DATE(2026,12,31),"BASE / OPBYGNING","BASE"),IF(A35<DATE(2027,4,1),IF(B35>DATE(2027,3,31),"OPBYGNING / FORB.","OPBYGNING"),"FORBEREDELSE")) -> OPBYGNING | L35: =IF(Beregninger!Q32="","",Beregninger!Q32) | M35: =IF(Beregninger!R32="","",Beregninger!R32) | N35: =IF(Beregninger!S32="","",Beregninger!S32) | O35: =IF(Beregninger!T32="","",Beregninger!T32) | P35: =IF(Beregninger!V32="","",Beregninger!V32) -> Ikke registreret | S35: 5 | T35: 7 | U35: =U34+S35 -> 73 | V35: =V34+T35 -> 115
... A54: 46545 | B54: 46546 | C54: =IF(A54<DATE(2027,1,1),IF(B54>DATE(2026,12,31),"BASE / OPBYGNING","BASE"),IF(A54<DATE(2027,4,1),IF(B54>DATE(2027,3,31),"OPBYGNING / FORB.","OPBYGNING"),"FORBEREDELSE")) -> FORBEREDELSE | L54: =IF(Beregninger!Q51="","",Beregninger!Q51) | M54: =IF(Beregninger!R51="","",Beregninger!R51) | N54: =IF(Beregninger!S51="","",Beregninger!S51) | O54: =IF(Beregninger!T51="","",Beregninger!T51) | P54: =IF(Beregninger!V51="","",Beregninger!V51) -> Ikke registreret | S54: 7 | T54: 9 | U54: =U53+S54 -> 188 | V54: =V53+T54 -> 268
A57: Sådan læses målingerne
A59: Timer, kilometer og højdemeter er ugens totaler. Vægt er en måling, FTP er den seneste testværdi.
A60: FTP/kg = seneste FTP / seneste vægt. Gns. W/kg = ugens gennemsnitswatt / seneste vægt.
A61: Videreførte FTP- og vægtværdier er senest kendte værdier, ikke nye målinger hver uge.
A62: Z1: 50–<60 %. Z2: 60–<70 %. Z3: 70–<80 %. Z4: 80–<90 %. Z5: 90–100 % af maks. puls.
A63: Gennemsnit kan skjule intervaller. Derfor beregnes hverken TSS, tid i zoner eller belastningsscore.
A64: Tomt timefelt betyder ikke registreret. Skriv 0 for bekræftet nul træning; angiv også 0 km og 0 højdemeter.
A65: Ved et hul før seneste registrering vises Mangler uger. Udfyld hullet for at få en samlet vurdering.
...

Sheet Træningsoverblik
A2: CYKELNERVEN 2027 - TRÆNINGSMANAGER
A3: Din status sammenlignes til og med seneste uge med indtastede timer. Tomme uger er ikke nul.
A5: Seneste registrering | B5: =IF(Beregninger!B2=0,"Ingen data",Beregninger!B2) -> Ingen data
A7: Træningsperiode | B7: Fra | C7: Til | D7: Timer/uge | E7: Timer udført | F7: Nedre til dato | G7: Øvre til dato | H7: Status | J7: Registreret i alt
A8: =Beregninger!A5 -> BASE | B8: =Beregninger!B5 -> 46272 | C8: =Beregninger!C5 -> 46387 | D8: =Beregninger!D5&"–"&Beregninger!E5 -> 3–5 | E8: =IF(Beregninger!$B$2<B8,"",SUMPRODUCT(Beregninger!D12:D51,Beregninger!AJ12:AJ51)) | F8: =MAX(0,MIN(Beregninger!$B$2,C8)-B8+1)*Beregninger!D5/7 -> 0 | G8: =MAX(0,MIN(Beregninger!$B$2,C8)-B8+1)*Beregninger!E5/7 -> 0 | H8: =IF(Beregninger!$B$2<B8,"Ingen data",IF(SUMPRODUCT(Beregninger!D12:D51,Beregninger!U12:U51)>0,"Mangler uger",IF(E8<F8,"Under interval",IF(E8>G8,"Over interval","Inden for interval")))) -> Ingen data | J8: Kilometer | K8: =IF(COUNT(Ugeindtastning!E15:E54)=0,"",SUM(Ugeindtastning!E15:E54))
A9: =Beregninger!A6 -> OPBYGNING | B9: =Beregninger!B6 -> 46388 | C9: =Beregninger!C6 -> 46477 | D9: =Beregninger!D6&"–"&Beregninger!E6 -> 5–7 | E9: =IF(Beregninger!$B$2<B9,"",SUMPRODUCT(Beregninger!E12:E51,Beregninger!AJ12:AJ51)) | F9: =MAX(0,MIN(Beregninger!$B$2,C9)-B9+1)*Beregninger!D6/7 -> 0 | G9: =MAX(0,MIN(Beregninger!$B$2,C9)-B9+1)*Beregninger!E6/7 -> 0 | H9: =IF(Beregninger!$B$2<B9,"Ingen data",IF(SUMPRODUCT(Beregninger!E12:E51,Beregninger!U12:U51)>0,"Mangler uger",IF(E9<F9,"Under interval",IF(E9>G9,"Over interval","Inden for interval")))) -> Ingen data | J9: Højdemeter | K9: =IF(COUNT(Ugeindtastning!F15:F54)=0,"",SUM(Ugeindtastning!F15:F54))
A10: =Beregninger!A7 -> FORBEREDELSE | B10: =Beregninger!B7 -> 46478 | C10: =Beregninger!C7 -> 46546 | D10: =Beregninger!D7&"–"&Beregninger!E7 -> 7–9 | E10: =IF(Beregninger!$B$2<B10,"",SUMPRODUCT(Beregninger!F12:F51,Beregninger!AJ12:AJ51)) | F10: =MAX(0,MIN(Beregninger!$B$2,C10)-B10+1)*Beregninger!D7/7 -> 0 | G10: =MAX(0,MIN(Beregninger!$B$2,C10)-B10+1)*Beregninger!E7/7 -> 0 | H10: =IF(Beregninger!$B$2<B10,"Ingen data",IF(SUMPRODUCT(Beregninger!F12:F51,Beregninger!U12:U51)>0,"Mangler uger",IF(E10<F10,"Under interval",IF(E10>G10,"Over interval","Inden for interval")))) -> Ingen data | J10: Timer | K10: =IF(COUNT(Ugeindtastning!D15:D54)=0,"",SUM(Ugeindtastning!D15:D54))
A11: Status sammenlignes til og med seneste uge med indtastede timer. Tomme uger er ikke nul.
A12: Grønne kurver: Anbefalet interval. Orange kurver: Registreret træning. Periodekurver starter ved nul.

Sheet DASHBOARD
A2: TRÆNINGSMANAGER - DASHBOARD
A3: DAGENS DATO: | B3: =TODAY() -> 46297
A5: =Træningsoverblik!A7 -> Træningsperiode | B5: =Træningsoverblik!B7 -> Fra | C5: =Træningsoverblik!C7 -> Til | D5: =Træningsoverblik!D7 -> Timer/uge
A6: =Træningsoverblik!A8 -> BASE | B6: =Træningsoverblik!B8 -> 46272 | C6: =Træningsoverblik!C8 -> 46387 | D6: =Træningsoverblik!D8 -> 3–5
A7: =Træningsoverblik!A9 -> OPBYGNING | B7: =Træningsoverblik!B9 -> 46388 | C7: =Træningsoverblik!C9 -> 46477 | D7: =Træningsoverblik!D9 -> 5–7
A8: =Træningsoverblik!A10 -> FORBEREDELSE | B8: =Træningsoverblik!B10 -> 46478 | C8: =Træningsoverblik!C10 -> 46546 | D8: =Træningsoverblik!D10 -> 7–9
A10: Træningsstatus | B10: =Træningsoverblik!B12 -> 0 | C10: =Træningsoverblik!C12 -> 0 | D10: =Træningsoverblik!D12 -> 0
A11: =A6 -> BASE
A12: =A7 -> OPBYGNING
A13: =A8 -> FORBEREDELSE

Sheet FTP-niveauer og watt pr. kg
A1: Referenceværdier fra 'Training and Racing with a Power Meter' af Hunter Allen and Andrew Coggan, PhD
A2: Alle effektværdier er watt pr. kg. FTP henviser til din Functional Threshold Power (din maks. effekt i én time)
A4: Række | B4: Mænd 5 sek. | C4: Mænd 1 min. | D4: Mænd 5 min. | E4: Mænd FTP | F4: Kvinder 5 sek. | G4: Kvinder 1 min. | H4: Kvinder 5 min. | I4: Kvinder FT | J4: Valgt FTP | K4: Afstand | L4: Klasse | N4: Kategorier fra 'Training with Power Meter'
A5: 1 | B5: 24.04 | C5: 11.5 | D5: 7.6 | E5: 6.4 | F5: 19.42 | G5: 9.29 | H5: 6.61 | I5: 5.69 | J5: =IF('Ekstra - Udfyld din profil'!$C$5="Mænd",E5,IF('Ekstra - Udfyld din profil'!$C$5="Kvinder",I5,"")) -> 6.4 | K5: =IF(AND(ISNUMBER('Ekstra - Udfyld din profil'!$G$5),ISNUMBER(J5)),ABS(J5-'Ekstra - Udfyld din profil'!$G$5),"") -> 3.9 | L5: WORLD CLASS | N5: World class | O5: International pro
A6: 2 | B6: 23.77 | C6: 11.39 | D6: 7.5 | E6: 6.31 | F6: 19.2 | G6: 9.2 | H6: 6.52 | I6: 5.61 | J6: =IF('Ekstra - Udfyld din profil'!$C$5="Mænd",E6,IF('Ekstra - Udfyld din profil'!$C$5="Kvinder",I6,"")) -> 6.31 | K6: =IF(AND(ISNUMBER('Ekstra - Udfyld din profil'!$G$5),ISNUMBER(J6)),ABS(J6-'Ekstra - Udfyld din profil'!$G$5),"") -> 3.81 | N6: Exceptional | O6: Domestic pro
A7: 3 | B7: 23.5 | C7: 11.27 | D7: 7.39 | E7: 6.22 | F7: 18.99 | G7: 9.11 | H7: 6.42 | I7: 5.53 | J7: =IF('Ekstra - Udfyld din profil'!$C$5="Mænd",E7,IF('Ekstra - Udfyld din profil'!$C$5="Kvinder",I7,"")) -> 6.22 | K7: =IF(AND(ISNUMBER('Ekstra - Udfyld din profil'!$G$5),ISNUMBER(J7)),ABS(J7-'Ekstra - Udfyld din profil'!$G$5),"") -> 3.72 | N7: Excellent | O7: Cat. 1
A8: 4 | B8: 23.22 | C8: 11.16 | D8: 7.29 | E8: 6.13 | F8: 18.77 | G8: 9.02 | H8: 6.33 | I8: 5.44 | J8: =IF('Ekstra - Udfyld din profil'!$C$5="Mænd",E8,IF('Ekstra - Udfyld din profil'!$C$5="Kvinder",I8,"")) -> 6.13 | K8: =IF(AND(ISNUMBER('Ekstra - Udfyld din profil'!$G$5),ISNUMBER(J8)),ABS(J8-'Ekstra - Udfyld din profil'!$G$5),"") -> 3.63 | N8: Very good | O8: Cat. 2
A9: 5 | B9: 22.95 | C9: 11.04 | D9: 7.19 | E9: 6.04 | F9: 18.56 | G9: 8.93 | H9: 6.24 | I9: 5.36 | J9: =IF('Ekstra - Udfyld din profil'!$C$5="Mænd",E9,IF('Ekstra - Udfyld din profil'!$C$5="Kvinder",I9,"")) -> 6.04 | K9: =IF(AND(ISNUMBER('Ekstra - Udfyld din profil'!$G$5),ISNUMBER(J9)),ABS(J9-'Ekstra - Udfyld din profil'!$G$5),"") -> 3.54 | N9: Good | O9: Cat. 3
A10: 6 | B10: 22.68 | C10: 10.93 | D10: 7.08 | E10: 5.96 | F10: 18.34 | G10: 8.84 | H10: 6.15 | I10: 5.28 | J10: =IF('Ekstra - Udfyld din profil'!$C$5="Mænd",E10,IF('Ekstra - Udfyld din profil'!$C$5="Kvinder",I10,"")) -> 5.96 | K10: =IF(AND(ISNUMBER('Ekstra - Udfyld din profil'!$G$5),ISNUMBER(J10)),ABS(J10-'Ekstra - Udfyld din profil'!$G$5),"") -> 3.46 | N10: Moderate | O10: Cat. 4
A11: 7 | B11: 22.41 | C11: 10.81 | D11: 6.98 | E11: 5.87 | F11: 18.13 | G11: 8.75 | H11: 6.05 | I11: 5.2 | J11: =IF('Ekstra - Udfyld din profil'!$C$5="Mænd",E11,IF('Ekstra - Udfyld din profil'!$C$5="Kvinder",I11,"")) -> 5.87 | K11: =IF(AND(ISNUMBER('Ekstra - Udfyld din profil'!$G$5),ISNUMBER(J11)),ABS(J11-'Ekstra - Udfyld din profil'!$G$5),"") -> 3.37 | N11: Fair | O11: Cat. 5
A12: 8 | B12: 22.14 | C12: 10.7 | D12: 6.88 | E12: 5.78 | F12: 17.91 | G12: 8.66 | H12: 5.96 | I12: 5.12 | J12: =IF('Ekstra - Udfyld din profil'!$C$5="Mænd",E12,IF('Ekstra - Udfyld din profil'!$C$5="Kvinder",I12,"")) -> 5.78 | K12: =IF(AND(ISNUMBER('Ekstra - Udfyld din profil'!$G$5),ISNUMBER(J12)),ABS(J12-'Ekstra - Udfyld din profil'!$G$5),"") -> 3.28 | L12: EXCEPTIONAL | N12: Untrained | O12: Non-racer
A13: 9 | B13: 21.86 | C13: 10.58 | D13: 6.77 | E13: 5.69 | F13: 17.7 | G13: 8.56 | H13: 5.87 | I13: 5.03 | J13: =IF('Ekstra - Udfyld din profil'!$C$5="Mænd",E13,IF('Ekstra - Udfyld din profil'!$C$5="Kvinder",I13,"")) -> 5.69 | K13: =IF(AND(ISNUMBER('Ekstra - Udfyld din profil'!$G$5),ISNUMBER(J13)),ABS(J13-'Ekstra - Udfyld din profil'!$G$5),"") -> 3.19
A14: 10 | B14: 21.59 | C14: 10.47 | D14: 6.67 | E14: 5.6 | F14: 17.48 | G14: 8.47 | H14: 5.78 | I14: 4.95 | J14: =IF('Ekstra - Udfyld din profil'!$C$5="Mænd",E14,IF('Ekstra - Udfyld din profil'!$C$5="Kvinder",I14,"")) -> 5.6 | K14: =IF(AND(ISNUMBER('Ekstra - Udfyld din profil'!$G$5),ISNUMBER(J14)),ABS(J14-'Ekstra - Udfyld din profil'!$G$5),"") -> 3.1
A15: 11 | B15: 21.32 | C15: 10.35 | D15: 6.57 | E15: 5.51 | F15: 17.26 | G15: 8.38 | H15: 5.68 | I15: 4.87 | J15: =IF('Ekstra - Udfyld din profil'!$C$5="Mænd",E15,IF('Ekstra - Udfyld din profil'!$C$5="Kvinder",I15,"")) -> 5.51 | K15: =IF(AND(ISNUMBER('Ekstra - Udfyld din profil'!$G$5),ISNUMBER(J15)),ABS(J15-'Ekstra - Udfyld din profil'!$G$5),"") -> 3.01 | N15: Parenteserne i tabellen overlapper. Se originalen nedenfor.
A16: 12 | B16: 21.05 | C16: 10.24 | D16: 6.46 | E16: 5.42 | F16: 17.05 | G16: 8.29 | H16: 5.59 | I16: 4.79 | J16: =IF('Ekstra - Udfyld din profil'!$C$5="Mænd",E16,IF('Ekstra - Udfyld din profil'!$C$5="Kvinder",I16,"")) -> 5.42 | K16: =IF(AND(ISNUMBER('Ekstra - Udfyld din profil'!$G$5),ISNUMBER(J16)),ABS(J16-'Ekstra - Udfyld din profil'!$G$5),"") -> 2.92
A17: 13 | B17: 20.78 | C17: 10.12 | D17: 6.36 | E17: 5.33 | F17: 16.83 | G17: 8.2 | H17: 5.5 | I17: 4.7 | J17: =IF('Ekstra - Udfyld din profil'!$C$5="Mænd",E17,IF('Ekstra - Udfyld din profil'!$C$5="Kvinder",I17,"")) -> 5.33 | K17: =IF(AND(ISNUMBER('Ekstra - Udfyld din profil'!$G$5),ISNUMBER(J17)),ABS(J17-'Ekstra - Udfyld din profil'!$G$5),"") -> 2.83
A18: 14 | B18: 20.51 | C18: 10.01 | D18: 6.26 | E18: 5.24 | F18: 16.62 | G18: 8.11 | H18: 5.41 | I18: 4.62 | J18: =IF('Ekstra - Udfyld din profil'!$C$5="Mænd",E18,IF('Ekstra - Udfyld din profil'!$C$5="Kvinder",I18,"")) -> 5.24 | K18: =IF(AND(ISNUMBER('Ekstra - Udfyld din profil'!$G$5),ISNUMBER(J18)),ABS(J18-'Ekstra - Udfyld din profil'!$G$5),"") -> 2.74
A19: 15 | B19: 20.23 | C19: 9.89 | D19: 6.15 | E19: 5.15 | F19: 16.4 | G19: 8.02 | H19: 5.31 | I19: 4.54 | J19: =IF('Ekstra - Udfyld din profil'!$C$5="Mænd",E19,IF('Ekstra - Udfyld din profil'!$C$5="Kvinder",I19,"")) -> 5.15 | K19: =IF(AND(ISNUMBER('Ekstra - Udfyld din profil'!$G$5),ISNUMBER(J19)),ABS(J19-'Ekstra - Udfyld din profil'!$G$5),"") -> 2.65 | L19: EXCELLENT
A20: 16 | B20: 19.96 | C20: 9.78 | D20: 6.05 | E20: 5.07 | F20: 16.19 | G20: 7.93 | H20: 5.22 | I20: 4.46 | J20: =IF('Ekstra - Udfyld din profil'!$C$5="Mænd",E20,IF('Ekstra - Udfyld din profil'!$C$5="Kvinder",I20,"")) -> 5.07 | K20: =IF(AND(ISNUMBER('Ekstra - Udfyld din profil'!$G$5),ISNUMBER(J20)),ABS(J20-'Ekstra - Udfyld din profil'!$G$5),"") -> 2.57
A21: 17 | B21: 19.69 | C21: 9.66 | D21: 5.95 | E21: 4.98 | F21: 15.97 | G21: 7.84 | H21: 5.13 | I21: 4.38 | J21: =IF('Ekstra - Udfyld din profil'!$C$5="Mænd",E21,IF('Ekstra - Udfyld din profil'!$C$5="Kvinder",I21,"")) -> 4.98 | K21: =IF(AND(ISNUMBER('Ekstra - Udfyld din profil'!$G$5),ISNUMBER(J21)),ABS(J21-'Ekstra - Udfyld din profil'!$G$5),"") -> 2.48
A22: 18 | B22: 19.42 | C22: 9.55 | D22: 5.84 | E22: 4.89 | F22: 15.76 | G22: 7.75 | H22: 5.04 | I22: 4.29 | J22: =IF('Ekstra - Udfyld din profil'!$C$5="Mænd",E22,IF('Ekstra - Udfyld din profil'!$C$5="Kvinder",I22,"")) -> 4.89 | K22: =IF(AND(ISNUMBER('Ekstra - Udfyld din profil'!$G$5),ISNUMBER(J22)),ABS(J22-'Ekstra - Udfyld din profil'!$G$5),"") -> 2.39
A23: 19 | B23: 19.15 | C23: 9.43 | D23: 5.74 | E23: 4.8 | F23: 15.54 | G23: 7.66 | H23: 4.94 | I23: 4.21 | J23: =IF('Ekstra - Udfyld din profil'!$C$5="Mænd",E23,IF('Ekstra - Udfyld din profil'!$C$5="Kvinder",I23,"")) -> 4.8 | K23: =IF(AND(ISNUMBER('Ekstra - Udfyld din profil'!$G$5),ISNUMBER(J23)),ABS(J23-'Ekstra - Udfyld din profil'!$G$5),"") -> 2.3
A24: 20 | B24: 18.87 | C24: 9.32 | D24: 5.64 | E24: 4.71 | F24: 15.32 | G24: 7.57 | H24: 4.85 | I24: 4.13 | J24: =IF('Ekstra - Udfyld din profil'!$C$5="Mænd",E24,IF('Ekstra - Udfyld din profil'!$C$5="Kvinder",I24,"")) -> 4.71 | K24: =IF(AND(ISNUMBER('Ekstra - Udfyld din profil'!$G$5),ISNUMBER(J24)),ABS(J24-'Ekstra - Udfyld din profil'!$G$5),"") -> 2.21
A25: 21 | B25: 18.6 | C25: 9.2 | D25: 5.53 | E25: 4.62 | F25: 15.11 | G25: 7.48 | H25: 4.76 | I25: 4.05 | J25: =IF('Ekstra - Udfyld din profil'!$C$5="Mænd",E25,IF('Ekstra - Udfyld din profil'!$C$5="Kvinder",I25,"")) -> 4.62 | K25: =IF(AND(ISNUMBER('Ekstra - Udfyld din profil'!$G$5),ISNUMBER(J25)),ABS(J25-'Ekstra - Udfyld din profil'!$G$5),"") -> 2.12 | L25: VERY GOOD
A26: 22 | B26: 18.33 | C26: 9.09 | D26: 5.43 | E26: 4.53 | F26: 14.89 | G26: 7.39 | H26: 4.67 | I26: 3.97 | J26: =IF('Ekstra - Udfyld din profil'!$C$5="Mænd",E26,IF('Ekstra - Udfyld din profil'!$C$5="Kvinder",I26,"")) -> 4.53 | K26: =IF(AND(ISNUMBER('Ekstra - Udfyld din profil'!$G$5),ISNUMBER(J26)),ABS(J26-'Ekstra - Udfyld din profil'!$G$5),"") -> 2.03
A27: 23 | B27: 18.06 | C27: 8.97 | D27: 5.33 | E27: 4.44 | F27: 14.68 | G27: 7.3 | H27: 4.57 | I27: 3.88 | J27: =IF('Ekstra - Udfyld din profil'!$C$5="Mænd",E27,IF('Ekstra - Udfyld din profil'!$C$5="Kvinder",I27,"")) -> 4.44 | K27: =IF(AND(ISNUMBER('Ekstra - Udfyld din profil'!$G$5),ISNUMBER(J27)),ABS(J27-'Ekstra - Udfyld din profil'!$G$5),"") -> 1.94
A28: 24 | B28: 17.79 | C28: 8.86 | D28: 5.22 | E28: 4.35 | F28: 14.46 | G28: 7.21 | H28: 4.48 | I28: 3.8 | J28: =IF('Ekstra - Udfyld din profil'!$C$5="Mænd",E28,IF('Ekstra - Udfyld din profil'!$C$5="Kvinder",I28,"")) -> 4.35 | K28: =IF(AND(ISNUMBER('Ekstra - Udfyld din profil'!$G$5),ISNUMBER(J28)),ABS(J28-'Ekstra - Udfyld din profil'!$G$5),"") -> 1.85
A29: 25 | B29: 17.51 | C29: 8.74 | D29: 5.12 | E29: 4.27 | F29: 14.25 | G29: 7.11 | H29: 4.39 | I29: 3.72 | J29: =IF('Ekstra - Udfyld din profil'!$C$5="Mænd",E29,IF('Ekstra - Udfyld din profil'!$C$5="Kvinder",I29,"")) -> 4.27 | K29: =IF(AND(ISNUMBER('Ekstra - Udfyld din profil'!$G$5),ISNUMBER(J29)),ABS(J29-'Ekstra - Udfyld din profil'!$G$5),"") -> 1.77
A30: 26 | B30: 17.24 | C30: 8.63 | D30: 5.01 | E30: 4.18 | F30: 14.03 | G30: 7.02 | H30: 4.3 | I30: 3.64 | J30: =IF('Ekstra - Udfyld din profil'!$C$5="Mænd",E30,IF('Ekstra - Udfyld din profil'!$C$5="Kvinder",I30,"")) -> 4.18 | K30: =IF(AND(ISNUMBER('Ekstra - Udfyld din profil'!$G$5),ISNUMBER(J30)),ABS(J30-'Ekstra - Udfyld din profil'!$G$5),"") -> 1.68
A31: 27 | B31: 16.97 | C31: 8.51 | D31: 4.91 | E31: 4.09 | F31: 13.82 | G31: 6.93 | H31: 4.2 | I31: 3.55 | J31: =IF('Ekstra - Udfyld din profil'!$C$5="Mænd",E31,IF('Ekstra - Udfyld din profil'!$C$5="Kvinder",I31,"")) -> 4.09 | K31: =IF(AND(ISNUMBER('Ekstra - Udfyld din profil'!$G$5),ISNUMBER(J31)),ABS(J31-'Ekstra - Udfyld din profil'!$G$5),"") -> 1.59 | L31: GOOD
A32: 28 | B32: 16.7 | C32: 8.4 | D32: 4.81 | E32: 4 | F32: 13.6 | G32: 6.84 | H32: 4.11 | I32: 3.47 | J32: =IF('Ekstra - Udfyld din profil'!$C$5="Mænd",E32,IF('Ekstra - Udfyld din profil'!$C$5="Kvinder",I32,"")) -> 4 | K32: =IF(AND(ISNUMBER('Ekstra - Udfyld din profil'!$G$5),ISNUMBER(J32)),ABS(J32-'Ekstra - Udfyld din profil'!$G$5),"") -> 1.5
A33: 29 | B33: 16.43 | C33: 8.28 | D33: 4.7 | E33: 3.91 | F33: 13.39 | G33: 6.75 | H33: 4.02 | I33: 3.39 | J33: =IF('Ekstra - Udfyld din profil'!$C$5="Mænd",E33,IF('Ekstra - Udfyld din profil'!$C$5="Kvinder",I33,"")) -> 3.91 | K33: =IF(AND(ISNUMBER('Ekstra - Udfyld din profil'!$G$5),ISNUMBER(J33)),ABS(J33-'Ekstra - Udfyld din profil'!$G$5),"") -> 1.41
A34: 30 | B34: 16.15 | C34: 8.17 | D34: 4.6 | E34: 3.82 | F34: 13.17 | G34: 6.66 | H34: 3.93 | I34: 3.31 | J34: =IF('Ekstra - Udfyld din profil'!$C$5="Mænd",E34,IF('Ekstra - Udfyld din profil'!$C$5="Kvinder",I34,"")) -> 3.82 | K34: =IF(AND(ISNUMBER('Ekstra - Udfyld din profil'!$G$5),ISNUMBER(J34)),ABS(J34-'Ekstra - Udfyld din profil'!$G$5),"") -> 1.32
A35: 31 | B35: 15.88 | C35: 8.05 | D35: 4.5 | E35: 3.73 | F35: 12.95 | G35: 6.57 | H35: 3.83 | I35: 3.23 | J35: =IF('Ekstra - Udfyld din profil'!$C$5="Mænd",E35,IF('Ekstra - Udfyld din profil'!$C$5="Kvinder",I35,"")) -> 3.73 | K35: =IF(AND(ISNUMBER('Ekstra - Udfyld din profil'!$G$5),ISNUMBER(J35)),ABS(J35-'Ekstra - Udfyld din profil'!$G$5),"") -> 1.23
A36: 32 | B36: 15.61 | C36: 7.94 | D36: 4.39 | E36: 3.64 | F36: 12.74 | G36: 6.48 | H36: 3.74 | I36: 3.14 | J36: =IF('Ekstra - Udfyld din profil'!$C$5="Mænd",E36,IF('Ekstra - Udfyld din profil'!$C$5="Kvinder",I36,"")) -> 3.64 | K36: =IF(AND(ISNUMBER('Ekstra - Udfyld din profil'!$G$5),ISNUMBER(J36)),ABS(J36-'Ekstra - Udfyld din profil'!$G$5),"") -> 1.14
A37: 33 | B37: 15.34 | C37: 7.82 | D37: 4.29 | E37: 3.55 | F37: 12.52 | G37: 6.39 | H37: 3.65 | I37: 3.06 | J37: =IF('Ekstra - Udfyld din profil'!$C$5="Mænd",E37,IF('Ekstra - Udfyld din profil'!$C$5="Kvinder",I37,"")) -> 3.55 | K37: =IF(AND(ISNUMBER('Ekstra - Udfyld din profil'!$G$5),ISNUMBER(J37)),ABS(J37-'Ekstra - Udfyld din profil'!$G$5),"") -> 1.05 | L37: MODERATE
A38: 34 | B38: 15.07 | C38: 7.71 | D38: 4.19 | E38: 3.47 | F38: 12.31 | G38: 6.3 | H38: 3.56 | I38: 2.98 | J38: =IF('Ekstra - Udfyld din profil'!$C$5="Mænd",E38,IF('Ekstra - Udfyld din profil'!$C$5="Kvinder",I38,"")) -> 3.47 | K38: =IF(AND(ISNUMBER('Ekstra - Udfyld din profil'!$G$5),ISNUMBER(J38)),ABS(J38-'Ekstra - Udfyld din profil'!$G$5),"") -> 0.97
A39: 35 | B39: 14.79 | C39: 7.59 | D39: 4.08 | E39: 3.38 | F39: 12.09 | G39: 6.21 | H39: 3.46 | I39: 2.9 | J39: =IF('Ekstra - Udfyld din profil'!$C$5="Mænd",E39,IF('Ekstra - Udfyld din profil'!$C$5="Kvinder",I39,"")) -> 3.38 | K39: =IF(AND(ISNUMBER('Ekstra - Udfyld din profil'!$G$5),ISNUMBER(J39)),ABS(J39-'Ekstra - Udfyld din profil'!$G$5),"") -> 0.88
A40: 36 | B40: 14.52 | C40: 7.48 | D40: 3.98 | E40: 3.29 | F40: 11.88 | G40: 6.12 | H40: 3.37 | I40: 2.82 | J40: =IF('Ekstra - Udfyld din profil'!$C$5="Mænd",E40,IF('Ekstra - Udfyld din profil'!$C$5="Kvinder",I40,"")) -> 3.29 | K40: =IF(AND(ISNUMBER('Ekstra - Udfyld din profil'!$G$5),ISNUMBER(J40)),ABS(J40-'Ekstra - Udfyld din profil'!$G$5),"") -> 0.79
A41: 37 | B41: 14.25 | C41: 7.36 | D41: 3.88 | E41: 3.2 | F41: 11.66 | G41: 6.03 | H41: 3.28 | I41: 2.73 | J41: =IF('Ekstra - Udfyld din profil'!$C$5="Mænd",E41,IF('Ekstra - Udfyld din profil'!$C$5="Kvinder",I41,"")) -> 3.2 | K41: =IF(AND(ISNUMBER('Ekstra - Udfyld din profil'!$G$5),ISNUMBER(J41)),ABS(J41-'Ekstra - Udfyld din profil'!$G$5),"") -> 0.7
...

Sheet Ekstra - Udfyld din profil
A1: CYKELNERVEN 2027 · W/kg og effekt af ændring af ydeevne (watt) og vægt (kg)
A2: Som inspiration og indsigt i kravet til f.eks. at køre Alpe d'Huez, så kan du udfylde og opdatere de lyseblå felter i arket. Se scenarier i Alpe d'Huez arket.
A4: Antagelser til brug for estimering | C4: Udfyld data | I4: Fakta om stigningen op til Alpe d'Huez
A5: Referencegruppe - Vælg (Mænd/Kvinder) | C5: Mænd | E5: Din nuværende watt pr./kg | G5: =IF(AND(ISNUMBER(C6),ISNUMBER(C7),C6>0,C7>0),C7/C6,"") -> 2.5 | I5: Antal hårnålesving: 21
A6: Angiv din nuværende vægt (kg) | C6: 80 | I6: Afgang fra Bourg d'Oisans: 717 m
A7: Angiv din FTP i watt (maks. ydeevne 1 time) | C7: 200 | E7: Se i arket 'FTP-niveauer' | G7: =IF(AND(ISNUMBER(G5),OR(C5="Mænd",C5="Kvinder")),INDEX('FTP-niveauer og watt pr. kg'!J5:J56,MATCH(MIN('FTP-niveauer og watt pr. kg'!K5:K56),'FTP-niveauer og watt pr. kg'!K5:K56,0)),"") -> 2.49 | I7: Ankomst i Alpe d'Huez: 1860 m
A8: Angiv et evt. mål for watt pr. kg ved afgang i juni | C8: 2.75 | E8: Se niveauer i arket 'FTP-niveauer' | I8: Højdemeter: 1120 m
A9: Scenarievægt ved afgang i juni (kg) | C9: 76 | E9: Watt pr. kg på stigningen | G9: =IF(AND(ISNUMBER(G5),ISNUMBER(C11),C11>0,C11<=1),G5*C11,"") -> 2.5 | I9: Distance: 13,8 km
A10: Mål for FTP (watt) ved afgang til juni | C10: 215 | I10: Gnm. stigning: 7,9%
A11: Din forventet gennemsnitlige (watt) på stigningen | C11: 1 | E11: Andelen af FTP er en justerbar antagelse. | I11: Maks. stigning: 14%
A12: Samlet vægt af cykel og udstyr (kg) | C12: 10
A14: Målet gælder FTP / kg. (watt pr. kg på stigningen beregnes med den valgte procentvise andel af FTP).
A16: Scenarier | B16: Vægt kg | C16: FTP W | D16: FTP/kg | E16: Ændring W | F16: Ændring kg | G16: Stigning W/kg | H16: Alpe h:mm
A17: Nuværende | B17: =C6 -> 80 | C17: =C7 -> 200 | D17: =IF(AND(ISNUMBER(B17),ISNUMBER(C17),B17>0,C17>0),C17/B17,"") -> 2.5 | E17: =IF(AND(ISNUMBER(D17),ISNUMBER($C$7)),C17-$C$7,"") -> 0 | F17: =IF(AND(ISNUMBER(D17),ISNUMBER($C$6)),B17-$C$6,"") -> 0 | G17: =IF(AND(ISNUMBER(D17),ISNUMBER($C$11),$C$11>0,$C$11<=1),D17*$C$11,"") -> 2.5 | H17: =IF(ISNUMBER('Forudsætninger og beregninger'!T16),ROUND('Forudsætninger og beregninger'!T16*1440,0)/1440,"") -> 0.0625
A18: Mål via watt | B18: =C6 -> 80 | C18: =IF(AND(ISNUMBER(C8),ISNUMBER(C6),C8>0,C6>0),C8*C6,"") -> 220 | D18: =IF(AND(ISNUMBER(B18),ISNUMBER(C18),B18>0,C18>0),C18/B18,"") -> 2.75 | E18: =IF(AND(ISNUMBER(D18),ISNUMBER($C$7)),C18-$C$7,"") -> 20 | F18: =IF(AND(ISNUMBER(D18),ISNUMBER($C$6)),B18-$C$6,"") -> 0 | G18: =IF(AND(ISNUMBER(D18),ISNUMBER($C$11),$C$11>0,$C$11<=1),D18*$C$11,"") -> 2.75 | H18: =IF(ISNUMBER('Forudsætninger og beregninger'!T17),ROUND('Forudsætninger og beregninger'!T17*1440,0)/1440,"") -> 0.056944444
A19: Mål via vægt | B19: =IF(AND(ISNUMBER(C7),ISNUMBER(C8),C7>0,C8>0),C7/C8,"") -> 72.727273 | C19: =C7 -> 200 | D19: =IF(AND(ISNUMBER(B19),ISNUMBER(C19),B19>0,C19>0),C19/B19,"") -> 2.75 | E19: =IF(AND(ISNUMBER(D19),ISNUMBER($C$7)),C19-$C$7,"") -> 0 | F19: =IF(AND(ISNUMBER(D19),ISNUMBER($C$6)),B19-$C$6,"") -> -7.2727273 | G19: =IF(AND(ISNUMBER(D19),ISNUMBER($C$11),$C$11>0,$C$11<=1),D19*$C$11,"") -> 2.75 | H19: =IF(ISNUMBER('Forudsætninger og beregninger'!T18),ROUND('Forudsætninger og beregninger'!T18*1440,0)/1440,"") -> 0.057638889
A20: Din kombination | B20: =C9 -> 76 | C20: =C10 -> 215 | D20: =IF(AND(ISNUMBER(B20),ISNUMBER(C20),B20>0,C20>0),C20/B20,"") -> 2.8289474 | E20: =IF(AND(ISNUMBER(D20),ISNUMBER($C$7)),C20-$C$7,"") -> 15 | F20: =IF(AND(ISNUMBER(D20),ISNUMBER($C$6)),B20-$C$6,"") -> -4 | G20: =IF(AND(ISNUMBER(D20),ISNUMBER($C$11),$C$11>0,$C$11<=1),D20*$C$11,"") -> 2.8289474 | H20: =IF(ISNUMBER('Forudsætninger og beregninger'!T19),ROUND('Forudsætninger og beregninger'!T19*1440,0)/1440,"") -> 0.055555556
A21: Vægtscenarier forudsætter, at FTP bevares. De er regneeksempler, ikke anbefalede vægttab.
A23: W/kg ved forskellige kombinationer af FTP og vægt
A24: Vægt / FTP | B24: =IF(ISNUMBER($C$7),$C$7+-20,"") -> 180 | C24: =IF(ISNUMBER($C$7),$C$7+-10,"") -> 190 | D24: =IF(ISNUMBER($C$7),$C$7+0,"") -> 200 | E24: =IF(ISNUMBER($C$7),$C$7+10,"") -> 210 | F24: =IF(ISNUMBER($C$7),$C$7+20,"") -> 220 | G24: =IF(ISNUMBER($C$7),$C$7+30,"") -> 230 | H24: =IF(ISNUMBER($C$7),$C$7+40,"") -> 240 | I24: =IF(ISNUMBER($C$7),$C$7+50,"") -> 250 | J24: =IF(ISNUMBER($C$7),$C$7+60,"") -> 260
A25: =IF(ISNUMBER($C$6),$C$6+4,"") -> 84 | B25: =IF(AND(ISNUMBER($A25),ISNUMBER(B$24),$A25>0,B$24>0),B$24/$A25,"") -> 2.1428571 | C25: =IF(AND(ISNUMBER($A25),ISNUMBER(C$24),$A25>0,C$24>0),C$24/$A25,"") -> 2.2619048 | D25: =IF(AND(ISNUMBER($A25),ISNUMBER(D$24),$A25>0,D$24>0),D$24/$A25,"") -> 2.3809524 | E25: =IF(AND(ISNUMBER($A25),ISNUMBER(E$24),$A25>0,E$24>0),E$24/$A25,"") -> 2.5 | F25: =IF(AND(ISNUMBER($A25),ISNUMBER(F$24),$A25>0,F$24>0),F$24/$A25,"") -> 2.6190476 | G25: =IF(AND(ISNUMBER($A25),ISNUMBER(G$24),$A25>0,G$24>0),G$24/$A25,"") -> 2.7380952 | H25: =IF(AND(ISNUMBER($A25),ISNUMBER(H$24),$A25>0,H$24>0),H$24/$A25,"") -> 2.8571429 | I25: =IF(AND(ISNUMBER($A25),ISNUMBER(I$24),$A25>0,I$24>0),I$24/$A25,"") -> 2.9761905 | J25: =IF(AND(ISNUMBER($A25),ISNUMBER(J$24),$A25>0,J$24>0),J$24/$A25,"") -> 3.0952381
A26: =IF(ISNUMBER($C$6),$C$6+3,"") -> 83 | B26: =IF(AND(ISNUMBER($A26),ISNUMBER(B$24),$A26>0,B$24>0),B$24/$A26,"") -> 2.1686747 | C26: =IF(AND(ISNUMBER($A26),ISNUMBER(C$24),$A26>0,C$24>0),C$24/$A26,"") -> 2.2891566 | D26: =IF(AND(ISNUMBER($A26),ISNUMBER(D$24),$A26>0,D$24>0),D$24/$A26,"") -> 2.4096386 | E26: =IF(AND(ISNUMBER($A26),ISNUMBER(E$24),$A26>0,E$24>0),E$24/$A26,"") -> 2.5301205 | F26: =IF(AND(ISNUMBER($A26),ISNUMBER(F$24),$A26>0,F$24>0),F$24/$A26,"") -> 2.6506024 | G26: =IF(AND(ISNUMBER($A26),ISNUMBER(G$24),$A26>0,G$24>0),G$24/$A26,"") -> 2.7710843 | H26: =IF(AND(ISNUMBER($A26),ISNUMBER(H$24),$A26>0,H$24>0),H$24/$A26,"") -> 2.8915663 | I26: =IF(AND(ISNUMBER($A26),ISNUMBER(I$24),$A26>0,I$24>0),I$24/$A26,"") -> 3.0120482 | J26: =IF(AND(ISNUMBER($A26),ISNUMBER(J$24),$A26>0,J$24>0),J$24/$A26,"") -> 3.1325301
A27: =IF(ISNUMBER($C$6),$C$6+2,"") -> 82 | B27: =IF(AND(ISNUMBER($A27),ISNUMBER(B$24),$A27>0,B$24>0),B$24/$A27,"") -> 2.195122 | C27: =IF(AND(ISNUMBER($A27),ISNUMBER(C$24),$A27>0,C$24>0),C$24/$A27,"") -> 2.3170732 | D27: =IF(AND(ISNUMBER($A27),ISNUMBER(D$24),$A27>0,D$24>0),D$24/$A27,"") -> 2.4390244 | E27: =IF(AND(ISNUMBER($A27),ISNUMBER(E$24),$A27>0,E$24>0),E$24/$A27,"") -> 2.5609756 | F27: =IF(AND(ISNUMBER($A27),ISNUMBER(F$24),$A27>0,F$24>0),F$24/$A27,"") -> 2.6829268 | G27: =IF(AND(ISNUMBER($A27),ISNUMBER(G$24),$A27>0,G$24>0),G$24/$A27,"") -> 2.804878 | H27: =IF(AND(ISNUMBER($A27),ISNUMBER(H$24),$A27>0,H$24>0),H$24/$A27,"") -> 2.9268293 | I27: =IF(AND(ISNUMBER($A27),ISNUMBER(I$24),$A27>0,I$24>0),I$24/$A27,"") -> 3.0487805 | J27: =IF(AND(ISNUMBER($A27),ISNUMBER(J$24),$A27>0,J$24>0),J$24/$A27,"") -> 3.1707317
A28: =IF(ISNUMBER($C$6),$C$6+1,"") -> 81 | B28: =IF(AND(ISNUMBER($A28),ISNUMBER(B$24),$A28>0,B$24>0),B$24/$A28,"") -> 2.2222222 | C28: =IF(AND(ISNUMBER($A28),ISNUMBER(C$24),$A28>0,C$24>0),C$24/$A28,"") -> 2.345679 | D28: =IF(AND(ISNUMBER($A28),ISNUMBER(D$24),$A28>0,D$24>0),D$24/$A28,"") -> 2.4691358 | E28: =IF(AND(ISNUMBER($A28),ISNUMBER(E$24),$A28>0,E$24>0),E$24/$A28,"") -> 2.5925926 | F28: =IF(AND(ISNUMBER($A28),ISNUMBER(F$24),$A28>0,F$24>0),F$24/$A28,"") -> 2.7160494 | G28: =IF(AND(ISNUMBER($A28),ISNUMBER(G$24),$A28>0,G$24>0),G$24/$A28,"") -> 2.8395062 | H28: =IF(AND(ISNUMBER($A28),ISNUMBER(H$24),$A28>0,H$24>0),H$24/$A28,"") -> 2.962963 | I28: =IF(AND(ISNUMBER($A28),ISNUMBER(I$24),$A28>0,I$24>0),I$24/$A28,"") -> 3.0864198 | J28: =IF(AND(ISNUMBER($A28),ISNUMBER(J$24),$A28>0,J$24>0),J$24/$A28,"") -> 3.2098765
A29: =IF(ISNUMBER($C$6),$C$6+0,"") -> 80 | B29: =IF(AND(ISNUMBER($A29),ISNUMBER(B$24),$A29>0,B$24>0),B$24/$A29,"") -> 2.25 | C29: =IF(AND(ISNUMBER($A29),ISNUMBER(C$24),$A29>0,C$24>0),C$24/$A29,"") -> 2.375 | D29: =IF(AND(ISNUMBER($A29),ISNUMBER(D$24),$A29>0,D$24>0),D$24/$A29,"") -> 2.5 | E29: =IF(AND(ISNUMBER($A29),ISNUMBER(E$24),$A29>0,E$24>0),E$24/$A29,"") -> 2.625 | F29: =IF(AND(ISNUMBER($A29),ISNUMBER(F$24),$A29>0,F$24>0),F$24/$A29,"") -> 2.75 | G29: =IF(AND(ISNUMBER($A29),ISNUMBER(G$24),$A29>0,G$24>0),G$24/$A29,"") -> 2.875 | H29: =IF(AND(ISNUMBER($A29),ISNUMBER(H$24),$A29>0,H$24>0),H$24/$A29,"") -> 3 | I29: =IF(AND(ISNUMBER($A29),ISNUMBER(I$24),$A29>0,I$24>0),I$24/$A29,"") -> 3.125 | J29: =IF(AND(ISNUMBER($A29),ISNUMBER(J$24),$A29>0,J$24>0),J$24/$A29,"") -> 3.25
A30: =IF(ISNUMBER($C$6),$C$6+-1,"") -> 79 | B30: =IF(AND(ISNUMBER($A30),ISNUMBER(B$24),$A30>0,B$24>0),B$24/$A30,"") -> 2.278481 | C30: =IF(AND(ISNUMBER($A30),ISNUMBER(C$24),$A30>0,C$24>0),C$24/$A30,"") -> 2.4050633 | D30: =IF(AND(ISNUMBER($A30),ISNUMBER(D$24),$A30>0,D$24>0),D$24/$A30,"") -> 2.5316456 | E30: =IF(AND(ISNUMBER($A30),ISNUMBER(E$24),$A30>0,E$24>0),E$24/$A30,"") -> 2.6582278 | F30: =IF(AND(ISNUMBER($A30),ISNUMBER(F$24),$A30>0,F$24>0),F$24/$A30,"") -> 2.7848101 | G30: =IF(AND(ISNUMBER($A30),ISNUMBER(G$24),$A30>0,G$24>0),G$24/$A30,"") -> 2.9113924 | H30: =IF(AND(ISNUMBER($A30),ISNUMBER(H$24),$A30>0,H$24>0),H$24/$A30,"") -> 3.0379747 | I30: =IF(AND(ISNUMBER($A30),ISNUMBER(I$24),$A30>0,I$24>0),I$24/$A30,"") -> 3.164557 | J30: =IF(AND(ISNUMBER($A30),ISNUMBER(J$24),$A30>0,J$24>0),J$24/$A30,"") -> 3.2911392
A31: =IF(ISNUMBER($C$6),$C$6+-2,"") -> 78 | B31: =IF(AND(ISNUMBER($A31),ISNUMBER(B$24),$A31>0,B$24>0),B$24/$A31,"") -> 2.3076923 | C31: =IF(AND(ISNUMBER($A31),ISNUMBER(C$24),$A31>0,C$24>0),C$24/$A31,"") -> 2.4358974 | D31: =IF(AND(ISNUMBER($A31),ISNUMBER(D$24),$A31>0,D$24>0),D$24/$A31,"") -> 2.5641026 | E31: =IF(AND(ISNUMBER($A31),ISNUMBER(E$24),$A31>0,E$24>0),E$24/$A31,"") -> 2.6923077 | F31: =IF(AND(ISNUMBER($A31),ISNUMBER(F$24),$A31>0,F$24>0),F$24/$A31,"") -> 2.8205128 | G31: =IF(AND(ISNUMBER($A31),ISNUMBER(G$24),$A31>0,G$24>0),G$24/$A31,"") -> 2.9487179 | H31: =IF(AND(ISNUMBER($A31),ISNUMBER(H$24),$A31>0,H$24>0),H$24/$A31,"") -> 3.0769231 | I31: =IF(AND(ISNUMBER($A31),ISNUMBER(I$24),$A31>0,I$24>0),I$24/$A31,"") -> 3.2051282 | J31: =IF(AND(ISNUMBER($A31),ISNUMBER(J$24),$A31>0,J$24>0),J$24/$A31,"") -> 3.3333333
A32: =IF(ISNUMBER($C$6),$C$6+-3,"") -> 77 | B32: =IF(AND(ISNUMBER($A32),ISNUMBER(B$24),$A32>0,B$24>0),B$24/$A32,"") -> 2.3376623 | C32: =IF(AND(ISNUMBER($A32),ISNUMBER(C$24),$A32>0,C$24>0),C$24/$A32,"") -> 2.4675325 | D32: =IF(AND(ISNUMBER($A32),ISNUMBER(D$24),$A32>0,D$24>0),D$24/$A32,"") -> 2.5974026 | E32: =IF(AND(ISNUMBER($A32),ISNUMBER(E$24),$A32>0,E$24>0),E$24/$A32,"") -> 2.7272727 | F32: =IF(AND(ISNUMBER($A32),ISNUMBER(F$24),$A32>0,F$24>0),F$24/$A32,"") -> 2.8571429 | G32: =IF(AND(ISNUMBER($A32),ISNUMBER(G$24),$A32>0,G$24>0),G$24/$A32,"") -> 2.987013 | H32: =IF(AND(ISNUMBER($A32),ISNUMBER(H$24),$A32>0,H$24>0),H$24/$A32,"") -> 3.1168831 | I32: =IF(AND(ISNUMBER($A32),ISNUMBER(I$24),$A32>0,I$24>0),I$24/$A32,"") -> 3.2467532 | J32: =IF(AND(ISNUMBER($A32),ISNUMBER(J$24),$A32>0,J$24>0),J$24/$A32,"") -> 3.3766234
A33: =IF(ISNUMBER($C$6),$C$6+-4,"") -> 76 | B33: =IF(AND(ISNUMBER($A33),ISNUMBER(B$24),$A33>0,B$24>0),B$24/$A33,"") -> 2.3684211 | C33: =IF(AND(ISNUMBER($A33),ISNUMBER(C$24),$A33>0,C$24>0),C$24/$A33,"") -> 2.5 | D33: =IF(AND(ISNUMBER($A33),ISNUMBER(D$24),$A33>0,D$24>0),D$24/$A33,"") -> 2.6315789 | E33: =IF(AND(ISNUMBER($A33),ISNUMBER(E$24),$A33>0,E$24>0),E$24/$A33,"") -> 2.7631579 | F33: =IF(AND(ISNUMBER($A33),ISNUMBER(F$24),$A33>0,F$24>0),F$24/$A33,"") -> 2.8947368 | G33: =IF(AND(ISNUMBER($A33),ISNUMBER(G$24),$A33>0,G$24>0),G$24/$A33,"") -> 3.0263158 | H33: =IF(AND(ISNUMBER($A33),ISNUMBER(H$24),$A33>0,H$24>0),H$24/$A33,"") -> 3.1578947 | I33: =IF(AND(ISNUMBER($A33),ISNUMBER(I$24),$A33>0,I$24>0),I$24/$A33,"") -> 3.2894737 | J33: =IF(AND(ISNUMBER($A33),ISNUMBER(J$24),$A33>0,J$24>0),J$24/$A33,"") -> 3.4210526
A35: Grøn: Mindst dit W/kg-mål. Orange ramme: din nuværende kombination.
A36: Referencetabellen bevarer alle otte kategorinavne og alle niveauer fra w/kg. billedet - Se forudsætningsarket
A37: Kategoriernes overlappende parenteser bruges ikke som entydige grænser.

Sheet Scenario med tid på Alpe d'Huez
A1: Hvad betyder watt og vægt for din tid til toppen af f.eks. Alpe d’Huez?
A3: Modelantagelser for 13,8 km og 1.120 højdemeter. Beregningen benytter dine rytterdata og tal fra arket 'Forudsætninger og beregninger''.
A4: Tiderne vises som timer:minutter. Der antages ingen vind eller pauser undervejs. Disse forudsætninger er fælles for alle scenarier.
A6: Scenarie | B6: Vægt kg | C6: FTP W | D6: FTP/kg | E6: Effekt W | F6: Stigning W/kg | G6: Tid h:mm | H6: Sparet min.
A7: ='Forudsætninger og beregninger'!A16 -> Nuværende | B7: =IF(ISNUMBER('Forudsætninger og beregninger'!B16),'Forudsætninger og beregninger'!B16,"") -> 80 | C7: =IF(ISNUMBER('Forudsætninger og beregninger'!C16),'Forudsætninger og beregninger'!C16,"") -> 200 | D7: ='Ekstra - Udfyld din profil'!D17 -> 2.5 | E7: =IF(ISNUMBER('Forudsætninger og beregninger'!E16),'Forudsætninger og beregninger'!E16,"") -> 200 | F7: =IF(ISNUMBER('Forudsætninger og beregninger'!F16),'Forudsætninger og beregninger'!F16,"") -> 2.5 | G7: =IF(ISNUMBER('Forudsætninger og beregninger'!T16),ROUND('Forudsætninger og beregninger'!T16*1440,0)/1440,"") -> 0.0625 | H7: =IF(AND(ISNUMBER('Forudsætninger og beregninger'!T$16),ISNUMBER('Forudsætninger og beregninger'!T16)),('Forudsætninger og beregninger'!T$16-'Forudsætninger og beregninger'!T16)*1440,"") -> 0
A8: ='Forudsætninger og beregninger'!A17 -> Mål via watt | B8: =IF(ISNUMBER('Forudsætninger og beregninger'!B17),'Forudsætninger og beregninger'!B17,"") -> 80 | C8: =IF(ISNUMBER('Forudsætninger og beregninger'!C17),'Forudsætninger og beregninger'!C17,"") -> 220 | D8: ='Ekstra - Udfyld din profil'!D18 -> 2.75 | E8: =IF(ISNUMBER('Forudsætninger og beregninger'!E17),'Forudsætninger og beregninger'!E17,"") -> 220 | F8: =IF(ISNUMBER('Forudsætninger og beregninger'!F17),'Forudsætninger og beregninger'!F17,"") -> 2.75 | G8: =IF(ISNUMBER('Forudsætninger og beregninger'!T17),ROUND('Forudsætninger og beregninger'!T17*1440,0)/1440,"") -> 0.056944444 | H8: =IF(AND(ISNUMBER('Forudsætninger og beregninger'!T$16),ISNUMBER('Forudsætninger og beregninger'!T17)),('Forudsætninger og beregninger'!T$16-'Forudsætninger og beregninger'!T17)*1440,"") -> 7.9356874
A9: ='Forudsætninger og beregninger'!A18 -> Mål via vægt | B9: =IF(ISNUMBER('Forudsætninger og beregninger'!B18),'Forudsætninger og beregninger'!B18,"") -> 72.727273 | C9: =IF(ISNUMBER('Forudsætninger og beregninger'!C18),'Forudsætninger og beregninger'!C18,"") -> 200 | D9: ='Ekstra - Udfyld din profil'!D19 -> 2.75 | E9: =IF(ISNUMBER('Forudsætninger og beregninger'!E18),'Forudsætninger og beregninger'!E18,"") -> 200 | F9: =IF(ISNUMBER('Forudsætninger og beregninger'!F18),'Forudsætninger og beregninger'!F18,"") -> 2.75 | G9: =IF(ISNUMBER('Forudsætninger og beregninger'!T18),ROUND('Forudsætninger og beregninger'!T18*1440,0)/1440,"") -> 0.057638889 | H9: =IF(AND(ISNUMBER('Forudsætninger og beregninger'!T$16),ISNUMBER('Forudsætninger og beregninger'!T18)),('Forudsætninger og beregninger'!T$16-'Forudsætninger og beregninger'!T18)*1440,"") -> 6.9350199
A10: ='Forudsætninger og beregninger'!A19 -> Din kombination | B10: =IF(ISNUMBER('Forudsætninger og beregninger'!B19),'Forudsætninger og beregninger'!B19,"") -> 76 | C10: =IF(ISNUMBER('Forudsætninger og beregninger'!C19),'Forudsætninger og beregninger'!C19,"") -> 215 | D10: ='Ekstra - Udfyld din profil'!D20 -> 2.8289474 | E10: =IF(ISNUMBER('Forudsætninger og beregninger'!E19),'Forudsætninger og beregninger'!E19,"") -> 215 | F10: =IF(ISNUMBER('Forudsætninger og beregninger'!F19),'Forudsætninger og beregninger'!F19,"") -> 2.8289474 | G10: =IF(ISNUMBER('Forudsætninger og beregninger'!T19),ROUND('Forudsætninger og beregninger'!T19*1440,0)/1440,"") -> 0.055555556 | H10: =IF(AND(ISNUMBER('Forudsætninger og beregninger'!T$16),ISNUMBER('Forudsætninger og beregninger'!T19)),('Forudsætninger og beregninger'!T$16-'Forudsætninger og beregninger'!T19)*1440,"") -> 9.6306699
A12: Den valgte andel af FTP er en antagelse. Holdbar effekt afhænger bl.a. af varighed, højde og træthed.
A13: En vægtreduktion giver kun den viste gevinst, hvis effekten kan bevares. Modellen giver ikke vægtråd.
A15: FTP-fremgang | B15: Nuværende vægt | C15: Scenarie vægt | D15: Nuværende tid
A16: 0 | B16: =IF(ISNUMBER('Forudsætninger og beregninger'!T20),ROUND('Forudsætninger og beregninger'!T20*1440,0)/1440,NA()) -> 0.0625 | C16: =IF(ISNUMBER('Forudsætninger og beregninger'!T21),ROUND('Forudsætninger og beregninger'!T21*1440,0)/1440,NA()) -> 0.059722222 | D16: =IF(ISNUMBER($G$7),$G$7,NA()) -> 0.0625
A17: 0.025 | B17: =IF(ISNUMBER('Forudsætninger og beregninger'!T22),ROUND('Forudsætninger og beregninger'!T22*1440,0)/1440,NA()) -> 0.061111111 | C17: =IF(ISNUMBER('Forudsætninger og beregninger'!T23),ROUND('Forudsætninger og beregninger'!T23*1440,0)/1440,NA()) -> 0.058333333 | D17: =IF(ISNUMBER($G$7),$G$7,NA()) -> 0.0625
A18: 0.05 | B18: =IF(ISNUMBER('Forudsætninger og beregninger'!T24),ROUND('Forudsætninger og beregninger'!T24*1440,0)/1440,NA()) -> 0.059722222 | C18: =IF(ISNUMBER('Forudsætninger og beregninger'!T25),ROUND('Forudsætninger og beregninger'!T25*1440,0)/1440,NA()) -> 0.056944444 | D18: =IF(ISNUMBER($G$7),$G$7,NA()) -> 0.0625
A19: 0.075 | B19: =IF(ISNUMBER('Forudsætninger og beregninger'!T26),ROUND('Forudsætninger og beregninger'!T26*1440,0)/1440,NA()) -> 0.058333333 | C19: =IF(ISNUMBER('Forudsætninger og beregninger'!T27),ROUND('Forudsætninger og beregninger'!T27*1440,0)/1440,NA()) -> 0.055555556 | D19: =IF(ISNUMBER($G$7),$G$7,NA()) -> 0.0625
A20: 0.1 | B20: =IF(ISNUMBER('Forudsætninger og beregninger'!T28),ROUND('Forudsætninger og beregninger'!T28*1440,0)/1440,NA()) -> 0.056944444 | C20: =IF(ISNUMBER('Forudsætninger og beregninger'!T29),ROUND('Forudsætninger og beregninger'!T29*1440,0)/1440,NA()) -> 0.054861111 | D20: =IF(ISNUMBER($G$7),$G$7,NA()) -> 0.0625
A21: 0.125 | B21: =IF(ISNUMBER('Forudsætninger og beregninger'!T30),ROUND('Forudsætninger og beregninger'!T30*1440,0)/1440,NA()) -> 0.055555556 | C21: =IF(ISNUMBER('Forudsætninger og beregninger'!T31),ROUND('Forudsætninger og beregninger'!T31*1440,0)/1440,NA()) -> 0.053472222 | D21: =IF(ISNUMBER($G$7),$G$7,NA()) -> 0.0625
A22: 0.15 | B22: =IF(ISNUMBER('Forudsætninger og beregninger'!T32),ROUND('Forudsætninger og beregninger'!T32*1440,0)/1440,NA()) -> 0.054861111 | C22: =IF(ISNUMBER('Forudsætninger og beregninger'!T33),ROUND('Forudsætninger og beregninger'!T33*1440,0)/1440,NA()) -> 0.052083333 | D22: =IF(ISNUMBER($G$7),$G$7,NA()) -> 0.0625
A23: 0.175 | B23: =IF(ISNUMBER('Forudsætninger og beregninger'!T34),ROUND('Forudsætninger og beregninger'!T34*1440,0)/1440,NA()) -> 0.053472222 | C23: =IF(ISNUMBER('Forudsætninger og beregninger'!T35),ROUND('Forudsætninger og beregninger'!T35*1440,0)/1440,NA()) -> 0.051388889 | D23: =IF(ISNUMBER($G$7),$G$7,NA()) -> 0.0625
A24: 0.2 | B24: =IF(ISNUMBER('Forudsætninger og beregninger'!T36),ROUND('Forudsætninger og beregninger'!T36*1440,0)/1440,NA()) -> 0.052083333 | C24: =IF(ISNUMBER('Forudsætninger og beregninger'!T37),ROUND('Forudsætninger og beregninger'!T37*1440,0)/1440,NA()) -> 0.05 | D24: =IF(ISNUMBER($G$7),$G$7,NA()) -> 0.0625
A25: Kurverne viser samme FTP-fremgang ved to vægte.
A26: Den grønne linje er din nuværende beregnede tid.
A28: Fra W/kg på stigningen til opstigningstid
A29: Tabellen bruger din nuværende vægt. W/kg er faktisk effekt på stigningen, ikke FTP/kg.
A30: Stigning w/kg | B30: Effekt (w) | C30: Krævet FTP (w) | D30: Tid h:mm | E30: Minutter
A31: 1.5 | B31: =IF(AND(ISNUMBER('Ekstra - Udfyld din profil'!$C$6),'Ekstra - Udfyld din profil'!$C$6>0),A31*'Ekstra - Udfyld din profil'!$C$6,"") -> 120 | C31: =IF(AND(ISNUMBER(B31),ISNUMBER('Ekstra - Udfyld din profil'!$C$11),'Ekstra - Udfyld din profil'!$C$11>0,'Ekstra - Udfyld din profil'!$C$11<=1),B31/'Ekstra - Udfyld din profil'!$C$11,"") -> 120 | D31: =IF(ISNUMBER(E31),ROUND(E31,0)/1440,"") -> 0.10347222 | E31: =IF(ISNUMBER('Forudsætninger og beregninger'!U38),'Forudsætninger og beregninger'!U38,"") -> 148.53009
A32: 1.75 | B32: =IF(AND(ISNUMBER('Ekstra - Udfyld din profil'!$C$6),'Ekstra - Udfyld din profil'!$C$6>0),A32*'Ekstra - Udfyld din profil'!$C$6,"") -> 140 | C32: =IF(AND(ISNUMBER(B32),ISNUMBER('Ekstra - Udfyld din profil'!$C$11),'Ekstra - Udfyld din profil'!$C$11>0,'Ekstra - Udfyld din profil'!$C$11<=1),B32/'Ekstra - Udfyld din profil'!$C$11,"") -> 140 | D32: =IF(ISNUMBER(E32),ROUND(E32,0)/1440,"") -> 0.088888889 | E32: =IF(ISNUMBER('Forudsætninger og beregninger'!U39),'Forudsætninger og beregninger'!U39,"") -> 127.55539
A33: 2 | B33: =IF(AND(ISNUMBER('Ekstra - Udfyld din profil'!$C$6),'Ekstra - Udfyld din profil'!$C$6>0),A33*'Ekstra - Udfyld din profil'!$C$6,"") -> 160 | C33: =IF(AND(ISNUMBER(B33),ISNUMBER('Ekstra - Udfyld din profil'!$C$11),'Ekstra - Udfyld din profil'!$C$11>0,'Ekstra - Udfyld din profil'!$C$11<=1),B33/'Ekstra - Udfyld din profil'!$C$11,"") -> 160 | D33: =IF(ISNUMBER(E33),ROUND(E33,0)/1440,"") -> 0.077777778 | E33: =IF(ISNUMBER('Forudsætninger og beregninger'!U40),'Forudsætninger og beregninger'!U40,"") -> 111.85521
A34: 2.25 | B34: =IF(AND(ISNUMBER('Ekstra - Udfyld din profil'!$C$6),'Ekstra - Udfyld din profil'!$C$6>0),A34*'Ekstra - Udfyld din profil'!$C$6,"") -> 180 | C34: =IF(AND(ISNUMBER(B34),ISNUMBER('Ekstra - Udfyld din profil'!$C$11),'Ekstra - Udfyld din profil'!$C$11>0,'Ekstra - Udfyld din profil'!$C$11<=1),B34/'Ekstra - Udfyld din profil'!$C$11,"") -> 180 | D34: =IF(ISNUMBER(E34),ROUND(E34,0)/1440,"") -> 0.069444444 | E34: =IF(ISNUMBER('Forudsætninger og beregninger'!U41),'Forudsætninger og beregninger'!U41,"") -> 99.670668
A35: 2.5 | B35: =IF(AND(ISNUMBER('Ekstra - Udfyld din profil'!$C$6),'Ekstra - Udfyld din profil'!$C$6>0),A35*'Ekstra - Udfyld din profil'!$C$6,"") -> 200 | C35: =IF(AND(ISNUMBER(B35),ISNUMBER('Ekstra - Udfyld din profil'!$C$11),'Ekstra - Udfyld din profil'!$C$11>0,'Ekstra - Udfyld din profil'!$C$11<=1),B35/'Ekstra - Udfyld din profil'!$C$11,"") -> 200 | D35: =IF(ISNUMBER(E35),ROUND(E35,0)/1440,"") -> 0.0625 | E35: =IF(ISNUMBER('Forudsætninger og beregninger'!U42),'Forudsætninger og beregninger'!U42,"") -> 89.946378
A36: 2.75 | B36: =IF(AND(ISNUMBER('Ekstra - Udfyld din profil'!$C$6),'Ekstra - Udfyld din profil'!$C$6>0),A36*'Ekstra - Udfyld din profil'!$C$6,"") -> 220 | C36: =IF(AND(ISNUMBER(B36),ISNUMBER('Ekstra - Udfyld din profil'!$C$11),'Ekstra - Udfyld din profil'!$C$11>0,'Ekstra - Udfyld din profil'!$C$11<=1),B36/'Ekstra - Udfyld din profil'!$C$11,"") -> 220 | D36: =IF(ISNUMBER(E36),ROUND(E36,0)/1440,"") -> 0.056944444 | E36: =IF(ISNUMBER('Forudsætninger og beregninger'!U43),'Forudsætninger og beregninger'!U43,"") -> 82.010691
A37: 3 | B37: =IF(AND(ISNUMBER('Ekstra - Udfyld din profil'!$C$6),'Ekstra - Udfyld din profil'!$C$6>0),A37*'Ekstra - Udfyld din profil'!$C$6,"") -> 240 | C37: =IF(AND(ISNUMBER(B37),ISNUMBER('Ekstra - Udfyld din profil'!$C$11),'Ekstra - Udfyld din profil'!$C$11>0,'Ekstra - Udfyld din profil'!$C$11<=1),B37/'Ekstra - Udfyld din profil'!$C$11,"") -> 240 | D37: =IF(ISNUMBER(E37),ROUND(E37,0)/1440,"") -> 0.052083333 | E37: =IF(ISNUMBER('Forudsætninger og beregninger'!U44),'Forudsætninger og beregninger'!U44,"") -> 75.415805
A38: 3.25 | B38: =IF(AND(ISNUMBER('Ekstra - Udfyld din profil'!$C$6),'Ekstra - Udfyld din profil'!$C$6>0),A38*'Ekstra - Udfyld din profil'!$C$6,"") -> 260 | C38: =IF(AND(ISNUMBER(B38),ISNUMBER('Ekstra - Udfyld din profil'!$C$11),'Ekstra - Udfyld din profil'!$C$11>0,'Ekstra - Udfyld din profil'!$C$11<=1),B38/'Ekstra - Udfyld din profil'!$C$11,"") -> 260 | D38: =IF(ISNUMBER(E38),ROUND(E38,0)/1440,"") -> 0.048611111 | E38: =IF(ISNUMBER('Forudsætninger og beregninger'!U45),'Forudsætninger og beregninger'!U45,"") -> 69.851682
A39: 3.5 | B39: =IF(AND(ISNUMBER('Ekstra - Udfyld din profil'!$C$6),'Ekstra - Udfyld din profil'!$C$6>0),A39*'Ekstra - Udfyld din profil'!$C$6,"") -> 280 | C39: =IF(AND(ISNUMBER(B39),ISNUMBER('Ekstra - Udfyld din profil'!$C$11),'Ekstra - Udfyld din profil'!$C$11>0,'Ekstra - Udfyld din profil'!$C$11<=1),B39/'Ekstra - Udfyld din profil'!$C$11,"") -> 280 | D39: =IF(ISNUMBER(E39),ROUND(E39,0)/1440,"") -> 0.045138889 | E39: =IF(ISNUMBER('Forudsætninger og beregninger'!U46),'Forudsætninger og beregninger'!U46,"") -> 65.096849
A40: 3.75 | B40: =IF(AND(ISNUMBER('Ekstra - Udfyld din profil'!$C$6),'Ekstra - Udfyld din profil'!$C$6>0),A40*'Ekstra - Udfyld din profil'!$C$6,"") -> 300 | C40: =IF(AND(ISNUMBER(B40),ISNUMBER('Ekstra - Udfyld din profil'!$C$11),'Ekstra - Udfyld din profil'!$C$11>0,'Ekstra - Udfyld din profil'!$C$11<=1),B40/'Ekstra - Udfyld din profil'!$C$11,"") -> 300 | D40: =IF(ISNUMBER(E40),ROUND(E40,0)/1440,"") -> 0.042361111 | E40: =IF(ISNUMBER('Forudsætninger og beregninger'!U47),'Forudsætninger og beregninger'!U47,"") -> 60.988881
A41: 4 | B41: =IF(AND(ISNUMBER('Ekstra - Udfyld din profil'!$C$6),'Ekstra - Udfyld din profil'!$C$6>0),A41*'Ekstra - Udfyld din profil'!$C$6,"") -> 320 | C41: =IF(AND(ISNUMBER(B41),ISNUMBER('Ekstra - Udfyld din profil'!$C$11),'Ekstra - Udfyld din profil'!$C$11>0,'Ekstra - Udfyld din profil'!$C$11<=1),B41/'Ekstra - Udfyld din profil'!$C$11,"") -> 320 | D41: =IF(ISNUMBER(E41),ROUND(E41,0)/1440,"") -> 0.039583333 | E41: =IF(ISNUMBER('Forudsætninger og beregninger'!U48),'Forudsætninger og beregninger'!U48,"") -> 57.405957
A42: 4.25 | B42: =IF(AND(ISNUMBER('Ekstra - Udfyld din profil'!$C$6),'Ekstra - Udfyld din profil'!$C$6>0),A42*'Ekstra - Udfyld din profil'!$C$6,"") -> 340 | C42: =IF(AND(ISNUMBER(B42),ISNUMBER('Ekstra - Udfyld din profil'!$C$11),'Ekstra - Udfyld din profil'!$C$11>0,'Ekstra - Udfyld din profil'!$C$11<=1),B42/'Ekstra - Udfyld din profil'!$C$11,"") -> 340 | D42: =IF(ISNUMBER(E42),ROUND(E42,0)/1440,"") -> 0.0375 | E42: =IF(ISNUMBER('Forudsætninger og beregninger'!U49),'Forudsætninger og beregninger'!U49,"") -> 54.254918
... A47: 5.5 | B47: =IF(AND(ISNUMBER('Ekstra - Udfyld din profil'!$C$6),'Ekstra - Udfyld din profil'!$C$6>0),A47*'Ekstra - Udfyld din profil'!$C$6,"") -> 440 | C47: =IF(AND(ISNUMBER(B47),ISNUMBER('Ekstra - Udfyld din profil'!$C$11),'Ekstra - Udfyld din profil'!$C$11>0,'Ekstra - Udfyld din profil'!$C$11<=1),B47/'Ekstra - Udfyld din profil'!$C$11,"") -> 440 | D47: =IF(ISNUMBER(E47),ROUND(E47,0)/1440,"") -> 0.029861111 | E47: =IF(ISNUMBER('Forudsætninger og beregninger'!U54),'Forudsætninger og beregninger'!U54,"") -> 42.903354
A50: Samme w/kg giver ikke præcis samme tid for alle: Cykelvægt og luftmodstand indgår også. Kurverne er beregnede sammenhænge.

Sheet Forudsætninger og beregninger
A1: Forudsætninger og beregningsmodel
A2: (UNDGÅ AF ÆNDRE ELLER SLETTE NEDENSTÅENDE BEREGNINGER - DE ER GRUNDLAG FOR MODELLEN OG HENVISNINGERNE)
A3: Længde km | B3: 13.8 | D3: Rute: Alpe d’Huez Tourisme, The 21 bends, nøgledata. Længde og højdemeter kan ændres.
A4: Højdemeter m | B4: 1120 | D4: https://www.alpedhuez.com/en/activities/summer-activities/bike/the-21-bends/
A5: Cykel og udstyr kg | B5: ='Ekstra - Udfyld din profil'!C12 -> 10
A6: Rullemodstand Crr | B6: 0.004 | D6: Crr, CdA, lufttæthed og virkningsgrad er illustrerende modelantagelser, ikke målte rytterdata.
A7: Luftmodstandsareal CdA | B7: 0.32 | D7: Stilstandsfri kørsel, vindstille og konstant effekt på en stigning med gennemsnitlig hældning.
A8: Lufttæthed kg/m³ | B8: 1.06 | D8: Modellen medtager tyngde, rulning, luftmodstand og drivlinjetab; ikke sving, acceleration eller pauser.
A9: Drivlinjens virkningsgrad | B9: 0.975 | D9: Fysisk grundlag: Martin m.fl. (1998). Forenklet model; ingen selvstændig validering på Alpe d’Huez.
A10: Tyngdeacceleration | B10: 9.80665 | D10: https://collections.lib.utah.edu/dl_files/b4/8e/b48ef26086091662c561e673d7bd990d77868437.pdf
A11: Andel af FTP | B11: ='Ekstra - Udfyld din profil'!C11 -> 1 | D11: Form: P ved hjulet = F·v + k·v³. Hastigheden løses i otte faste trin uden cirkulære formler.
A14: (UNDGÅ AF ÆNDRE ELLER SLETTE NEDENSTÅENDE BEREGNINGER - DE ER GRUNDLAG FOR MODELLEN OG HENVISNINGERNE)
A15: Scenarie | B15: Rytter kg | C15: FTP W | D15: FTP-andel | E15: Effekt W | F15: Effekt W/kg | G15: Total kg | H15: Kraft N | I15: Luftfaktor | J15: Hjuleffekt | K15: Start m/s | L15: Trin 1 | M15: Trin 2 | N15: Trin 3 | O15: Trin 4 | P15: Trin 5 | Q15: Trin 6 | R15: Trin 7 | S15: Trin 8 m/s | T15: Tid døgn | U15: Tid minutter
